BEGIN:VCALENDAR
VERSION:2.0
PRODID:-//Rockford University - ECPv6.15.19//NONSGML v1.0//EN
CALSCALE:GREGORIAN
METHOD:PUBLISH
X-ORIGINAL-URL:https://www.rockford.edu
X-WR-CALDESC:Events for Rockford University
REFRESH-INTERVAL;VALUE=DURATION:PT1H
X-Robots-Tag:noindex
X-PUBLISHED-TTL:PT1H
BEGIN:VTIMEZONE
TZID:America/Chicago
BEGIN:DAYLIGHT
TZOFFSETFROM:-0600
TZOFFSETTO:-0500
TZNAME:CDT
DTSTART:20160313T080000
END:DAYLIGHT
BEGIN:STANDARD
TZOFFSETFROM:-0500
TZOFFSETTO:-0600
TZNAME:CST
DTSTART:20161106T070000
END:STANDARD
BEGIN:DAYLIGHT
TZOFFSETFROM:-0600
TZOFFSETTO:-0500
TZNAME:CDT
DTSTART:20170312T080000
END:DAYLIGHT
BEGIN:STANDARD
TZOFFSETFROM:-0500
TZOFFSETTO:-0600
TZNAME:CST
DTSTART:20171105T070000
END:STANDARD
BEGIN:DAYLIGHT
TZOFFSETFROM:-0600
TZOFFSETTO:-0500
TZNAME:CDT
DTSTART:20180311T080000
END:DAYLIGHT
BEGIN:STANDARD
TZOFFSETFROM:-0500
TZOFFSETTO:-0600
TZNAME:CST
DTSTART:20181104T070000
END:STANDARD
END:VTIMEZONE
BEGIN:VEVENT
DTSTART;TZID=America/Chicago:20170607T180000
DTEND;TZID=America/Chicago:20170607T200000
DTSTAMP:20260420T131528
CREATED:20170517T161816Z
LAST-MODIFIED:20170523T212442Z
UID:10007036-1496858400-1496865600@www.rockford.edu
SUMMARY:Young Alumni Gathering
DESCRIPTION:Join us for a gathering of alumni and friends! Enjoy a night of fun with fellow alumni and Dr. Fulcomer\, as he shares exciting progress and plans for the university. We’d love to see you there! \nCall 815-394-5111 or email Alumni@rockford.edu for more information or to RSVP!
URL:https://www.rockford.edu/calendar-item/young-alumni-gathering/
LOCATION:Owly Oop Sports Pub\, 305 South Madison Street\, Rockford\, IL\, 61104\, United States
CATEGORIES:Alumni,Campus Wide Event (Public)
GEO:42.266771;-89.092668
X-APPLE-STRUCTURED-LOCATION;VALUE=URI;X-ADDRESS=Owly Oop Sports Pub 305 South Madison Street Rockford IL 61104 United States;X-APPLE-RADIUS=500;X-TITLE=305 South Madison Street:geo:-89.092668,42.266771
END:VEVENT
END:VCALENDAR