BEGIN:VCALENDAR
VERSION:2.0
PRODID:-//Rockford University - ECPv6.15.20//NONSGML v1.0//EN
CALSCALE:GREGORIAN
METHOD:PUBLISH
X-ORIGINAL-URL:https://www.rockford.edu
X-WR-CALDESC:Events for Rockford University
REFRESH-INTERVAL;VALUE=DURATION:PT1H
X-Robots-Tag:noindex
X-PUBLISHED-TTL:PT1H
BEGIN:VTIMEZONE
TZID:America/Chicago
BEGIN:DAYLIGHT
TZOFFSETFROM:-0600
TZOFFSETTO:-0500
TZNAME:CDT
DTSTART:20170312T080000
END:DAYLIGHT
BEGIN:STANDARD
TZOFFSETFROM:-0500
TZOFFSETTO:-0600
TZNAME:CST
DTSTART:20171105T070000
END:STANDARD
BEGIN:DAYLIGHT
TZOFFSETFROM:-0600
TZOFFSETTO:-0500
TZNAME:CDT
DTSTART:20180311T080000
END:DAYLIGHT
BEGIN:STANDARD
TZOFFSETFROM:-0500
TZOFFSETTO:-0600
TZNAME:CST
DTSTART:20181104T070000
END:STANDARD
BEGIN:DAYLIGHT
TZOFFSETFROM:-0600
TZOFFSETTO:-0500
TZNAME:CDT
DTSTART:20190310T080000
END:DAYLIGHT
BEGIN:STANDARD
TZOFFSETFROM:-0500
TZOFFSETTO:-0600
TZNAME:CST
DTSTART:20191103T070000
END:STANDARD
BEGIN:DAYLIGHT
TZOFFSETFROM:-0600
TZOFFSETTO:-0500
TZNAME:CDT
DTSTART:20200308T080000
END:DAYLIGHT
BEGIN:STANDARD
TZOFFSETFROM:-0500
TZOFFSETTO:-0600
TZNAME:CST
DTSTART:20201101T070000
END:STANDARD
BEGIN:DAYLIGHT
TZOFFSETFROM:-0600
TZOFFSETTO:-0500
TZNAME:CDT
DTSTART:20210314T080000
END:DAYLIGHT
BEGIN:STANDARD
TZOFFSETFROM:-0500
TZOFFSETTO:-0600
TZNAME:CST
DTSTART:20211107T070000
END:STANDARD
END:VTIMEZONE
BEGIN:VEVENT
DTSTART;TZID=America/Chicago:20200815T080000
DTEND;TZID=America/Chicago:20200817T210000
DTSTAMP:20260423T082553
CREATED:20200709T213242Z
LAST-MODIFIED:20200709T213242Z
UID:10007938-1597478400-1597698000@www.rockford.edu
SUMMARY:Freshman Orientation 2020
DESCRIPTION:Welcome\, Regent\, to the exciting start of your Regent Experience! With Freshman Orientation taking place on-campus Saturday\, August 15 – August 17 \, we couldn’t be more excited. Freshman Orientation is packed with team-building activities\, discussions lead by student leaders and faculty\, fun surprises\, and more! At the end of Orientation\, first-year students will have made new friends\, become invested in their First Year Seminar groups\, and begun to build a cohesive class of Regents. \nMark your calendars for Orientation and register today!
URL:https://www.rockford.edu/calendar-item/freshman-orientation-2020/
LOCATION:Rockford University\, 5050 E. State St. \, Rockford\, IL\, 61108\, United States
ORGANIZER;CN="Student Involvement and Orientation":MAILTO:apjohnson@rockford.edu
GEO:42.2640342;-89.0197305
X-APPLE-STRUCTURED-LOCATION;VALUE=URI;X-ADDRESS=Rockford University 5050 E. State St.  Rockford IL 61108 United States;X-APPLE-RADIUS=500;X-TITLE=5050 E. State St.:geo:-89.0197305,42.2640342
END:VEVENT
BEGIN:VEVENT
DTSTART;TZID=America/Chicago:20200814T174500
DTEND;TZID=America/Chicago:20200814T194500
DTSTAMP:20260423T082553
CREATED:20200709T213937Z
LAST-MODIFIED:20200709T213937Z
UID:10007486-1597427100-1597434300@www.rockford.edu
SUMMARY:Transfer Orientation 2020 - Session 2
DESCRIPTION:Congratulations on your admission to Rockford University! No matter where you are coming from\, Transfer Orientation will get you ready for your Regent Experience at Rockford University. Transfer Orientation streamlines the orientation process into a mandatory\, over-dinner program in order to introduce you to the University community and the opportunities available to you. During orientation\, you will meet other new transfer students\, hear from campus partners and University leaders\, and learn what it means to be a part of the Rockford University community. \nRegistration for the Fall 2020 Transfer Orientation is now open! Dinner will be provided at both sessions. \nFriday\, August 14\, 2020  \nSession 2: \n\nCheck-In: 5:45 pm\nProgram Length: 6:00 – 7:45 pm
URL:https://www.rockford.edu/calendar-item/transfer-orientation-2020-session-2/
LOCATION:Rockford University\, 5050 E. State St. \, Rockford\, IL\, 61108\, United States
ORGANIZER;CN="Student Involvement and Orientation":MAILTO:apjohnson@rockford.edu
GEO:42.2640342;-89.0197305
X-APPLE-STRUCTURED-LOCATION;VALUE=URI;X-ADDRESS=Rockford University 5050 E. State St.  Rockford IL 61108 United States;X-APPLE-RADIUS=500;X-TITLE=5050 E. State St.:geo:-89.0197305,42.2640342
END:VEVENT
BEGIN:VEVENT
DTSTART;TZID=America/Chicago:20200814T154500
DTEND;TZID=America/Chicago:20200814T174500
DTSTAMP:20260423T082553
CREATED:20200709T213520Z
LAST-MODIFIED:20200709T213543Z
UID:10007485-1597419900-1597427100@www.rockford.edu
SUMMARY:Transfer Orientation 2020 - Session 1
DESCRIPTION:Congratulations on your admission to Rockford University! No matter where you are coming from\, Transfer Orientation will get you ready for your Regent Experience at Rockford University. Transfer Orientation streamlines the orientation process into a mandatory\, over-dinner program in order to introduce you to the University community and the opportunities available to you. During orientation\, you will meet other new transfer students\, hear from campus partners and University leaders\, and learn what it means to be a part of the Rockford University community. \nRegistration for the Fall 2020 Transfer Orientation is now open! Dinner will be provided at both sessions. \nFriday\, August 14\, 2020  \nSession 1: \n\nCheck-In: 3:45 pm\nProgram Length: 4:00-5:45 pm
URL:https://www.rockford.edu/calendar-item/transfer-orientation-2020-session-1/
LOCATION:Rockford University\, 5050 E. State St. \, Rockford\, IL\, 61108\, United States
ORGANIZER;CN="Student Involvement and Orientation":MAILTO:apjohnson@rockford.edu
GEO:42.2640342;-89.0197305
X-APPLE-STRUCTURED-LOCATION;VALUE=URI;X-ADDRESS=Rockford University 5050 E. State St.  Rockford IL 61108 United States;X-APPLE-RADIUS=500;X-TITLE=5050 E. State St.:geo:-89.0197305,42.2640342
END:VEVENT
BEGIN:VEVENT
DTSTART;TZID=America/Chicago:20190904T130000
DTEND;TZID=America/Chicago:20190904T150000
DTSTAMP:20260423T082553
CREATED:20190828T213020Z
LAST-MODIFIED:20190828T213020Z
UID:10007831-1567602000-1567609200@www.rockford.edu
SUMMARY:Paint the Commons
DESCRIPTION:Come out for the Commuter Council’s very first event of the year; Paint the Commons! Upon your arrival you will receive a canvas\, paint supplies\, and delicious afternoon snacks. You can choose to paint your own design or use a stencil! Later in the day is the second forum so come out and kill some time. The weather is looking beautiful as well. This event is open to commuters and residential students.
URL:https://www.rockford.edu/calendar-item/paint-the-commons/
LOCATION:Burpee Commons
CATEGORIES:Campus Wide Event (Public),Student Activities
ORGANIZER;CN="Student Involvement and Orientation":MAILTO:apjohnson@rockford.edu
END:VEVENT
BEGIN:VEVENT
DTSTART;TZID=America/Chicago:20190828T120000
DTEND;TZID=America/Chicago:20190828T140000
DTSTAMP:20260423T082553
CREATED:20190823T135734Z
LAST-MODIFIED:20190823T135734Z
UID:10007828-1566993600-1567000800@www.rockford.edu
SUMMARY:Activities Fair
DESCRIPTION:Come learn about all the clubs and organizations that Rockford University has to offer on Wednesday\, August 28 from 12-2 pm outside the library.
URL:https://www.rockford.edu/calendar-item/activities-fair/
LOCATION:Howard Colman Library\, 5050 E. State St. \, Rockford\, IL\, 61108\, United States
CATEGORIES:Campus Wide Event (Public),Clubs & Orgs,Student Activities,Student Government
ORGANIZER;CN="Student Involvement and Orientation":MAILTO:apjohnson@rockford.edu
GEO:42.2640342;-89.0197305
X-APPLE-STRUCTURED-LOCATION;VALUE=URI;X-ADDRESS=Howard Colman Library 5050 E. State St.  Rockford IL 61108 United States;X-APPLE-RADIUS=500;X-TITLE=5050 E. State St.:geo:-89.0197305,42.2640342
END:VEVENT
BEGIN:VEVENT
DTSTART;TZID=America/Chicago:20190123T150000
DTEND;TZID=America/Chicago:20190123T160000
DTSTAMP:20260423T082553
CREATED:20190108T145303Z
LAST-MODIFIED:20190115T164843Z
UID:10007762-1548255600-1548259200@www.rockford.edu
SUMMARY:Kent Center Open House
DESCRIPTION:On Wednesday\, January 23 we will officially be opening the renovated Kent Center! \nPlease Join us for tours and snacks!
URL:https://www.rockford.edu/calendar-item/kent-center-open-house/
LOCATION:Kent Center\, 5050 E. State St. \, Rockford\, IL\, 61108\, United States
CATEGORIES:Campus Wide Event (Public),Open House
ATTACH;FMTTYPE=image/jpeg:https://www.rockford.edu/wp-content/uploads/2018/04/Generic-1.jpg
ORGANIZER;CN="Student Involvement and Orientation":MAILTO:apjohnson@rockford.edu
GEO:42.2640342;-89.0197305
X-APPLE-STRUCTURED-LOCATION;VALUE=URI;X-ADDRESS=Kent Center 5050 E. State St.  Rockford IL 61108 United States;X-APPLE-RADIUS=500;X-TITLE=5050 E. State St.:geo:-89.0197305,42.2640342
END:VEVENT
BEGIN:VEVENT
DTSTART;TZID=America/Chicago:20190117T180000
DTEND;TZID=America/Chicago:20190117T200000
DTSTAMP:20260423T082553
CREATED:20190104T145549Z
LAST-MODIFIED:20190104T145549Z
UID:10007280-1547748000-1547755200@www.rockford.edu
SUMMARY:Winter Orientation
DESCRIPTION:Mark your calendars to attend the 2019 Winter Orientation! \nWinter Orientation: January 17\, 2019\, 6-8 p.m. \nAttendance is required of all New Students (First-Years and Transfers.) \nWelcome\, Regent\, to the exciting start of your Regent Experience! Throughout Winter Orientation\, you will learn about valuable resources on campus and beyond\, interact with a variety of student leaders\, and participate in unique social experiences to make lasting connections with your classmates. Welcome Week is required for all incoming students. \nMark your calendars for Winter Orientation January 17\, 2018 from 6-8 p.m. Winter Orientation is a fun and exciting orientation presented over dinner that will get you #RegentReady for your Rockford University experience! More details to come. Stay tuned! \nIf you have questions regarding Winter Orientation\, please contact Alex Johnson\, Director of Student Involvement and Orientation\, at apjohnson@rockford.edu or 815.394.5035.
URL:https://www.rockford.edu/calendar-item/winter-orientation/
LOCATION:Rockford University\, 5050 E. State St. \, Rockford\, IL\, 61108\, United States
CATEGORIES:Student Activities
ORGANIZER;CN="Student Involvement and Orientation":MAILTO:apjohnson@rockford.edu
GEO:42.2640342;-89.0197305
X-APPLE-STRUCTURED-LOCATION;VALUE=URI;X-ADDRESS=Rockford University 5050 E. State St.  Rockford IL 61108 United States;X-APPLE-RADIUS=500;X-TITLE=5050 E. State St.:geo:-89.0197305,42.2640342
END:VEVENT
BEGIN:VEVENT
DTSTART;TZID=America/Chicago:20180917T113000
DTEND;TZID=America/Chicago:20180917T130000
DTSTAMP:20260423T082553
CREATED:20180913T201406Z
LAST-MODIFIED:20180913T203528Z
UID:10007694-1537183800-1537189200@www.rockford.edu
SUMMARY:Constitution Day 2018
DESCRIPTION:The Student Government Association will host a Constitution Day on September 17\, 2018. \nThe event will include free american flag pins\, free pocket constitutions\, trivia\, and red/white/blue cookies! \nThis event will take place outside the Burpee Dining Center.
URL:https://www.rockford.edu/calendar-item/constitution-day-2018/
LOCATION:Rockford University\, 5050 E. State St. \, Rockford\, IL\, 61108\, United States
CATEGORIES:Campus Wide Event (Public),Student Activities
ORGANIZER;CN="Student Involvement and Orientation":MAILTO:apjohnson@rockford.edu
GEO:42.2640342;-89.0197305
X-APPLE-STRUCTURED-LOCATION;VALUE=URI;X-ADDRESS=Rockford University 5050 E. State St.  Rockford IL 61108 United States;X-APPLE-RADIUS=500;X-TITLE=5050 E. State St.:geo:-89.0197305,42.2640342
END:VEVENT
BEGIN:VEVENT
DTSTART;TZID=America/Chicago:20180915T203000
DTEND;TZID=America/Chicago:20180915T223000
DTSTAMP:20260423T082553
CREATED:20180829T142347Z
LAST-MODIFIED:20180907T135333Z
UID:10007681-1537043400-1537050600@www.rockford.edu
SUMMARY:Family Weekend Outdoor Movie
DESCRIPTION:Join us outside in the Commons on Saturday\, September 15 at 8:30 pm for an outdoor movie! Bring your lawn chairs\, blankets\, pillows\, and get comfy under the stars as we watch a popular new film (movie TBD)! The rain location for this event will be in Scarborough Hall’s auditorium.  \n*This event is a part of Family Weekend. While families are encouraged to attend with their students\, all Family Weekend events are open to ALL students regardless of family attendance. \n*How to Register for Family Weekend: Please visit Rockford.edu/Family  \n*Questions about Family Weekend? Email Alex Johnson\, Director of Student Involvement and Orientation\, at APJohnson@rockford.edu
URL:https://www.rockford.edu/calendar-item/family-weekend-outdoor-movie/
LOCATION:Rockford University\, 5050 E. State St. \, Rockford\, IL\, 61108\, United States
CATEGORIES:Campus Wide Event (Public),Student Activities
ORGANIZER;CN="Student Involvement and Orientation":MAILTO:apjohnson@rockford.edu
GEO:42.2640342;-89.0197305
X-APPLE-STRUCTURED-LOCATION;VALUE=URI;X-ADDRESS=Rockford University 5050 E. State St.  Rockford IL 61108 United States;X-APPLE-RADIUS=500;X-TITLE=5050 E. State St.:geo:-89.0197305,42.2640342
END:VEVENT
BEGIN:VEVENT
DTSTART;TZID=America/Chicago:20180915T180000
DTEND;TZID=America/Chicago:20180915T200000
DTSTAMP:20260423T082553
CREATED:20180829T141942Z
LAST-MODIFIED:20180907T135539Z
UID:10007680-1537034400-1537041600@www.rockford.edu
SUMMARY:Family Weekend Dinner and Dueling Pianos
DESCRIPTION:Join us in Regents Hall on Saturday\, September 15 from 6:00-8:00 pm for dinner and an exciting performance from two talented dueling pianists. \n*This event is a part of Family Weekend. While families are encouraged to attend with their students\, all Family Weekend events are open to ALL students regardless of family attendance. \n*How to Register for Family Weekend: Please visit Rockford.edu/Family  \n*Questions about Family Weekend? Email Alex Johnson\, Director of Student Involvement and Orientation\, at APJohnson@rockford.edu
URL:https://www.rockford.edu/calendar-item/family-weekend-dinner-and-dueling-pianos/
LOCATION:Rockford University\, 5050 E. State St. \, Rockford\, IL\, 61108\, United States
CATEGORIES:Campus Wide Event (Public),Student Activities
ORGANIZER;CN="Student Involvement and Orientation":MAILTO:apjohnson@rockford.edu
GEO:42.2640342;-89.0197305
X-APPLE-STRUCTURED-LOCATION;VALUE=URI;X-ADDRESS=Rockford University 5050 E. State St.  Rockford IL 61108 United States;X-APPLE-RADIUS=500;X-TITLE=5050 E. State St.:geo:-89.0197305,42.2640342
END:VEVENT
BEGIN:VEVENT
DTSTART;TZID=America/Chicago:20180915T100000
DTEND;TZID=America/Chicago:20180915T130000
DTSTAMP:20260423T082553
CREATED:20180829T140753Z
LAST-MODIFIED:20180829T143621Z
UID:10007679-1537005600-1537016400@www.rockford.edu
SUMMARY:Family Weekend Football Tailgate
DESCRIPTION:It’s tailgate season\, and we couldn’t be more excited! We’re bringing some major school spirit to the Regent football games this year\, and we want to see every student out at our tailgating events! The tailgate on this date\, September 15\, is a part of our Family Weekend activities\, so bring your family and enjoy cheering on the Regent football team afterwards.  \nWe will provide free\, freshly grilled food\, drinks\, games\, music\, and an atmosphere you’ll want to be a part of every home football game. \nAfter the 10:00-1:00 p.m. tailgates are over in Parking Lot A\, the games begin at 1:00 p.m. \nBring your Regent pride and join us this fall–let’s make this a tradition to remember! \nSEPTEMBER HOME GAMES \n9/1: RU VS. MACMURRAY\n9/8: RU VS. MARTIN LUTHER\n9/15: RU VS. KALAMAZOO (Family Weekend) \nOCTOBER HOME GAMES\n10/6: RU VS. BENEDICTINE (Homecoming)\n10/20: RU VS. AURORA \nNOVEMBER HOME GAMES\n11/3: RU VS. CONCORDIA WISCONSIN
URL:https://www.rockford.edu/calendar-item/family-weekend-tailgate/
LOCATION:Rockford University\, 5050 E. State St. \, Rockford\, IL\, 61108\, United States
CATEGORIES:Campus Wide Event (Public),Student Activities
ORGANIZER;CN="Student Involvement and Orientation":MAILTO:apjohnson@rockford.edu
GEO:42.2640342;-89.0197305
X-APPLE-STRUCTURED-LOCATION;VALUE=URI;X-ADDRESS=Rockford University 5050 E. State St.  Rockford IL 61108 United States;X-APPLE-RADIUS=500;X-TITLE=5050 E. State St.:geo:-89.0197305,42.2640342
END:VEVENT
BEGIN:VEVENT
DTSTART;TZID=America/Chicago:20180914T080000
DTEND;TZID=America/Chicago:20180916T170000
DTSTAMP:20260423T082553
CREATED:20180529T154313Z
LAST-MODIFIED:20180829T142631Z
UID:10007612-1536912000-1537117200@www.rockford.edu
SUMMARY:Family Weekend 2018
DESCRIPTION:Students and their families are invited to attend Family Weekend 2018. The event will be held Friday\, Sept. 14 – Sunday\, Sept. 16\, 2018.\nActivities will be provided on Saturday\, Sept. 15\, that includes: football tailgating\, dinner with live entertainment from two dueling pianists\, and an outdoor movie! \nAll are welcome to attend regardless if your family is present. \nLook for registration as we get closer to the event! \nIf you have any questions please email Alex at apjohnson@rockford.edu \n*This is a Student Activities sponsored event and is only open to the Rockford University campus community.
URL:https://www.rockford.edu/calendar-item/family-weekend-2018/
LOCATION:Rockford University\, 5050 E. State St. \, Rockford\, IL\, 61108\, United States
CATEGORIES:Campus Wide Event (Public),Student Activities
ORGANIZER;CN="Student Involvement and Orientation":MAILTO:apjohnson@rockford.edu
GEO:42.2640342;-89.0197305
X-APPLE-STRUCTURED-LOCATION;VALUE=URI;X-ADDRESS=Rockford University 5050 E. State St.  Rockford IL 61108 United States;X-APPLE-RADIUS=500;X-TITLE=5050 E. State St.:geo:-89.0197305,42.2640342
END:VEVENT
BEGIN:VEVENT
DTSTART;TZID=America/Chicago:20180905T190000
DTEND;TZID=America/Chicago:20180905T200000
DTSTAMP:20260423T082553
CREATED:20180827T222533Z
LAST-MODIFIED:20180904T150610Z
UID:10007674-1536174000-1536177600@www.rockford.edu
SUMMARY:Trivia Night
DESCRIPTION:Join us on Wednesday\, September 5th in the Den at 7:00 p.m. for a friendly (yet competitive) Trivia Night! Trivia Nights are a staple at Rockford University\, so we wanted to give this semester’s trivia a new and improved twist. \nStudents will compete in teams of 4 (come with friends or we will pair you up with other students!) for a prize that matches the monthly trivia theme. This month’s theme? Movie sagas! So brush up on your knowledge about classic movie sagas and come prepared to compete for an awesome movie-themed prize package! 
URL:https://www.rockford.edu/calendar-item/trivia-night-7/
LOCATION:Rockford University\, 5050 E. State St. \, Rockford\, IL\, 61108\, United States
CATEGORIES:Campus Wide Event (Public),Student Activities
ORGANIZER;CN="Student Involvement and Orientation":MAILTO:apjohnson@rockford.edu
GEO:42.2640342;-89.0197305
X-APPLE-STRUCTURED-LOCATION;VALUE=URI;X-ADDRESS=Rockford University 5050 E. State St.  Rockford IL 61108 United States;X-APPLE-RADIUS=500;X-TITLE=5050 E. State St.:geo:-89.0197305,42.2640342
END:VEVENT
BEGIN:VEVENT
DTSTART;TZID=America/Chicago:20180901T100000
DTEND;TZID=America/Chicago:20180901T130000
DTSTAMP:20260423T082553
CREATED:20180827T221442Z
LAST-MODIFIED:20180829T145311Z
UID:10007673-1535796000-1535806800@www.rockford.edu
SUMMARY:Football Tailgate
DESCRIPTION:It’s tailgate season\, and we couldn’t be more excited! We’re bringing some major school spirit to the Regent football games this year\, and we want to see every student out at our tailgating events! \nWe will provide free\, freshly grilled food\, drinks\, games\, music\, and an atmosphere you’ll want to be a part of every home football game. \nAfter the 10:00-1:00 p.m. tailgates are over in Parking Lot A\, the games begin at 1:00 p.m. \nBring your Regent pride and join us this fall–let’s make this a tradition to remember! \nSEPTEMBER HOME GAMES \n9/1: RU VS. MACMURRAY\n9/8: RU VS. MARTIN LUTHER\n9/15: RU VS. KALAMAZOO (Family Weekend) \nOCTOBER HOME GAMES\n10/6: RU VS. BENEDICTINE (Homecoming)\n10/20: RU VS. AURORA \nNOVEMBER HOME GAMES\n11/3: RU VS. CONCORDIA WISCONSIN
URL:https://www.rockford.edu/calendar-item/football-tailgate-9-1/
LOCATION:Rockford University\, 5050 E. State St. \, Rockford\, IL\, 61108\, United States
CATEGORIES:Campus Wide Event (Public),Student Activities
ORGANIZER;CN="Student Involvement and Orientation":MAILTO:apjohnson@rockford.edu
GEO:42.2640342;-89.0197305
X-APPLE-STRUCTURED-LOCATION;VALUE=URI;X-ADDRESS=Rockford University 5050 E. State St.  Rockford IL 61108 United States;X-APPLE-RADIUS=500;X-TITLE=5050 E. State St.:geo:-89.0197305,42.2640342
END:VEVENT
BEGIN:VEVENT
DTSTART;TZID=America/Chicago:20180818T080000
DTEND;TZID=America/Chicago:20180821T170000
DTSTAMP:20260423T082553
CREATED:20180529T154511Z
LAST-MODIFIED:20180809T143036Z
UID:10007613-1534579200-1534870800@www.rockford.edu
SUMMARY:Welcome Week 2018
DESCRIPTION:The Office of Student Involvement and Orientation is fully committed to providing Rockford University students with an orientation to the University that is comprehensive\, dynamic\, and reflective of our values as an institution. \nDuring Welcome Week\, students will learn about the wonderful opportunities available to them—including resources\, activities\, and more—as they embark on their educational journeys with Rockford University.
URL:https://www.rockford.edu/calendar-item/welcome-week-2018/
LOCATION:Rockford University\, 5050 E. State St. \, Rockford\, IL\, 61108\, United States
CATEGORIES:Campus Wide Event (Public)
ATTACH;FMTTYPE=image/jpeg:https://www.rockford.edu/wp-content/uploads/2018/04/Generic-1.jpg
ORGANIZER;CN="Student Involvement and Orientation":MAILTO:apjohnson@rockford.edu
GEO:42.2640342;-89.0197305
X-APPLE-STRUCTURED-LOCATION;VALUE=URI;X-ADDRESS=Rockford University 5050 E. State St.  Rockford IL 61108 United States;X-APPLE-RADIUS=500;X-TITLE=5050 E. State St.:geo:-89.0197305,42.2640342
END:VEVENT
BEGIN:VEVENT
DTSTART;TZID=America/Chicago:20180717T180000
DTEND;TZID=America/Chicago:20180717T200000
DTSTAMP:20260423T082553
CREATED:20180717T165602Z
LAST-MODIFIED:20181023T163755Z
UID:10007619-1531850400-1531857600@www.rockford.edu
SUMMARY:Transfer Orientation
DESCRIPTION:Fall 2018 Transfer Orientation: August 15\, 2018 \nWelcome\, Regent\, to the exciting kickoff of your journey at Rockford University! During this event\, you will learn about valuable resources on campus and beyond\, interact with a variety of on-campus leaders\, and make lasting connections with your fellow Regents. Dinner will be provided. We look forward to welcoming you to campus! \nAttendance is required of all Transfer Students\, to attend this event or Welcome Week Activities (3 days). \nRegister at Rockford.edu/Welcome
URL:https://www.rockford.edu/calendar-item/transfer-orientation/
LOCATION:Regents Hall – Burpee Student Center\, 5050 E. State St. \, Rockford\, IL\, 61108\, United States
ORGANIZER;CN="Student Involvement and Orientation":MAILTO:apjohnson@rockford.edu
GEO:42.2640342;-89.0197305
X-APPLE-STRUCTURED-LOCATION;VALUE=URI;X-ADDRESS=Regents Hall – Burpee Student Center 5050 E. State St.  Rockford IL 61108 United States;X-APPLE-RADIUS=500;X-TITLE=5050 E. State St.:geo:-89.0197305,42.2640342
END:VEVENT
END:VCALENDAR