BEGIN:VCALENDAR
VERSION:2.0
PRODID:-//Rockford University - ECPv6.15.20//NONSGML v1.0//EN
CALSCALE:GREGORIAN
METHOD:PUBLISH
X-ORIGINAL-URL:https://www.rockford.edu
X-WR-CALDESC:Events for Rockford University
REFRESH-INTERVAL;VALUE=DURATION:PT1H
X-Robots-Tag:noindex
X-PUBLISHED-TTL:PT1H
BEGIN:VTIMEZONE
TZID:America/Chicago
BEGIN:DAYLIGHT
TZOFFSETFROM:-0600
TZOFFSETTO:-0500
TZNAME:CDT
DTSTART:20190310T080000
END:DAYLIGHT
BEGIN:STANDARD
TZOFFSETFROM:-0500
TZOFFSETTO:-0600
TZNAME:CST
DTSTART:20191103T070000
END:STANDARD
BEGIN:DAYLIGHT
TZOFFSETFROM:-0600
TZOFFSETTO:-0500
TZNAME:CDT
DTSTART:20200308T080000
END:DAYLIGHT
BEGIN:STANDARD
TZOFFSETFROM:-0500
TZOFFSETTO:-0600
TZNAME:CST
DTSTART:20201101T070000
END:STANDARD
BEGIN:DAYLIGHT
TZOFFSETFROM:-0600
TZOFFSETTO:-0500
TZNAME:CDT
DTSTART:20210314T080000
END:DAYLIGHT
BEGIN:STANDARD
TZOFFSETFROM:-0500
TZOFFSETTO:-0600
TZNAME:CST
DTSTART:20211107T070000
END:STANDARD
END:VTIMEZONE
BEGIN:VEVENT
DTSTART;TZID=America/Chicago:20200421T120000
DTEND;TZID=America/Chicago:20200421T130000
DTSTAMP:20260420T224518
CREATED:20200326T184647Z
LAST-MODIFIED:20200414T185228Z
UID:10007476-1587470400-1587474000@www.rockford.edu
SUMMARY:Virtual Bachelor's Degree Completion Information Sessions
DESCRIPTION:Rockford University’s Puri School of Business will host two Bachelor’s Degree Completion Information Sessions via webinar on Tuesday\, April 21\, 2020 from 12-1:00 p.m. and from 5:30- 6:30 pm. Anyone interested in learning more about Rockford University’s Bachelor’s Degree Completion Program is encouraged to attend. Attendees will be provided an in-depth look at how the program helps advance career opportunities\, including details on program and admission requirements\, and testimonials.\nThere is no cost to attend\, but registration is requested. To learn more about the Business Management information session and to register\, call 815-226-4040 or visit www.rockford.edu/busnwebinar to reserve a spot today.\nThe session will be a webinar through Zoom. The Zoom Meeting Room link will be provided after registration.
URL:https://www.rockford.edu/calendar-item/virtual-business-management-information-session/2020-04-21/1/
LOCATION:Rockford University\, 5050 E. State St. \, Rockford\, IL\, 61108\, United States
CATEGORIES:Campus Wide Event (Public)
GEO:42.2640342;-89.0197305
X-APPLE-STRUCTURED-LOCATION;VALUE=URI;X-ADDRESS=Rockford University 5050 E. State St.  Rockford IL 61108 United States;X-APPLE-RADIUS=500;X-TITLE=5050 E. State St.:geo:-89.0197305,42.2640342
END:VEVENT
BEGIN:VEVENT
DTSTART;TZID=America/Chicago:20200421T173000
DTEND;TZID=America/Chicago:20200421T183000
DTSTAMP:20260420T224518
CREATED:20200326T184647Z
LAST-MODIFIED:20200414T185228Z
UID:10007477-1587490200-1587493800@www.rockford.edu
SUMMARY:Virtual Bachelor's Degree Completion Information Sessions
DESCRIPTION:Rockford University’s Puri School of Business will host two Bachelor’s Degree Completion Information Sessions via webinar on Tuesday\, April 21\, 2020 from 12-1:00 p.m. and from 5:30- 6:30 pm. Anyone interested in learning more about Rockford University’s Bachelor’s Degree Completion Program is encouraged to attend. Attendees will be provided an in-depth look at how the program helps advance career opportunities\, including details on program and admission requirements\, and testimonials.\nThere is no cost to attend\, but registration is requested. To learn more about the Business Management information session and to register\, call 815-226-4040 or visit www.rockford.edu/busnwebinar to reserve a spot today.\nThe session will be a webinar through Zoom. The Zoom Meeting Room link will be provided after registration.
URL:https://www.rockford.edu/calendar-item/virtual-business-management-information-session/2020-04-21/2/
LOCATION:Rockford University\, 5050 E. State St. \, Rockford\, IL\, 61108\, United States
CATEGORIES:Campus Wide Event (Public)
GEO:42.2640342;-89.0197305
X-APPLE-STRUCTURED-LOCATION;VALUE=URI;X-ADDRESS=Rockford University 5050 E. State St.  Rockford IL 61108 United States;X-APPLE-RADIUS=500;X-TITLE=5050 E. State St.:geo:-89.0197305,42.2640342
END:VEVENT
BEGIN:VEVENT
DTSTART;TZID=America/Chicago:20200423T193000
DTEND;TZID=America/Chicago:20200423T210000
DTSTAMP:20260420T224518
CREATED:20191217T173117Z
LAST-MODIFIED:20200330T204459Z
UID:10007889-1587670200-1587675600@www.rockford.edu
SUMMARY:Canceled- "Rumors"
DESCRIPTION:A deputy mayor of New York and his wife have invited four couples to their Long Island home to celebrate their tenth wedding anniversary. When the first couple arrives\, they find the hostess gone and the host lying upstairs with a superficial bullet wound. He is slightly incoherent. The first couple try to hide what they fear could be a scandal from the second couple to arrive. They in turn try to hide it from the third couple\, and so on\, until all of the guests are caught in a mad confusion of rumors and misunderstandings. This is Neil Simon celebrating farce in a true madcap fashion. \nPurchase your tickets today! Single ticket admission for adults $12\, seniors age 55 and up\, and students is $9 unless otherwise noted.
URL:https://www.rockford.edu/calendar-item/rumors/2020-04-23/
LOCATION:Rockford University\, 5050 E. State St. \, Rockford\, IL\, 61108\, United States
CATEGORIES:Campus Wide Event (Public),Forum Series,PA Performance
GEO:42.2640342;-89.0197305
X-APPLE-STRUCTURED-LOCATION;VALUE=URI;X-ADDRESS=Rockford University 5050 E. State St.  Rockford IL 61108 United States;X-APPLE-RADIUS=500;X-TITLE=5050 E. State St.:geo:-89.0197305,42.2640342
END:VEVENT
BEGIN:VEVENT
DTSTART;TZID=America/Chicago:20200424T193000
DTEND;TZID=America/Chicago:20200424T210000
DTSTAMP:20260420T224518
CREATED:20191217T173117Z
LAST-MODIFIED:20200330T204459Z
UID:10007890-1587756600-1587762000@www.rockford.edu
SUMMARY:Canceled- "Rumors"
DESCRIPTION:A deputy mayor of New York and his wife have invited four couples to their Long Island home to celebrate their tenth wedding anniversary. When the first couple arrives\, they find the hostess gone and the host lying upstairs with a superficial bullet wound. He is slightly incoherent. The first couple try to hide what they fear could be a scandal from the second couple to arrive. They in turn try to hide it from the third couple\, and so on\, until all of the guests are caught in a mad confusion of rumors and misunderstandings. This is Neil Simon celebrating farce in a true madcap fashion. \nPurchase your tickets today! Single ticket admission for adults $12\, seniors age 55 and up\, and students is $9 unless otherwise noted.
URL:https://www.rockford.edu/calendar-item/rumors/2020-04-24/
LOCATION:Rockford University\, 5050 E. State St. \, Rockford\, IL\, 61108\, United States
CATEGORIES:Campus Wide Event (Public),Forum Series,PA Performance
GEO:42.2640342;-89.0197305
X-APPLE-STRUCTURED-LOCATION;VALUE=URI;X-ADDRESS=Rockford University 5050 E. State St.  Rockford IL 61108 United States;X-APPLE-RADIUS=500;X-TITLE=5050 E. State St.:geo:-89.0197305,42.2640342
END:VEVENT
BEGIN:VEVENT
DTSTART;TZID=America/Chicago:20200425T193000
DTEND;TZID=America/Chicago:20200425T210000
DTSTAMP:20260420T224518
CREATED:20191217T173117Z
LAST-MODIFIED:20200330T204459Z
UID:10007891-1587843000-1587848400@www.rockford.edu
SUMMARY:Canceled- "Rumors"
DESCRIPTION:A deputy mayor of New York and his wife have invited four couples to their Long Island home to celebrate their tenth wedding anniversary. When the first couple arrives\, they find the hostess gone and the host lying upstairs with a superficial bullet wound. He is slightly incoherent. The first couple try to hide what they fear could be a scandal from the second couple to arrive. They in turn try to hide it from the third couple\, and so on\, until all of the guests are caught in a mad confusion of rumors and misunderstandings. This is Neil Simon celebrating farce in a true madcap fashion. \nPurchase your tickets today! Single ticket admission for adults $12\, seniors age 55 and up\, and students is $9 unless otherwise noted.
URL:https://www.rockford.edu/calendar-item/rumors/2020-04-25/
LOCATION:Rockford University\, 5050 E. State St. \, Rockford\, IL\, 61108\, United States
CATEGORIES:Campus Wide Event (Public),Forum Series,PA Performance
GEO:42.2640342;-89.0197305
X-APPLE-STRUCTURED-LOCATION;VALUE=URI;X-ADDRESS=Rockford University 5050 E. State St.  Rockford IL 61108 United States;X-APPLE-RADIUS=500;X-TITLE=5050 E. State St.:geo:-89.0197305,42.2640342
END:VEVENT
END:VCALENDAR