BEGIN:VCALENDAR
VERSION:2.0
PRODID:-//Rockford University - ECPv6.15.19//NONSGML v1.0//EN
CALSCALE:GREGORIAN
METHOD:PUBLISH
X-ORIGINAL-URL:https://www.rockford.edu
X-WR-CALDESC:Events for Rockford University
REFRESH-INTERVAL;VALUE=DURATION:PT1H
X-Robots-Tag:noindex
X-PUBLISHED-TTL:PT1H
BEGIN:VTIMEZONE
TZID:America/Chicago
BEGIN:DAYLIGHT
TZOFFSETFROM:-0600
TZOFFSETTO:-0500
TZNAME:CDT
DTSTART:20190310T080000
END:DAYLIGHT
BEGIN:STANDARD
TZOFFSETFROM:-0500
TZOFFSETTO:-0600
TZNAME:CST
DTSTART:20191103T070000
END:STANDARD
BEGIN:DAYLIGHT
TZOFFSETFROM:-0600
TZOFFSETTO:-0500
TZNAME:CDT
DTSTART:20200308T080000
END:DAYLIGHT
BEGIN:STANDARD
TZOFFSETFROM:-0500
TZOFFSETTO:-0600
TZNAME:CST
DTSTART:20201101T070000
END:STANDARD
BEGIN:DAYLIGHT
TZOFFSETFROM:-0600
TZOFFSETTO:-0500
TZNAME:CDT
DTSTART:20210314T080000
END:DAYLIGHT
BEGIN:STANDARD
TZOFFSETFROM:-0500
TZOFFSETTO:-0600
TZNAME:CST
DTSTART:20211107T070000
END:STANDARD
END:VTIMEZONE
BEGIN:VEVENT
DTSTART;VALUE=DATE:20200401
DTEND;VALUE=DATE:20200416
DTSTAMP:20260420T211239
CREATED:20200228T220519Z
LAST-MODIFIED:20200303T194945Z
UID:10007915-1585699200-1586995199@www.rockford.edu
SUMMARY:Registration for Summer and Fall 2020 for all continuing graduate\, undergraduate and BSMS students
DESCRIPTION:
URL:https://www.rockford.edu/calendar-item/registration-for-summer-and-fall-2020-for-all-continuing-graduate-undergraduate-and-bsms-students/
LOCATION:Rockford University\, 5050 E. State St. \, Rockford\, IL\, 61108\, United States
CATEGORIES:Academic Calendar
ATTACH;FMTTYPE=image/jpeg:https://www.rockford.edu/wp-content/uploads/2018/04/Academic-Calendar.jpg
GEO:42.2640342;-89.0197305
X-APPLE-STRUCTURED-LOCATION;VALUE=URI;X-ADDRESS=Rockford University 5050 E. State St.  Rockford IL 61108 United States;X-APPLE-RADIUS=500;X-TITLE=5050 E. State St.:geo:-89.0197305,42.2640342
END:VEVENT
BEGIN:VEVENT
DTSTART;TZID=America/Chicago:20200407T120000
DTEND;TZID=America/Chicago:20200407T124500
DTSTAMP:20260420T211239
CREATED:20200318T205106Z
LAST-MODIFIED:20200401T193145Z
UID:10007474-1586260800-1586263500@www.rockford.edu
SUMMARY:Master's of Business Administration (MBA) Information Sessions
DESCRIPTION:Rockford University’s Puri School of Business will host two MBA information sessions via webinar on Tuesday\, April 7\, 2020 from 12-12:45 p.m. and from 5:30-6:15 p.m. Anyone interested in learning more about earning RU’s MBA is encouraged to attend. Attendees will be provided an in-depth look at how the University’s MBA program helps advance career and leadership opportunities\, including details on available program concentrations\, admission requirements\, and testimonials. \nThere is no cost to attend\, but registration is requested. To learn more about the MBA information session and to register\, call 815-226-4040 or visit www.rockford.edu/mbainfosession/ to reserve a spot today. \nThe session will be a webinar through Zoom. The Zoom Meeting Room link will be provided after registration.
URL:https://www.rockford.edu/calendar-item/masters-of-business-administration-mba-information-session-2/2020-04-07/1/
LOCATION:Rockford University\, 5050 E. State St. \, Rockford\, IL\, 61108\, United States
CATEGORIES:Admissions,Campus Wide Event (Public),Graduate Office
ATTACH;FMTTYPE=image/jpeg:https://www.rockford.edu/wp-content/uploads/2020/03/social-media-MBA-Info-session-Resized-for-web.jpg
GEO:42.2640342;-89.0197305
X-APPLE-STRUCTURED-LOCATION;VALUE=URI;X-ADDRESS=Rockford University 5050 E. State St.  Rockford IL 61108 United States;X-APPLE-RADIUS=500;X-TITLE=5050 E. State St.:geo:-89.0197305,42.2640342
END:VEVENT
BEGIN:VEVENT
DTSTART;TZID=America/Chicago:20200407T173000
DTEND;TZID=America/Chicago:20200407T181500
DTSTAMP:20260420T211239
CREATED:20200318T205106Z
LAST-MODIFIED:20200401T193145Z
UID:10007475-1586280600-1586283300@www.rockford.edu
SUMMARY:Master's of Business Administration (MBA) Information Sessions
DESCRIPTION:Rockford University’s Puri School of Business will host two MBA information sessions via webinar on Tuesday\, April 7\, 2020 from 12-12:45 p.m. and from 5:30-6:15 p.m. Anyone interested in learning more about earning RU’s MBA is encouraged to attend. Attendees will be provided an in-depth look at how the University’s MBA program helps advance career and leadership opportunities\, including details on available program concentrations\, admission requirements\, and testimonials. \nThere is no cost to attend\, but registration is requested. To learn more about the MBA information session and to register\, call 815-226-4040 or visit www.rockford.edu/mbainfosession/ to reserve a spot today. \nThe session will be a webinar through Zoom. The Zoom Meeting Room link will be provided after registration.
URL:https://www.rockford.edu/calendar-item/masters-of-business-administration-mba-information-session-2/2020-04-07/2/
LOCATION:Rockford University\, 5050 E. State St. \, Rockford\, IL\, 61108\, United States
CATEGORIES:Admissions,Campus Wide Event (Public),Graduate Office
ATTACH;FMTTYPE=image/jpeg:https://www.rockford.edu/wp-content/uploads/2020/03/social-media-MBA-Info-session-Resized-for-web.jpg
GEO:42.2640342;-89.0197305
X-APPLE-STRUCTURED-LOCATION;VALUE=URI;X-ADDRESS=Rockford University 5050 E. State St.  Rockford IL 61108 United States;X-APPLE-RADIUS=500;X-TITLE=5050 E. State St.:geo:-89.0197305,42.2640342
END:VEVENT
END:VCALENDAR