BEGIN:VCALENDAR
VERSION:2.0
PRODID:-//Rockford University - ECPv6.15.19//NONSGML v1.0//EN
CALSCALE:GREGORIAN
METHOD:PUBLISH
X-WR-CALNAME:Rockford University
X-ORIGINAL-URL:https://www.rockford.edu
X-WR-CALDESC:Events for Rockford University
REFRESH-INTERVAL;VALUE=DURATION:PT1H
X-Robots-Tag:noindex
X-PUBLISHED-TTL:PT1H
BEGIN:VTIMEZONE
TZID:America/Chicago
BEGIN:DAYLIGHT
TZOFFSETFROM:-0600
TZOFFSETTO:-0500
TZNAME:CDT
DTSTART:20180311T080000
END:DAYLIGHT
BEGIN:STANDARD
TZOFFSETFROM:-0500
TZOFFSETTO:-0600
TZNAME:CST
DTSTART:20181104T070000
END:STANDARD
BEGIN:DAYLIGHT
TZOFFSETFROM:-0600
TZOFFSETTO:-0500
TZNAME:CDT
DTSTART:20190310T080000
END:DAYLIGHT
BEGIN:STANDARD
TZOFFSETFROM:-0500
TZOFFSETTO:-0600
TZNAME:CST
DTSTART:20191103T070000
END:STANDARD
BEGIN:DAYLIGHT
TZOFFSETFROM:-0600
TZOFFSETTO:-0500
TZNAME:CDT
DTSTART:20200308T080000
END:DAYLIGHT
BEGIN:STANDARD
TZOFFSETFROM:-0500
TZOFFSETTO:-0600
TZNAME:CST
DTSTART:20201101T070000
END:STANDARD
END:VTIMEZONE
BEGIN:VEVENT
DTSTART;TZID=America/Chicago:20191030T160000
DTEND;TZID=America/Chicago:20191030T190000
DTSTAMP:20260419T222144
CREATED:20191023T220342Z
LAST-MODIFIED:20191023T220342Z
UID:10007410-1572451200-1572462000@www.rockford.edu
SUMMARY:Improving Financial Literacy- Free Training Session
DESCRIPTION:What is it? \nThis is a free 3-hour financial literacy training session offered by Professors Orhan Erdem\, Ph.D.\, and Luis Romero\, MBA. \nThis Program focuses on practical financial skills that can help people of all ages better manage financial situations that are part of everyday life. \nBy gaining a better understanding of the basics of financial literacy\, attendees can reach their financial goals\, effectively manage their finances\, and build a sound plan for buying a home or starting a business. \nWhat does it cover? \n\nLearn how to manage checking and savings accounts\nBe able to prepare a simple family budget\nUnderstanding credit\, debit & credit scoring\nUnderstand the basics of loans\, student loans\nLearn how to use credit cards effectively\nCalculate the loan payments\, and balance using Excel\nUnderstand elements of sound financial decisions\n\nWho should attend? \nAnyone interested in enhancing money management skills and knowledge. \nWhen? \nWednesday\, October 30\, 2019 4-7 p.m. Register by sending an email to: graduate@rockford.edu. \nSeating is limited to 11. Session held in the Bloomberg Business Lab in the Puri School of Business located on Rockford University’s campus at 5050 East State Street\, Rockford.
URL:https://www.rockford.edu/calendar-item/improving-financial-literacy-free-training-session/
LOCATION:Puri School of Business\, 5100 East State St\, Rockford\, IL\, 61108\, United States
CATEGORIES:Campus Wide Event (Public)
ATTACH;FMTTYPE=image/jpeg:https://www.rockford.edu/wp-content/uploads/2019/05/1-PSOB-Logo-rock-solid-purple_CMYK.jpg
GEO:42.264752;-89.018728
X-APPLE-STRUCTURED-LOCATION;VALUE=URI;X-ADDRESS=Puri School of Business 5100 East State St Rockford IL 61108 United States;X-APPLE-RADIUS=500;X-TITLE=5100 East State St:geo:-89.018728,42.264752
END:VEVENT
BEGIN:VEVENT
DTSTART;TZID=America/Chicago:20191031T110000
DTEND;TZID=America/Chicago:20191031T160000
DTSTAMP:20260419T222144
CREATED:20191014T193633Z
LAST-MODIFIED:20191014T193633Z
UID:10007863-1572519600-1572537600@www.rockford.edu
SUMMARY:Rockford University Blood Drive
DESCRIPTION:Join the Rock River Valley Blood Center in Parking Lot A from 11 a.m. to 4 p.m. for the blood drive. \nIf you’d like to donate\, bring a photo ID and drink plenty of fluids beforehand. Walk-ins are welcome\, and appointments are preferred. \nSchedule your appointment to donate at rrvbc.org! \nCheck in with our QR code to be entered into a drawing at the end of the year.
URL:https://www.rockford.edu/calendar-item/rockford-university-blood-drive/
LOCATION:Rockford University\, 5050 E. State St. \, Rockford\, IL\, 61108\, United States
CATEGORIES:Campus Wide Event (Public),Jane Adams Center for Civic Engagement (JACCE),Lang Center for Health & Wellness
ATTACH;FMTTYPE=image/jpeg:https://www.rockford.edu/wp-content/uploads/2018/04/Lang-1.jpg
GEO:42.2640342;-89.0197305
X-APPLE-STRUCTURED-LOCATION;VALUE=URI;X-ADDRESS=Rockford University 5050 E. State St.  Rockford IL 61108 United States;X-APPLE-RADIUS=500;X-TITLE=5050 E. State St.:geo:-89.0197305,42.2640342
END:VEVENT
BEGIN:VEVENT
DTSTART;TZID=America/Chicago:20191031T110000
DTEND;TZID=America/Chicago:20191031T160000
DTSTAMP:20260419T222144
CREATED:20191028T202535Z
LAST-MODIFIED:20191028T202535Z
UID:10007418-1572519600-1572537600@www.rockford.edu
SUMMARY:Halloween Blood Drive
DESCRIPTION:The Rock River Valley Blood Center will be parked outside Burpee Circle Drive on Thursday\, October 31 for a Halloween Blood Drive. \nThey will be here from 11am-4pm. \nPlease make an appointment with Ashni Gandhi (agandhi@rockford.edu) or Chelsea Havill (ch176786@rockford.edu). \nWalk-ins are welcome!
URL:https://www.rockford.edu/calendar-item/halloween-blood-drive/
LOCATION:Blanche Walker Burpee Student Center\, 5050 East State St.\, Rockford\, IL\, 61108\, United States
CATEGORIES:Campus Wide Event (Public),Jane Adams Center for Civic Engagement (JACCE),Lang Center for Health & Wellness
ATTACH;FMTTYPE=image/jpeg:https://www.rockford.edu/wp-content/uploads/2018/04/Lang-1.jpg
ORGANIZER;CN="Jane Addams Center for Civic Engagment":MAILTO:jacce@rockford.edu
GEO:42.2696337;-89.0184645
X-APPLE-STRUCTURED-LOCATION;VALUE=URI;X-ADDRESS=Blanche Walker Burpee Student Center 5050 East State St. Rockford IL 61108 United States;X-APPLE-RADIUS=500;X-TITLE=5050 East State St.:geo:-89.0184645,42.2696337
END:VEVENT
BEGIN:VEVENT
DTSTART;TZID=America/Chicago:20191031T200000
DTEND;TZID=America/Chicago:20191031T230000
DTSTAMP:20260419T222144
CREATED:20191015T211030Z
LAST-MODIFIED:20191015T211030Z
UID:10007841-1572552000-1572562800@www.rockford.edu
SUMMARY:Halloween Dance with Anime Club
DESCRIPTION:Join Anime Club for a Halloween Dance in Regents! Wear your Halloween costume for your chance to win the costume contest and dance the night away with your friends!
URL:https://www.rockford.edu/calendar-item/halloween-dance-with-anime-club/
LOCATION:Regents Hall – Burpee Student Center\, 5050 E. State St. \, Rockford\, IL\, 61108\, United States
CATEGORIES:Campus Wide Event (Public),Clubs & Orgs,Regent Experience,Student Activities
GEO:42.2640342;-89.0197305
X-APPLE-STRUCTURED-LOCATION;VALUE=URI;X-ADDRESS=Regents Hall – Burpee Student Center 5050 E. State St.  Rockford IL 61108 United States;X-APPLE-RADIUS=500;X-TITLE=5050 E. State St.:geo:-89.0197305,42.2640342
END:VEVENT
BEGIN:VEVENT
DTSTART;TZID=America/Chicago:20191102T083000
DTEND;TZID=America/Chicago:20191102T140000
DTSTAMP:20260419T222144
CREATED:20191015T211403Z
LAST-MODIFIED:20191015T211403Z
UID:10007844-1572683400-1572703200@www.rockford.edu
SUMMARY:Rockford University Disc Golf Doubles Tournament
DESCRIPTION:Check-7:30-8:30am \nNon-Sanctioned bring your own partner doubles tourney. \nCost: $40/team\n(student division is free)\n4 non-perishable can goods \nOptional: $1 Ace\n$2 50/50 ctp\n$2 50/50 ctp \nMini Games: $1/ea\nPutting challenge\nAce race\nLong Drive \nFormat: Two rounds of best shot\nHoles: 20/round \nDivisions: Advanced\, Recreational\, Ladies\, Students\n*willing to add a mixed division if interested\nCash Payouts (except for student division) \n*Player pack will contain a Gateway Wizard of your choice with custom stamp similar to the picture above.\nThere will be added prizes for ctps and the mini games.\nRock River Pantry will be the recipient of the can goods donations \nhttps://www.rockford.edu/?page_id=40434&preview=true
URL:https://www.rockford.edu/calendar-item/rockford-university-disc-golf-doubles-tournament/
LOCATION:Rockford University\, 5050 E. State St. \, Rockford\, IL\, 61108\, United States
CATEGORIES:Campus Wide Event (Public),Regent Experience,Student Activities
GEO:42.2640342;-89.0197305
X-APPLE-STRUCTURED-LOCATION;VALUE=URI;X-ADDRESS=Rockford University 5050 E. State St.  Rockford IL 61108 United States;X-APPLE-RADIUS=500;X-TITLE=5050 E. State St.:geo:-89.0197305,42.2640342
END:VEVENT
BEGIN:VEVENT
DTSTART;TZID=America/Chicago:20191102T100000
DTEND;TZID=America/Chicago:20191102T143000
DTSTAMP:20260419T222144
CREATED:20190709T214639Z
LAST-MODIFIED:20190712T141716Z
UID:10007813-1572688800-1572705000@www.rockford.edu
SUMMARY:Scholarship/Admitted Student Day
DESCRIPTION:Your achievements have earned you an invitation to an invite-only\, special admitted student day on campus. \nWhat will it be like to be a Rockford University Regent? We can’t express it in words; you will need to experience it\, to feel it. Meet our faculty and take in why they are passionate about what they do. Hear from alumni and see where an RU education can take you. Meet current students\, enjoy lunch\, and simply see how you connect with our community. \nCheck back soon for details to reserve your spot.
URL:https://www.rockford.edu/calendar-item/scholarship-admitted-student-day-2/
LOCATION:Rockford University\, 5050 E. State St. \, Rockford\, IL\, 61108\, United States
CATEGORIES:Admissions,Campus Wide Event (Public)
ATTACH;FMTTYPE=image/jpeg:https://www.rockford.edu/wp-content/uploads/2018/04/Admission-1.jpg
ORGANIZER;CN="Student Involvement and Orientation":MAILTO:LKeller@Rockford.edu
GEO:42.2640342;-89.0197305
X-APPLE-STRUCTURED-LOCATION;VALUE=URI;X-ADDRESS=Rockford University 5050 E. State St.  Rockford IL 61108 United States;X-APPLE-RADIUS=500;X-TITLE=5050 E. State St.:geo:-89.0197305,42.2640342
END:VEVENT
BEGIN:VEVENT
DTSTART;TZID=America/Chicago:20191102T160000
DTEND;TZID=America/Chicago:20191102T180000
DTSTAMP:20260419T222144
CREATED:20191016T214213Z
LAST-MODIFIED:20191016T214725Z
UID:10007847-1572710400-1572717600@www.rockford.edu
SUMMARY:Philadelphia Alumni Gathering
DESCRIPTION:President Fulcomer\, along with hosts Dr. Robert Hansen ’63 and Gary Westerfer\, invite alumni to join them for a Rockford University Alumni Gathering in Philadelphia. Hear updates on all the exciting things happening at our alma mater\, say hello to old and new friends\, enjoy heavy hors d’ oeuvres and a glass of wine\, and celebrate what Rockford University means to you. We hope to see you there!
URL:https://www.rockford.edu/calendar-item/philadelphia-alumni-gathering/
LOCATION:At the Home of Dr. Robert Hansen ’63 & Gary Westerfer\, 115 E. Roumfort Rd. Apt. 17\, Philadelphia\, PA\, 19119\, United States
CATEGORIES:Alumni,Campus Wide Event (Public)
END:VEVENT
BEGIN:VEVENT
DTSTART;TZID=America/Chicago:20191102T190000
DTEND;TZID=America/Chicago:20191102T220000
DTSTAMP:20260419T222144
CREATED:20191031T185621Z
LAST-MODIFIED:20191031T185621Z
UID:10007849-1572721200-1572732000@www.rockford.edu
SUMMARY:UFC Fight Night with CAB
DESCRIPTION:Join the Campus Activities Board in the Student Center for a UFC Fight! Masvidal vs. Diaz is an upcoming mixed martial arts pay-per-view event produced by the Ultimate Fighting Championship that is planned to take place on November 2\, 2019 at Madison Square Garden in New York City\, New York.
URL:https://www.rockford.edu/calendar-item/ufc-fight-night-with-cab/
LOCATION:Blanche Walker Burpee Student Center\, 5050 East State St.\, Rockford\, IL\, 61108\, United States
CATEGORIES:Campus Activities Board,Campus Wide Event (Public),Regent Experience,Student Activities
GEO:42.2696337;-89.0184645
X-APPLE-STRUCTURED-LOCATION;VALUE=URI;X-ADDRESS=Blanche Walker Burpee Student Center 5050 East State St. Rockford IL 61108 United States;X-APPLE-RADIUS=500;X-TITLE=5050 East State St.:geo:-89.0184645,42.2696337
END:VEVENT
END:VCALENDAR