BEGIN:VCALENDAR
VERSION:2.0
PRODID:-//Rockford University - ECPv6.15.19//NONSGML v1.0//EN
CALSCALE:GREGORIAN
METHOD:PUBLISH
X-WR-CALNAME:Rockford University
X-ORIGINAL-URL:https://www.rockford.edu
X-WR-CALDESC:Events for Rockford University
REFRESH-INTERVAL;VALUE=DURATION:PT1H
X-Robots-Tag:noindex
X-PUBLISHED-TTL:PT1H
BEGIN:VTIMEZONE
TZID:America/Chicago
BEGIN:DAYLIGHT
TZOFFSETFROM:-0600
TZOFFSETTO:-0500
TZNAME:CDT
DTSTART:20180311T080000
END:DAYLIGHT
BEGIN:STANDARD
TZOFFSETFROM:-0500
TZOFFSETTO:-0600
TZNAME:CST
DTSTART:20181104T070000
END:STANDARD
BEGIN:DAYLIGHT
TZOFFSETFROM:-0600
TZOFFSETTO:-0500
TZNAME:CDT
DTSTART:20190310T080000
END:DAYLIGHT
BEGIN:STANDARD
TZOFFSETFROM:-0500
TZOFFSETTO:-0600
TZNAME:CST
DTSTART:20191103T070000
END:STANDARD
BEGIN:DAYLIGHT
TZOFFSETFROM:-0600
TZOFFSETTO:-0500
TZNAME:CDT
DTSTART:20200308T080000
END:DAYLIGHT
BEGIN:STANDARD
TZOFFSETFROM:-0500
TZOFFSETTO:-0600
TZNAME:CST
DTSTART:20201101T070000
END:STANDARD
END:VTIMEZONE
BEGIN:VEVENT
DTSTART;TZID=America/Chicago:20190902T080000
DTEND;TZID=America/Chicago:20190902T170000
DTSTAMP:20260420T174020
CREATED:20190828T213229Z
LAST-MODIFIED:20190828T213229Z
UID:10007832-1567411200-1567443600@www.rockford.edu
SUMMARY:Labor Day
DESCRIPTION:Labor Day- Offices Closed
URL:https://www.rockford.edu/calendar-item/labor-day/
LOCATION:Rockford University\, 5050 E. State St. \, Rockford\, IL\, 61108\, United States
CATEGORIES:Campus Wide Event (Public)
GEO:42.2640342;-89.0197305
X-APPLE-STRUCTURED-LOCATION;VALUE=URI;X-ADDRESS=Rockford University 5050 E. State St.  Rockford IL 61108 United States;X-APPLE-RADIUS=500;X-TITLE=5050 E. State St.:geo:-89.0197305,42.2640342
END:VEVENT
BEGIN:VEVENT
DTSTART;TZID=America/Chicago:20190904T130000
DTEND;TZID=America/Chicago:20190904T150000
DTSTAMP:20260420T174020
CREATED:20190828T213020Z
LAST-MODIFIED:20190828T213020Z
UID:10007831-1567602000-1567609200@www.rockford.edu
SUMMARY:Paint the Commons
DESCRIPTION:Come out for the Commuter Council’s very first event of the year; Paint the Commons! Upon your arrival you will receive a canvas\, paint supplies\, and delicious afternoon snacks. You can choose to paint your own design or use a stencil! Later in the day is the second forum so come out and kill some time. The weather is looking beautiful as well. This event is open to commuters and residential students.
URL:https://www.rockford.edu/calendar-item/paint-the-commons/
LOCATION:Burpee Commons
CATEGORIES:Campus Wide Event (Public),Student Activities
ORGANIZER;CN="Student Involvement and Orientation":MAILTO:apjohnson@rockford.edu
END:VEVENT
BEGIN:VEVENT
DTSTART;TZID=America/Chicago:20190904T190000
DTEND;TZID=America/Chicago:20190904T200000
DTSTAMP:20260420T174020
CREATED:20190725T152407Z
LAST-MODIFIED:20190725T164422Z
UID:10007815-1567623600-1567627200@www.rockford.edu
SUMMARY:FORUM: #WhatNOW: Ending Sexual Assault
DESCRIPTION:Join Graham Hackett on Sept. 4 at 7 PM in Severson Auditorium\, Scarborough Hall as he discusses “#WhatNOW: Ending Sexual Assault”.  \nAs awareness about sexual assault grows and condemnation of toxic behavior reaches a fever pitch\, many are asking\, “WHAT NOW?” This program looks at how we can move our communities towards gender equality and improved safety for all\, delivered with an eclectic blend of keynote and spoken word delivery.
URL:https://www.rockford.edu/calendar-item/whatnow-ending-sexual-assault-graham-hackett/
LOCATION:Severson Auditorium – Scarborough Hall\, IL
CATEGORIES:Campus Wide Event (Public),Forum Series
ATTACH;FMTTYPE=image/jpeg:https://www.rockford.edu/wp-content/uploads/2018/04/Forum-Series-1.jpg
GEO:40.6331249;-89.3985283
END:VEVENT
END:VCALENDAR