BEGIN:VCALENDAR
VERSION:2.0
PRODID:-//Rockford University - ECPv6.15.20//NONSGML v1.0//EN
CALSCALE:GREGORIAN
METHOD:PUBLISH
X-WR-CALNAME:Rockford University
X-ORIGINAL-URL:https://www.rockford.edu
X-WR-CALDESC:Events for Rockford University
REFRESH-INTERVAL;VALUE=DURATION:PT1H
X-Robots-Tag:noindex
X-PUBLISHED-TTL:PT1H
BEGIN:VTIMEZONE
TZID:America/Chicago
BEGIN:DAYLIGHT
TZOFFSETFROM:-0600
TZOFFSETTO:-0500
TZNAME:CDT
DTSTART:20180311T080000
END:DAYLIGHT
BEGIN:STANDARD
TZOFFSETFROM:-0500
TZOFFSETTO:-0600
TZNAME:CST
DTSTART:20181104T070000
END:STANDARD
BEGIN:DAYLIGHT
TZOFFSETFROM:-0600
TZOFFSETTO:-0500
TZNAME:CDT
DTSTART:20190310T080000
END:DAYLIGHT
BEGIN:STANDARD
TZOFFSETFROM:-0500
TZOFFSETTO:-0600
TZNAME:CST
DTSTART:20191103T070000
END:STANDARD
BEGIN:DAYLIGHT
TZOFFSETFROM:-0600
TZOFFSETTO:-0500
TZNAME:CDT
DTSTART:20200308T080000
END:DAYLIGHT
BEGIN:STANDARD
TZOFFSETFROM:-0500
TZOFFSETTO:-0600
TZNAME:CST
DTSTART:20201101T070000
END:STANDARD
END:VTIMEZONE
BEGIN:VEVENT
DTSTART;TZID=America/Chicago:20190205T170000
DTEND;TZID=America/Chicago:20190205T190000
DTSTAMP:20260421T213755
CREATED:20190107T174520Z
LAST-MODIFIED:20190107T174520Z
UID:10007282-1549386000-1549393200@www.rockford.edu
SUMMARY:Spirit Night at Chick-fil-A\, Alternative Spring Break fundraiser
DESCRIPTION:Join us for Spirit Night at Chick-fil-A and help support Alternative Spring Break (ASB) this year and enjoy a nice meal from Chick-fil-A. \nShow our flyer or tell staff at checkout that your here for Spirit Night and a portion of your purchase will go to ASB.
URL:https://www.rockford.edu/calendar-item/spirit-night-at-chick-fil-a-alternative-spring-break-fundraiser/
LOCATION:Chick-fil-A\, 280 N Perryville Rd\, Rockford\, 61107
CATEGORIES:Alternative Spring Break,Jane Adams Center for Civic Engagement (JACCE)
ORGANIZER;CN="Jane Addams Center for Civic Engagment":MAILTO:jacce@rockford.edu
END:VEVENT
BEGIN:VEVENT
DTSTART;TZID=America/Chicago:20190207T170000
DTEND;TZID=America/Chicago:20190207T190000
DTSTAMP:20260421T213755
CREATED:20181129T150950Z
LAST-MODIFIED:20190207T162851Z
UID:10007248-1549558800-1549566000@www.rockford.edu
SUMMARY:Lunar New Year- Rescheduled Due to Weather Conditions
DESCRIPTION:Lunar New Year event has been rescheduled to Monday\, February 11 due to weather conditions.  \nDiscover the traditions\, dishes\, and drinks that are part of China’s most important holiday\, the Chinese New Year\, or Spring Festival.
URL:https://www.rockford.edu/calendar-item/lunar-new-year/
LOCATION:Regents Hall – Burpee Student Center\, 5050 E. State St. \, Rockford\, IL\, 61108\, United States
CATEGORIES:Campus Wide Event (Public),Office of Global Affairs
ATTACH;FMTTYPE=image/jpeg:https://www.rockford.edu/wp-content/uploads/2018/04/Global-Affairs.jpg
GEO:42.2640342;-89.0197305
X-APPLE-STRUCTURED-LOCATION;VALUE=URI;X-ADDRESS=Regents Hall – Burpee Student Center 5050 E. State St.  Rockford IL 61108 United States;X-APPLE-RADIUS=500;X-TITLE=5050 E. State St.:geo:-89.0197305,42.2640342
END:VEVENT
END:VCALENDAR