BEGIN:VCALENDAR
VERSION:2.0
PRODID:-//Rockford University - ECPv6.15.20//NONSGML v1.0//EN
CALSCALE:GREGORIAN
METHOD:PUBLISH
X-ORIGINAL-URL:https://www.rockford.edu
X-WR-CALDESC:Events for Rockford University
REFRESH-INTERVAL;VALUE=DURATION:PT1H
X-Robots-Tag:noindex
X-PUBLISHED-TTL:PT1H
BEGIN:VTIMEZONE
TZID:America/Chicago
BEGIN:DAYLIGHT
TZOFFSETFROM:-0600
TZOFFSETTO:-0500
TZNAME:CDT
DTSTART:20180311T080000
END:DAYLIGHT
BEGIN:STANDARD
TZOFFSETFROM:-0500
TZOFFSETTO:-0600
TZNAME:CST
DTSTART:20181104T070000
END:STANDARD
BEGIN:DAYLIGHT
TZOFFSETFROM:-0600
TZOFFSETTO:-0500
TZNAME:CDT
DTSTART:20190310T080000
END:DAYLIGHT
BEGIN:STANDARD
TZOFFSETFROM:-0500
TZOFFSETTO:-0600
TZNAME:CST
DTSTART:20191103T070000
END:STANDARD
BEGIN:DAYLIGHT
TZOFFSETFROM:-0600
TZOFFSETTO:-0500
TZNAME:CDT
DTSTART:20200308T080000
END:DAYLIGHT
BEGIN:STANDARD
TZOFFSETFROM:-0500
TZOFFSETTO:-0600
TZNAME:CST
DTSTART:20201101T070000
END:STANDARD
END:VTIMEZONE
BEGIN:VEVENT
DTSTART;TZID=America/Chicago:20190102T080000
DTEND;TZID=America/Chicago:20190102T170000
DTSTAMP:20260421T210434
CREATED:20180522T204635Z
LAST-MODIFIED:20180809T153023Z
UID:10007116-1546416000-1546448400@www.rockford.edu
SUMMARY:Last day to make arrangements for tuition
DESCRIPTION:View the full Academic Calendar 2018-19
URL:https://www.rockford.edu/calendar-item/last-day-to-make-arrangements-for-tuition-3/
LOCATION:Rockford University\, 5050 E. State St. \, Rockford\, IL\, 61108\, United States
CATEGORIES:Academic Calendar,Campus Wide Event (Public)
ATTACH;FMTTYPE=image/jpeg:https://www.rockford.edu/wp-content/uploads/2018/04/Academic-Calendar.jpg
GEO:42.2640342;-89.0197305
X-APPLE-STRUCTURED-LOCATION;VALUE=URI;X-ADDRESS=Rockford University 5050 E. State St.  Rockford IL 61108 United States;X-APPLE-RADIUS=500;X-TITLE=5050 E. State St.:geo:-89.0197305,42.2640342
END:VEVENT
BEGIN:VEVENT
DTSTART;TZID=America/Chicago:20190102T080000
DTEND;TZID=America/Chicago:20190118T080000
DTSTAMP:20260421T210434
CREATED:20180522T204824Z
LAST-MODIFIED:20180809T153218Z
UID:10007118-1546416000-1547798400@www.rockford.edu
SUMMARY:January Interim Term (J-Term)
DESCRIPTION:View the full Academic Calendar 2018-19
URL:https://www.rockford.edu/calendar-item/january-interim-term-j-term-2/
LOCATION:Rockford University\, 5050 E. State St. \, Rockford\, IL\, 61108\, United States
CATEGORIES:Academic Calendar,Campus Wide Event (Public)
ATTACH;FMTTYPE=image/jpeg:https://www.rockford.edu/wp-content/uploads/2018/04/Academic-Calendar.jpg
GEO:42.2640342;-89.0197305
X-APPLE-STRUCTURED-LOCATION;VALUE=URI;X-ADDRESS=Rockford University 5050 E. State St.  Rockford IL 61108 United States;X-APPLE-RADIUS=500;X-TITLE=5050 E. State St.:geo:-89.0197305,42.2640342
END:VEVENT
BEGIN:VEVENT
DTSTART;TZID=America/Chicago:20190103T090000
DTEND;TZID=America/Chicago:20190103T160000
DTSTAMP:20260421T210434
CREATED:20180927T181247Z
LAST-MODIFIED:20180927T181504Z
UID:10007706-1546506000-1546531200@www.rockford.edu
SUMMARY:Admit-athon
DESCRIPTION:No time? No problem! Kick off your Rock Solid future in one day. Walk into the Admission Office\, bring official transcripts (first-year and transfer students)\, and ACT/SAT scores (first-year students)\, and you’ll receive an admission decision on the spot. Full-time students may receive a scholarship! Call the Office of Admission at 815.226.4050 with questions.
URL:https://www.rockford.edu/calendar-item/admit-athon/2019-01-03/
LOCATION:Nelson Hall (Admissions and SAS)\, 5050 E State St\, Rockford\, IL\, 61108-2311\, United States
CATEGORIES:Admissions,Campus Wide Event (Public)
ATTACH;FMTTYPE=image/jpeg:https://www.rockford.edu/wp-content/uploads/2018/04/Admission-1.jpg
ORGANIZER;CN="Student Involvement and Orientation":MAILTO:LKeller@Rockford.edu
END:VEVENT
END:VCALENDAR