BEGIN:VCALENDAR
VERSION:2.0
PRODID:-//Rockford University - ECPv6.15.20//NONSGML v1.0//EN
CALSCALE:GREGORIAN
METHOD:PUBLISH
X-ORIGINAL-URL:https://www.rockford.edu
X-WR-CALDESC:Events for Rockford University
REFRESH-INTERVAL;VALUE=DURATION:PT1H
X-Robots-Tag:noindex
X-PUBLISHED-TTL:PT1H
BEGIN:VTIMEZONE
TZID:America/New_York
BEGIN:DAYLIGHT
TZOFFSETFROM:-0500
TZOFFSETTO:-0400
TZNAME:EDT
DTSTART:20160313T070000
END:DAYLIGHT
BEGIN:STANDARD
TZOFFSETFROM:-0400
TZOFFSETTO:-0500
TZNAME:EST
DTSTART:20161106T060000
END:STANDARD
BEGIN:DAYLIGHT
TZOFFSETFROM:-0500
TZOFFSETTO:-0400
TZNAME:EDT
DTSTART:20170312T070000
END:DAYLIGHT
BEGIN:STANDARD
TZOFFSETFROM:-0400
TZOFFSETTO:-0500
TZNAME:EST
DTSTART:20171105T060000
END:STANDARD
BEGIN:DAYLIGHT
TZOFFSETFROM:-0500
TZOFFSETTO:-0400
TZNAME:EDT
DTSTART:20180311T070000
END:DAYLIGHT
BEGIN:STANDARD
TZOFFSETFROM:-0400
TZOFFSETTO:-0500
TZNAME:EST
DTSTART:20181104T060000
END:STANDARD
END:VTIMEZONE
BEGIN:VEVENT
DTSTART;TZID=America/New_York:20171211T080000
DTEND;TZID=America/New_York:20171215T170000
DTSTAMP:20260424T082841
CREATED:20170629T161228Z
LAST-MODIFIED:20170629T161228Z
UID:10004313-1512979200-1513357200@www.rockford.edu
SUMMARY:Final Exam Period
DESCRIPTION:View the full Academic Calendar 2017-18
URL:https://www.rockford.edu/calendar-item/final-exam-period/
LOCATION:Rockford University\, 5050 E. State St. \, Rockford\, IL\, 61108\, United States
CATEGORIES:Academic Calendar,Campus Wide Event (Public)
GEO:42.2640342;-89.0197305
X-APPLE-STRUCTURED-LOCATION;VALUE=URI;X-ADDRESS=Rockford University 5050 E. State St.  Rockford IL 61108 United States;X-APPLE-RADIUS=500;X-TITLE=5050 E. State St.:geo:-89.0197305,42.2640342
END:VEVENT
BEGIN:VEVENT
DTSTART;TZID=America/New_York:20171211T120000
DTEND;TZID=America/New_York:20171211T130000
DTSTAMP:20260424T082841
CREATED:20170911T141941Z
LAST-MODIFIED:20170911T164944Z
UID:10007294-1512993600-1512997200@www.rockford.edu
SUMMARY:BYOLunch Faculty Lunches
DESCRIPTION:Please join us for this academic year’s weekly Faculty Lunches on Mondays\, noon-12:50 p.m.\, in the President’s Dining Room in Burpee. Please note that the October 23 and 30 lunches will take place in the Rare Book Room of Colman Library\, and that we will not meet for Faculty Lunches on the Mondays before Fall Break and Thanksgiving. Please see the complete list of dates and locations below. \nFall 2017 – Mondays\, Noon-12:50 p.m.\n Sept. 11\, 18\, 25 – President’s Dining Room\n Oct. 2 & 9 – President’s Dining Room\n Oct. 23 & 30 Rare Book Room\n Nov. 6\, 13\, 27 & Dec. 4 – President’s Dining Room \nSpring 2018 – All of the spring 2018 lunches will take place in the President’s Dining Room – Mondays\, Noon-12:50 p.m.\n Jan. 29\n Feb. 5\, 12\, 19\, 26\n Mar. 5\, 19\, 26\n Apr. 2\, 9\, 16\, 23\, 30\n May 7 \nThank you!
URL:https://www.rockford.edu/calendar-item/byolunch-faculty-lunches-mondays-noon/2017-12-11/
LOCATION:Rockford University\, 5050 E. State St. \, Rockford\, IL\, 61108\, United States
CATEGORIES:CARE
GEO:42.2640342;-89.0197305
X-APPLE-STRUCTURED-LOCATION;VALUE=URI;X-ADDRESS=Rockford University 5050 E. State St.  Rockford IL 61108 United States;X-APPLE-RADIUS=500;X-TITLE=5050 E. State St.:geo:-89.0197305,42.2640342
END:VEVENT
BEGIN:VEVENT
DTSTART;TZID=America/New_York:20171211T220000
DTEND;TZID=America/New_York:20171211T230000
DTSTAMP:20260424T082841
CREATED:20171204T231605Z
LAST-MODIFIED:20180828T175131Z
UID:10007378-1513029600-1513033200@www.rockford.edu
SUMMARY:Late Night Breakfast
DESCRIPTION:Get a hearty start to finals week with the annual Late Night Breakfast\, served up by RU faculty and staff in The Den\, Burpee Student Center. Be sure to bring your RU student ID. \n*This is a Student Activities sponsored event and is only open to the Rockford University campus community.​​
URL:https://www.rockford.edu/calendar-item/late-night-breakfast-2/
LOCATION:The Den – Burpee Student Center\, IL
CATEGORIES:Student Activities
GEO:40.6331249;-89.3985283
END:VEVENT
BEGIN:VEVENT
DTSTART;VALUE=DATE:20171216
DTEND;VALUE=DATE:20171217
DTSTAMP:20260424T082841
CREATED:20170720T160231Z
LAST-MODIFIED:20170720T160231Z
UID:10007163-1513382400-1513468799@www.rockford.edu
SUMMARY:BSMS Fall Session 3 Ends
DESCRIPTION:View the full Academic Calendar 2017-18
URL:https://www.rockford.edu/calendar-item/bsms-fall-session-3-ends-2/
LOCATION:Rockford University\, 5050 E. State St. \, Rockford\, IL\, 61108\, United States
CATEGORIES:Academic Calendar,Campus Wide Event (Public)
GEO:42.2640342;-89.0197305
X-APPLE-STRUCTURED-LOCATION;VALUE=URI;X-ADDRESS=Rockford University 5050 E. State St.  Rockford IL 61108 United States;X-APPLE-RADIUS=500;X-TITLE=5050 E. State St.:geo:-89.0197305,42.2640342
END:VEVENT
END:VCALENDAR