BEGIN:VCALENDAR
VERSION:2.0
PRODID:-//Rockford University - ECPv6.15.20//NONSGML v1.0//EN
CALSCALE:GREGORIAN
METHOD:PUBLISH
X-ORIGINAL-URL:https://www.rockford.edu
X-WR-CALDESC:Events for Rockford University
REFRESH-INTERVAL;VALUE=DURATION:PT1H
X-Robots-Tag:noindex
X-PUBLISHED-TTL:PT1H
BEGIN:VTIMEZONE
TZID:America/New_York
BEGIN:DAYLIGHT
TZOFFSETFROM:-0500
TZOFFSETTO:-0400
TZNAME:EDT
DTSTART:20160313T070000
END:DAYLIGHT
BEGIN:STANDARD
TZOFFSETFROM:-0400
TZOFFSETTO:-0500
TZNAME:EST
DTSTART:20161106T060000
END:STANDARD
BEGIN:DAYLIGHT
TZOFFSETFROM:-0500
TZOFFSETTO:-0400
TZNAME:EDT
DTSTART:20170312T070000
END:DAYLIGHT
BEGIN:STANDARD
TZOFFSETFROM:-0400
TZOFFSETTO:-0500
TZNAME:EST
DTSTART:20171105T060000
END:STANDARD
BEGIN:DAYLIGHT
TZOFFSETFROM:-0500
TZOFFSETTO:-0400
TZNAME:EDT
DTSTART:20180311T070000
END:DAYLIGHT
BEGIN:STANDARD
TZOFFSETFROM:-0400
TZOFFSETTO:-0500
TZNAME:EST
DTSTART:20181104T060000
END:STANDARD
END:VTIMEZONE
BEGIN:VEVENT
DTSTART;TZID=America/New_York:20171022T173000
DTEND;TZID=America/New_York:20171022T210000
DTSTAMP:20260424T173225
CREATED:20170829T155345Z
LAST-MODIFIED:20170829T155345Z
UID:10007213-1508693400-1508706000@www.rockford.edu
SUMMARY:Fall Phone-a-thon
DESCRIPTION:Fall Phone-a-thon connects current students with alumni and friends of Rockford University.
URL:https://www.rockford.edu/calendar-item/fall-phone-thon/2017-10-22/
LOCATION:Rockford University\, 5050 E. State St. \, Rockford\, IL\, 61108\, United States
CATEGORIES:Campus Wide Event (Public)
GEO:42.2640342;-89.0197305
X-APPLE-STRUCTURED-LOCATION;VALUE=URI;X-ADDRESS=Rockford University 5050 E. State St.  Rockford IL 61108 United States;X-APPLE-RADIUS=500;X-TITLE=5050 E. State St.:geo:-89.0197305,42.2640342
END:VEVENT
BEGIN:VEVENT
DTSTART;VALUE=DATE:20171023
DTEND;VALUE=DATE:20171101
DTSTAMP:20260424T173225
CREATED:20171023T213727Z
LAST-MODIFIED:20190426T162345Z
UID:10007342-1508716800-1509494399@www.rockford.edu
SUMMARY:Domestic Violence Programming: Many Faces of Domestic Violence silhouette display
DESCRIPTION:Did you know that every MINUTE 20 people are victims of intimate partner violence? The Compliance and Title IX office and Lang Health partner to raise awareness of domestic and intimate partner violence through the “Many Faces of Domestic Violence” display. \nStop by the Burpee Center to see the many faces of domestic violence display until the end of the month. Visit Rockford.edu for other Domestic Violence Awareness Month initiatives.
URL:https://www.rockford.edu/calendar-item/domestic-violence-programming-faces-domestic-violence-silhouette-display/
LOCATION:Rockford University\, 5050 E. State St. \, Rockford\, IL\, 61108\, United States
CATEGORIES:Prevention and Education,Title IX
ATTACH;FMTTYPE=image/jpeg:https://www.rockford.edu/wp-content/uploads/2017/10/DV-Awareness_Silhouette_2017.jpg
GEO:42.2640342;-89.0197305
X-APPLE-STRUCTURED-LOCATION;VALUE=URI;X-ADDRESS=Rockford University 5050 E. State St.  Rockford IL 61108 United States;X-APPLE-RADIUS=500;X-TITLE=5050 E. State St.:geo:-89.0197305,42.2640342
END:VEVENT
BEGIN:VEVENT
DTSTART;TZID=America/New_York:20171023T120000
DTEND;TZID=America/New_York:20171023T130000
DTSTAMP:20260424T173225
CREATED:20170911T141941Z
LAST-MODIFIED:20170911T164944Z
UID:10007289-1508760000-1508763600@www.rockford.edu
SUMMARY:BYOLunch Faculty Lunches
DESCRIPTION:Please join us for this academic year’s weekly Faculty Lunches on Mondays\, noon-12:50 p.m.\, in the President’s Dining Room in Burpee. Please note that the October 23 and 30 lunches will take place in the Rare Book Room of Colman Library\, and that we will not meet for Faculty Lunches on the Mondays before Fall Break and Thanksgiving. Please see the complete list of dates and locations below. \nFall 2017 – Mondays\, Noon-12:50 p.m.\n Sept. 11\, 18\, 25 – President’s Dining Room\n Oct. 2 & 9 – President’s Dining Room\n Oct. 23 & 30 Rare Book Room\n Nov. 6\, 13\, 27 & Dec. 4 – President’s Dining Room \nSpring 2018 – All of the spring 2018 lunches will take place in the President’s Dining Room – Mondays\, Noon-12:50 p.m.\n Jan. 29\n Feb. 5\, 12\, 19\, 26\n Mar. 5\, 19\, 26\n Apr. 2\, 9\, 16\, 23\, 30\n May 7 \nThank you!
URL:https://www.rockford.edu/calendar-item/byolunch-faculty-lunches-mondays-noon/2017-10-23/
LOCATION:Rockford University\, 5050 E. State St. \, Rockford\, IL\, 61108\, United States
CATEGORIES:CARE
GEO:42.2640342;-89.0197305
X-APPLE-STRUCTURED-LOCATION;VALUE=URI;X-ADDRESS=Rockford University 5050 E. State St.  Rockford IL 61108 United States;X-APPLE-RADIUS=500;X-TITLE=5050 E. State St.:geo:-89.0197305,42.2640342
END:VEVENT
BEGIN:VEVENT
DTSTART;TZID=America/New_York:20171023T150000
DTEND;TZID=America/New_York:20171023T180000
DTSTAMP:20260424T173225
CREATED:20170831T193152Z
LAST-MODIFIED:20171004T190506Z
UID:10007274-1508770800-1508781600@www.rockford.edu
SUMMARY:Art Gallery Hours
DESCRIPTION:Visit the gallery from 3-6pm to see Stephen Cartwright’s solo exhibition\, “Surface Elements” at the Rockford University Art Gallery in the Clark Arts Center. \nFor 18 years\, Stephen Cartwright has recorded his exact latitude\, longitude and elevation for every hour of every day. He incorporates this data into digital and sculptural work that intersects the realms of science and art. Using this and other self-recorded data\, Cartwright creates bold\, minimal landscape sculptures and digital media projects that explore topography\, temperature\, light\, and movement.
URL:https://www.rockford.edu/calendar-item/art-gallery-hours/2017-10-23/
LOCATION:Clark Arts Center\, 5050 E. State St. \, Rockford\, IL\, 61108\, United States
CATEGORIES:Campus Wide Event (Public)
ATTACH;FMTTYPE=image/jpeg:https://www.rockford.edu/wp-content/uploads/2017/08/IMG_9673edited.jpg
ORGANIZER;CN="Art Gallery":MAILTO:cwarzecha@rockford.edu
GEO:42.2640342;-89.0197305
X-APPLE-STRUCTURED-LOCATION;VALUE=URI;X-ADDRESS=Clark Arts Center 5050 E. State St.  Rockford IL 61108 United States;X-APPLE-RADIUS=500;X-TITLE=5050 E. State St.:geo:-89.0197305,42.2640342
END:VEVENT
BEGIN:VEVENT
DTSTART;TZID=America/New_York:20171023T173000
DTEND;TZID=America/New_York:20171023T210000
DTSTAMP:20260424T173225
CREATED:20170829T155345Z
LAST-MODIFIED:20170829T155345Z
UID:10007214-1508779800-1508792400@www.rockford.edu
SUMMARY:Fall Phone-a-thon
DESCRIPTION:Fall Phone-a-thon connects current students with alumni and friends of Rockford University.
URL:https://www.rockford.edu/calendar-item/fall-phone-thon/2017-10-23/
LOCATION:Rockford University\, 5050 E. State St. \, Rockford\, IL\, 61108\, United States
CATEGORIES:Campus Wide Event (Public)
GEO:42.2640342;-89.0197305
X-APPLE-STRUCTURED-LOCATION;VALUE=URI;X-ADDRESS=Rockford University 5050 E. State St.  Rockford IL 61108 United States;X-APPLE-RADIUS=500;X-TITLE=5050 E. State St.:geo:-89.0197305,42.2640342
END:VEVENT
BEGIN:VEVENT
DTSTART;TZID=America/New_York:20171023T190000
DTEND;TZID=America/New_York:20171023T220000
DTSTAMP:20260424T173225
CREATED:20171016T183721Z
LAST-MODIFIED:20180815T150824Z
UID:10007330-1508785200-1508796000@www.rockford.edu
SUMMARY:Throw Balls\, Not Punches - Dodgeball Tournament to Raise Awareness of Domestic Violence
DESCRIPTION:The tournament will be at 7 p.m. on Oct. 23 in the multipurpose room in Seaver. Teams of six are required for entry into the tournament\, but there will also be games available for students who don’t want to play as teams! \nTo enter your team\, email Taylor Larson at tlarson@rockford.edu. Provide your team name\, names of all six players\, and at least one email address for bracket information. Come have some fun playing or just watching! Help spread awareness for domestic violence! \n*This is a Student Activities sponsored event and is only open to the Rockford University campus community.​​
URL:https://www.rockford.edu/calendar-item/throw-balls-not-punches-dodgeball-tournament-raise-awareness-domestic-violence/
LOCATION:Seaver Physical Education Center\, 5050 E. State St. \, Rockford\, IL\, 61108\, United States
CATEGORIES:Campus Closed,Student Activities
GEO:42.2640342;-89.0197305
X-APPLE-STRUCTURED-LOCATION;VALUE=URI;X-ADDRESS=Seaver Physical Education Center 5050 E. State St.  Rockford IL 61108 United States;X-APPLE-RADIUS=500;X-TITLE=5050 E. State St.:geo:-89.0197305,42.2640342
END:VEVENT
BEGIN:VEVENT
DTSTART;TZID=America/New_York:20171024T110000
DTEND;TZID=America/New_York:20171024T121500
DTSTAMP:20260424T173225
CREATED:20171004T154837Z
LAST-MODIFIED:20180208T215946Z
UID:10006982-1508842800-1508847300@www.rockford.edu
SUMMARY:Annual Responsible Employee Training: Fall Renewal
DESCRIPTION:All Employees of Rockford University are required to complete Responsible Employee Training surrounding Title IX /sexual misconduct and gender-based harassment\, discrimination\, and retaliation of persons harmed or wronged. This interactive workshop is for employees renewing their annual training from fall 2016. Additional details are provided when you register online. Questions about the training may be directed to Office of Compliance and Title IX at TitleIXCoordinator@rockford.edu\, 815-226-2842.
URL:https://www.rockford.edu/calendar-item/annual-responsible-employee-training-fall-renewal-6/
LOCATION:Rockford University\, 5050 E. State St. \, Rockford\, IL\, 61108\, United States
CATEGORIES:Title IX
GEO:42.2640342;-89.0197305
X-APPLE-STRUCTURED-LOCATION;VALUE=URI;X-ADDRESS=Rockford University 5050 E. State St.  Rockford IL 61108 United States;X-APPLE-RADIUS=500;X-TITLE=5050 E. State St.:geo:-89.0197305,42.2640342
END:VEVENT
BEGIN:VEVENT
DTSTART;TZID=America/New_York:20171024T113000
DTEND;TZID=America/New_York:20171025T133000
DTSTAMP:20260424T173225
CREATED:20171023T213914Z
LAST-MODIFIED:20171023T213929Z
UID:10007343-1508844600-1508938200@www.rockford.edu
SUMMARY:Domestic Violence Programming: Put a Nail in It
DESCRIPTION:Did you know domestic violence is the 3rd leading cause of homelessness among families? We aim to help put an end to domestic violence as supporter of the “Put a Nail in It\,” an initiative sponsored by Safe Horizons and the No More campaign. This is the second year RU has participated in solidarity with survivors of domestic violence. \nHow can you support?: Meet us at the Den\, have your ring finger painted purple (the nationally recognized color for domestic violence awareness) and spread the word! Simple as that and takes less than 10 minutes. The Put a Nail in It awareness program will be held Oct 24 & Oct 25. We extended the time for Oct 24 until 2:30. \nMeet and get your nail painted by student athletes\, members of the Title IX Team and the new Lang Health Counseling staff. This program is a partnership of RU Athletics\, Compliance and Title IX and Lang Health. Questions? Contact LaShun McGhee at lmghee@rockford.edu.
URL:https://www.rockford.edu/calendar-item/domestic-violence-programming-put-nail/2017-10-24/
LOCATION:Rockford University\, 5050 E. State St. \, Rockford\, IL\, 61108\, United States
CATEGORIES:Alternative Spring Break,Prevention and Education,Student Activities
GEO:42.2640342;-89.0197305
X-APPLE-STRUCTURED-LOCATION;VALUE=URI;X-ADDRESS=Rockford University 5050 E. State St.  Rockford IL 61108 United States;X-APPLE-RADIUS=500;X-TITLE=5050 E. State St.:geo:-89.0197305,42.2640342
END:VEVENT
BEGIN:VEVENT
DTSTART;TZID=America/New_York:20171024T120000
DTEND;TZID=America/New_York:20171024T123000
DTSTAMP:20260424T173225
CREATED:20171019T183024Z
LAST-MODIFIED:20171019T183024Z
UID:10007339-1508846400-1508848200@www.rockford.edu
SUMMARY:Athletics New Logo Reveal
DESCRIPTION:Come and see the Rockford Regents’ fierce new look! Rockford University Athletics is unveiling a new suite of logos\, and they want to invite students\, faculty and staff to the big reveal: \nTuesday\, Oct. 24 at Noon\n Burpee Student Center lobby \nIn addition to being the first to see our exciting new suite of logos\, the campus community will hear remarks from RU President Dr. Eric W. Fulcomer and enjoy a visit from Reggie the Regent!
URL:https://www.rockford.edu/calendar-item/athletics-new-logo-reveal/
LOCATION:Rockford University\, 5050 E. State St. \, Rockford\, IL\, 61108\, United States
CATEGORIES:Campus Closed
GEO:42.2640342;-89.0197305
X-APPLE-STRUCTURED-LOCATION;VALUE=URI;X-ADDRESS=Rockford University 5050 E. State St.  Rockford IL 61108 United States;X-APPLE-RADIUS=500;X-TITLE=5050 E. State St.:geo:-89.0197305,42.2640342
END:VEVENT
BEGIN:VEVENT
DTSTART;TZID=America/New_York:20171024T173000
DTEND;TZID=America/New_York:20171024T210000
DTSTAMP:20260424T173225
CREATED:20170829T155345Z
LAST-MODIFIED:20170829T155345Z
UID:10007215-1508866200-1508878800@www.rockford.edu
SUMMARY:Fall Phone-a-thon
DESCRIPTION:Fall Phone-a-thon connects current students with alumni and friends of Rockford University.
URL:https://www.rockford.edu/calendar-item/fall-phone-thon/2017-10-24/
LOCATION:Rockford University\, 5050 E. State St. \, Rockford\, IL\, 61108\, United States
CATEGORIES:Campus Wide Event (Public)
GEO:42.2640342;-89.0197305
X-APPLE-STRUCTURED-LOCATION;VALUE=URI;X-ADDRESS=Rockford University 5050 E. State St.  Rockford IL 61108 United States;X-APPLE-RADIUS=500;X-TITLE=5050 E. State St.:geo:-89.0197305,42.2640342
END:VEVENT
BEGIN:VEVENT
DTSTART;TZID=America/New_York:20171024T200000
DTEND;TZID=America/New_York:20171024T220000
DTSTAMP:20260424T173225
CREATED:20171019T182812Z
LAST-MODIFIED:20171023T174329Z
UID:10007332-1508875200-1508882400@www.rockford.edu
SUMMARY:Shine a Light on Domestic Violence - Glow in the Dark Capture the Flag
DESCRIPTION:There is no sign-up necessary for this awesome event! Just show up on the quad outside Burpee at 8 p.m. on October 24. From there\, students will be divided into two teams and given colored glow-sticks to distinguish their teams. Come play capture the flag and help us shine a light on domestic violence by spreading awareness! \nPlease note this event may be cancelled in the event of inclement weather. Check back here Tuesday afternoon for the latest information!
URL:https://www.rockford.edu/calendar-item/shine-light-domestic-violence-glow-dark-capture-flag/
LOCATION:Rockford University\, 5050 E. State St. \, Rockford\, IL\, 61108\, United States
GEO:42.2640342;-89.0197305
X-APPLE-STRUCTURED-LOCATION;VALUE=URI;X-ADDRESS=Rockford University 5050 E. State St.  Rockford IL 61108 United States;X-APPLE-RADIUS=500;X-TITLE=5050 E. State St.:geo:-89.0197305,42.2640342
END:VEVENT
BEGIN:VEVENT
DTSTART;TZID=America/New_York:20171025T113000
DTEND;TZID=America/New_York:20171025T130000
DTSTAMP:20260424T173225
CREATED:20171023T214217Z
LAST-MODIFIED:20180815T150452Z
UID:10007344-1508931000-1508936400@www.rockford.edu
SUMMARY:RU Pledge and Proclamation for Domestic Violence Prevention
DESCRIPTION:Join the Compliance and Title IX Office and Lang Health\, students\, employees\, and several other campus partners to read a proclamation for taking a stand against domestic violence. With 1 in 4 women and 1 in 7 men experiencing the impact of domestic violence in their lifetime\, we encourage you to stand in solidarity by reading the proclamation to stand up for\, stand with\, and speak out against this societal issue. \nWednesday\, Oct. 25\, after the campus starts “putting a nail in domestic violence” at 11:30 a.m.\, we will pause for a moment to read the proclamation and pledge at 12:15 p.m. At 12:30 p.m.\, we will witness the launch of “Beautiful\,” a video created by RU Student Michael Jender in recognition of domestic violence awareness and bullying awareness month. He will share the inspiration behind creating the video. The video will be available on the Title IX page after the launch. All activities will be held in The Den area. \n*This is a Student Activities sponsored event and is only open to the Rockford University campus community.
URL:https://www.rockford.edu/calendar-item/ru-pledge-proclamation-domestic-violence-prevention/
LOCATION:Rockford University\, 5050 E. State St. \, Rockford\, IL\, 61108\, United States
CATEGORIES:Prevention and Education,Student Activities,Title IX
GEO:42.2640342;-89.0197305
X-APPLE-STRUCTURED-LOCATION;VALUE=URI;X-ADDRESS=Rockford University 5050 E. State St.  Rockford IL 61108 United States;X-APPLE-RADIUS=500;X-TITLE=5050 E. State St.:geo:-89.0197305,42.2640342
END:VEVENT
BEGIN:VEVENT
DTSTART;TZID=America/New_York:20171025T150000
DTEND;TZID=America/New_York:20171025T180000
DTSTAMP:20260424T173225
CREATED:20170831T193152Z
LAST-MODIFIED:20171004T190506Z
UID:10007275-1508943600-1508954400@www.rockford.edu
SUMMARY:Art Gallery Hours
DESCRIPTION:Visit the gallery from 3-6pm to see Stephen Cartwright’s solo exhibition\, “Surface Elements” at the Rockford University Art Gallery in the Clark Arts Center. \nFor 18 years\, Stephen Cartwright has recorded his exact latitude\, longitude and elevation for every hour of every day. He incorporates this data into digital and sculptural work that intersects the realms of science and art. Using this and other self-recorded data\, Cartwright creates bold\, minimal landscape sculptures and digital media projects that explore topography\, temperature\, light\, and movement.
URL:https://www.rockford.edu/calendar-item/art-gallery-hours/2017-10-25/
LOCATION:Clark Arts Center\, 5050 E. State St. \, Rockford\, IL\, 61108\, United States
CATEGORIES:Campus Wide Event (Public)
ATTACH;FMTTYPE=image/jpeg:https://www.rockford.edu/wp-content/uploads/2017/08/IMG_9673edited.jpg
ORGANIZER;CN="Art Gallery":MAILTO:cwarzecha@rockford.edu
GEO:42.2640342;-89.0197305
X-APPLE-STRUCTURED-LOCATION;VALUE=URI;X-ADDRESS=Clark Arts Center 5050 E. State St.  Rockford IL 61108 United States;X-APPLE-RADIUS=500;X-TITLE=5050 E. State St.:geo:-89.0197305,42.2640342
END:VEVENT
BEGIN:VEVENT
DTSTART;TZID=America/New_York:20171025T173000
DTEND;TZID=America/New_York:20171025T210000
DTSTAMP:20260424T173225
CREATED:20170829T155345Z
LAST-MODIFIED:20170829T155345Z
UID:10007216-1508952600-1508965200@www.rockford.edu
SUMMARY:Fall Phone-a-thon
DESCRIPTION:Fall Phone-a-thon connects current students with alumni and friends of Rockford University.
URL:https://www.rockford.edu/calendar-item/fall-phone-thon/2017-10-25/
LOCATION:Rockford University\, 5050 E. State St. \, Rockford\, IL\, 61108\, United States
CATEGORIES:Campus Wide Event (Public)
GEO:42.2640342;-89.0197305
X-APPLE-STRUCTURED-LOCATION;VALUE=URI;X-ADDRESS=Rockford University 5050 E. State St.  Rockford IL 61108 United States;X-APPLE-RADIUS=500;X-TITLE=5050 E. State St.:geo:-89.0197305,42.2640342
END:VEVENT
BEGIN:VEVENT
DTSTART;TZID=America/New_York:20171026T173000
DTEND;TZID=America/New_York:20171026T210000
DTSTAMP:20260424T173225
CREATED:20170829T155345Z
LAST-MODIFIED:20170829T155345Z
UID:10007217-1509039000-1509051600@www.rockford.edu
SUMMARY:Fall Phone-a-thon
DESCRIPTION:Fall Phone-a-thon connects current students with alumni and friends of Rockford University.
URL:https://www.rockford.edu/calendar-item/fall-phone-thon/2017-10-26/
LOCATION:Rockford University\, 5050 E. State St. \, Rockford\, IL\, 61108\, United States
CATEGORIES:Campus Wide Event (Public)
GEO:42.2640342;-89.0197305
X-APPLE-STRUCTURED-LOCATION;VALUE=URI;X-ADDRESS=Rockford University 5050 E. State St.  Rockford IL 61108 United States;X-APPLE-RADIUS=500;X-TITLE=5050 E. State St.:geo:-89.0197305,42.2640342
END:VEVENT
BEGIN:VEVENT
DTSTART;TZID=America/New_York:20171026T200000
DTEND;TZID=America/New_York:20171026T220000
DTSTAMP:20260424T173225
CREATED:20171023T151225Z
LAST-MODIFIED:20180815T150355Z
UID:10007340-1509048000-1509055200@www.rockford.edu
SUMMARY:Annabelle 3: Scary Movie
DESCRIPTION:Come watch Annabelle 3 in Severson (Scar) Auditorium at 8 p.m. Thursday\, Oct. 26\, 2017. \n*This is a Student Activities sponsored event and is only open to the Rockford University campus community.​​
URL:https://www.rockford.edu/calendar-item/annabelle-3-scary-movie/
LOCATION:Severson Auditorium – Scarborough Hall\, IL
CATEGORIES:Campus Activities Board,Student Activities
ATTACH;FMTTYPE=image/jpeg:https://www.rockford.edu/wp-content/uploads/2017/10/one-sheet.jpg
ORGANIZER;CN="Student Activities":MAILTO:APJohnson@rockford.edu
GEO:40.6331249;-89.3985283
END:VEVENT
BEGIN:VEVENT
DTSTART;TZID=America/New_York:20171027T150000
DTEND;TZID=America/New_York:20171027T180000
DTSTAMP:20260424T173225
CREATED:20170831T193152Z
LAST-MODIFIED:20171004T190506Z
UID:10007276-1509116400-1509127200@www.rockford.edu
SUMMARY:Art Gallery Hours
DESCRIPTION:Visit the gallery from 3-6pm to see Stephen Cartwright’s solo exhibition\, “Surface Elements” at the Rockford University Art Gallery in the Clark Arts Center. \nFor 18 years\, Stephen Cartwright has recorded his exact latitude\, longitude and elevation for every hour of every day. He incorporates this data into digital and sculptural work that intersects the realms of science and art. Using this and other self-recorded data\, Cartwright creates bold\, minimal landscape sculptures and digital media projects that explore topography\, temperature\, light\, and movement.
URL:https://www.rockford.edu/calendar-item/art-gallery-hours/2017-10-27/
LOCATION:Clark Arts Center\, 5050 E. State St. \, Rockford\, IL\, 61108\, United States
CATEGORIES:Campus Wide Event (Public)
ATTACH;FMTTYPE=image/jpeg:https://www.rockford.edu/wp-content/uploads/2017/08/IMG_9673edited.jpg
ORGANIZER;CN="Art Gallery":MAILTO:cwarzecha@rockford.edu
GEO:42.2640342;-89.0197305
X-APPLE-STRUCTURED-LOCATION;VALUE=URI;X-ADDRESS=Clark Arts Center 5050 E. State St.  Rockford IL 61108 United States;X-APPLE-RADIUS=500;X-TITLE=5050 E. State St.:geo:-89.0197305,42.2640342
END:VEVENT
BEGIN:VEVENT
DTSTART;TZID=America/New_York:20171028T100000
DTEND;TZID=America/New_York:20171028T140000
DTSTAMP:20260424T173225
CREATED:20171010T211243Z
LAST-MODIFIED:20180206T231325Z
UID:10007320-1509184800-1509199200@www.rockford.edu
SUMMARY:Future Regent Visit Day
DESCRIPTION:Don’t BE frightened by college visit days\, get frightened AT them! Check out our spook-tacular Future Regent Visit Day on Saturday\, October 28. \nDon’t worry\, you won’t be scared by our friendly faculty at the academic fair\, by the admission information\, or our delicious options at lunch. However\, you may want to grab your flashlight for our haunted campus tour! \nFollowing the event\, stay to watch our Regents take on Concordia Wisconsin on the football field. Reserve your spot at https://www.rockford.edu/admission/visit/visitdayeventsregistration/.
URL:https://www.rockford.edu/calendar-item/future-regent-visit-day-2/
LOCATION:Rockford University\, 5050 E. State St. \, Rockford\, IL\, 61108\, United States
CATEGORIES:Visit Day
ORGANIZER;CN="Student Involvement and Orientation":MAILTO:LKeller@Rockford.edu
GEO:42.2640342;-89.0197305
X-APPLE-STRUCTURED-LOCATION;VALUE=URI;X-ADDRESS=Rockford University 5050 E. State St.  Rockford IL 61108 United States;X-APPLE-RADIUS=500;X-TITLE=5050 E. State St.:geo:-89.0197305,42.2640342
END:VEVENT
BEGIN:VEVENT
DTSTART;TZID=America/New_York:20171028T200000
DTEND;TZID=America/New_York:20171028T210000
DTSTAMP:20260424T173225
CREATED:20171023T151547Z
LAST-MODIFIED:20180815T150327Z
UID:10007341-1509220800-1509224400@www.rockford.edu
SUMMARY:Crescent Circus
DESCRIPTION:The Crescent Circus delivers a fusion of international award-winning magic\, circus stunts featured on “The Tonight Show” and wildly interactive comedy. Students will be the stars of the show as their minds are read and they even get to FEEL the magic happen. With knives whirling through the air as performers balance on top of each other\, doves appearing out of nowhere and costumes changing in a flash\, The Crescent Circus has something for everybody. \n*This is a Student Activities sponsored event and is only open to the Rockford University campus community.
URL:https://www.rockford.edu/calendar-item/crescent-circus/
LOCATION:Maddox Theatre – Clark Arts Center\, 5050 E. State St. \, Rockford\, IL\, 61108\, United States
CATEGORIES:Campus Activities Board,Student Activities
ORGANIZER;CN="Student Activities":MAILTO:APJohnson@rockford.edu
GEO:42.2640342;-89.0197305
X-APPLE-STRUCTURED-LOCATION;VALUE=URI;X-ADDRESS=Maddox Theatre – Clark Arts Center 5050 E. State St.  Rockford IL 61108 United States;X-APPLE-RADIUS=500;X-TITLE=5050 E. State St.:geo:-89.0197305,42.2640342
END:VEVENT
END:VCALENDAR