BEGIN:VCALENDAR
VERSION:2.0
PRODID:-//Rockford University - ECPv6.15.19//NONSGML v1.0//EN
CALSCALE:GREGORIAN
METHOD:PUBLISH
X-ORIGINAL-URL:https://www.rockford.edu
X-WR-CALDESC:Events for Rockford University
REFRESH-INTERVAL;VALUE=DURATION:PT1H
X-Robots-Tag:noindex
X-PUBLISHED-TTL:PT1H
BEGIN:VTIMEZONE
TZID:America/Chicago
BEGIN:DAYLIGHT
TZOFFSETFROM:-0600
TZOFFSETTO:-0500
TZNAME:CDT
DTSTART:20160313T080000
END:DAYLIGHT
BEGIN:STANDARD
TZOFFSETFROM:-0500
TZOFFSETTO:-0600
TZNAME:CST
DTSTART:20161106T070000
END:STANDARD
BEGIN:DAYLIGHT
TZOFFSETFROM:-0600
TZOFFSETTO:-0500
TZNAME:CDT
DTSTART:20170312T080000
END:DAYLIGHT
BEGIN:STANDARD
TZOFFSETFROM:-0500
TZOFFSETTO:-0600
TZNAME:CST
DTSTART:20171105T070000
END:STANDARD
BEGIN:DAYLIGHT
TZOFFSETFROM:-0600
TZOFFSETTO:-0500
TZNAME:CDT
DTSTART:20180311T080000
END:DAYLIGHT
BEGIN:STANDARD
TZOFFSETFROM:-0500
TZOFFSETTO:-0600
TZNAME:CST
DTSTART:20181104T070000
END:STANDARD
END:VTIMEZONE
BEGIN:VTIMEZONE
TZID:America/New_York
BEGIN:DAYLIGHT
TZOFFSETFROM:-0500
TZOFFSETTO:-0400
TZNAME:EDT
DTSTART:20160313T070000
END:DAYLIGHT
BEGIN:STANDARD
TZOFFSETFROM:-0400
TZOFFSETTO:-0500
TZNAME:EST
DTSTART:20161106T060000
END:STANDARD
BEGIN:DAYLIGHT
TZOFFSETFROM:-0500
TZOFFSETTO:-0400
TZNAME:EDT
DTSTART:20170312T070000
END:DAYLIGHT
BEGIN:STANDARD
TZOFFSETFROM:-0400
TZOFFSETTO:-0500
TZNAME:EST
DTSTART:20171105T060000
END:STANDARD
BEGIN:DAYLIGHT
TZOFFSETFROM:-0500
TZOFFSETTO:-0400
TZNAME:EDT
DTSTART:20180311T070000
END:DAYLIGHT
BEGIN:STANDARD
TZOFFSETFROM:-0400
TZOFFSETTO:-0500
TZNAME:EST
DTSTART:20181104T060000
END:STANDARD
END:VTIMEZONE
BEGIN:VEVENT
DTSTART;TZID=America/Chicago:20171008T140000
DTEND;TZID=America/Chicago:20171008T153000
DTSTAMP:20260419T212500
CREATED:20170518T211307Z
LAST-MODIFIED:20171003T135513Z
UID:10007039-1507471200-1507476600@www.rockford.edu
SUMMARY:Xanadu
DESCRIPTION:Don’t miss the disco party that ensues when a beautiful Greek muse and her sisters come back to earth to help a struggling chalk artist fulfill his wildest dreams. Roller skates\, leg warmers\, Venice Beach\, and 1980s pop-rock hits will permeate Maddox Theatre in this laugh-out-loud parody of the cult movie classic of the same name.
URL:https://www.rockford.edu/calendar-item/xanadu-2017-10-08/
LOCATION:Maddox Theatre\, 5050 E. State St. \, Rockford\, IL\, 61108\, United States
CATEGORIES:Campus Wide Event (Public),PA Performance,Student Activities
GEO:42.264048;-89.0197327
X-APPLE-STRUCTURED-LOCATION;VALUE=URI;X-ADDRESS=Maddox Theatre 5050 E. State St.  Rockford IL 61108 United States;X-APPLE-RADIUS=500;X-TITLE=5050 E. State St.:geo:-89.0197327,42.264048
END:VEVENT
BEGIN:VEVENT
DTSTART;TZID=America/New_York:20171009T120000
DTEND;TZID=America/New_York:20171009T130000
DTSTAMP:20260419T212500
CREATED:20170911T141941Z
LAST-MODIFIED:20170911T164944Z
UID:10007287-1507550400-1507554000@www.rockford.edu
SUMMARY:BYOLunch Faculty Lunches
DESCRIPTION:Please join us for this academic year’s weekly Faculty Lunches on Mondays\, noon-12:50 p.m.\, in the President’s Dining Room in Burpee. Please note that the October 23 and 30 lunches will take place in the Rare Book Room of Colman Library\, and that we will not meet for Faculty Lunches on the Mondays before Fall Break and Thanksgiving. Please see the complete list of dates and locations below. \nFall 2017 – Mondays\, Noon-12:50 p.m.\n Sept. 11\, 18\, 25 – President’s Dining Room\n Oct. 2 & 9 – President’s Dining Room\n Oct. 23 & 30 Rare Book Room\n Nov. 6\, 13\, 27 & Dec. 4 – President’s Dining Room \nSpring 2018 – All of the spring 2018 lunches will take place in the President’s Dining Room – Mondays\, Noon-12:50 p.m.\n Jan. 29\n Feb. 5\, 12\, 19\, 26\n Mar. 5\, 19\, 26\n Apr. 2\, 9\, 16\, 23\, 30\n May 7 \nThank you!
URL:https://www.rockford.edu/calendar-item/byolunch-faculty-lunches-mondays-noon/2017-10-09/
LOCATION:Rockford University\, 5050 E. State St. \, Rockford\, IL\, 61108\, United States
CATEGORIES:CARE
GEO:42.2640342;-89.0197305
X-APPLE-STRUCTURED-LOCATION;VALUE=URI;X-ADDRESS=Rockford University 5050 E. State St.  Rockford IL 61108 United States;X-APPLE-RADIUS=500;X-TITLE=5050 E. State St.:geo:-89.0197305,42.2640342
END:VEVENT
BEGIN:VEVENT
DTSTART;TZID=America/New_York:20171009T150000
DTEND;TZID=America/New_York:20171009T180000
DTSTAMP:20260419T212500
CREATED:20170831T193152Z
LAST-MODIFIED:20171004T190506Z
UID:10007268-1507561200-1507572000@www.rockford.edu
SUMMARY:Art Gallery Hours
DESCRIPTION:Visit the gallery from 3-6pm to see Stephen Cartwright’s solo exhibition\, “Surface Elements” at the Rockford University Art Gallery in the Clark Arts Center. \nFor 18 years\, Stephen Cartwright has recorded his exact latitude\, longitude and elevation for every hour of every day. He incorporates this data into digital and sculptural work that intersects the realms of science and art. Using this and other self-recorded data\, Cartwright creates bold\, minimal landscape sculptures and digital media projects that explore topography\, temperature\, light\, and movement.
URL:https://www.rockford.edu/calendar-item/art-gallery-hours/2017-10-09/
LOCATION:Clark Arts Center\, 5050 E. State St. \, Rockford\, IL\, 61108\, United States
CATEGORIES:Campus Wide Event (Public)
ATTACH;FMTTYPE=image/jpeg:https://www.rockford.edu/wp-content/uploads/2017/08/IMG_9673edited.jpg
ORGANIZER;CN="Art Gallery":MAILTO:cwarzecha@rockford.edu
GEO:42.2640342;-89.0197305
X-APPLE-STRUCTURED-LOCATION;VALUE=URI;X-ADDRESS=Clark Arts Center 5050 E. State St.  Rockford IL 61108 United States;X-APPLE-RADIUS=500;X-TITLE=5050 E. State St.:geo:-89.0197305,42.2640342
END:VEVENT
BEGIN:VEVENT
DTSTART;TZID=America/New_York:20171010T150000
DTEND;TZID=America/New_York:20171010T160000
DTSTAMP:20260419T212500
CREATED:20171004T160014Z
LAST-MODIFIED:20171004T161640Z
UID:10006983-1507647600-1507651200@www.rockford.edu
SUMMARY:Responsible Employee Training: New Employees
DESCRIPTION:All Employees of Rockford University are required to complete Responsible Employee Training surrounding Title IX /sexual misconduct and gender-based harassment\, discrimination\, and retaliation of persons harmed or wronged. This session is for New Employees of Rockford University who participated fall new employee orientation. Additional training information will be provided when you register.  Contact\, equitytraining@rockford.edu if you have questions.
URL:https://www.rockford.edu/calendar-item/responsible-employee-training-new-employees-2/
LOCATION:Rockford University\, 5050 E. State St. \, Rockford\, IL\, 61108\, United States
CATEGORIES:Title IX
GEO:42.2640342;-89.0197305
X-APPLE-STRUCTURED-LOCATION;VALUE=URI;X-ADDRESS=Rockford University 5050 E. State St.  Rockford IL 61108 United States;X-APPLE-RADIUS=500;X-TITLE=5050 E. State St.:geo:-89.0197305,42.2640342
END:VEVENT
BEGIN:VEVENT
DTSTART;TZID=America/New_York:20171011T000000
DTEND;TZID=America/New_York:20171017T233000
DTSTAMP:20260419T212500
CREATED:20170629T155206Z
LAST-MODIFIED:20170629T155206Z
UID:10007098-1507680000-1508283000@www.rockford.edu
SUMMARY:Midterm Exams
DESCRIPTION:View the full Academic Calendar 2017-18
URL:https://www.rockford.edu/calendar-item/midterm-exams/
LOCATION:Rockford University\, 5050 E. State St. \, Rockford\, IL\, 61108\, United States
CATEGORIES:Academic Calendar,Campus Wide Event (Public)
GEO:42.2640342;-89.0197305
X-APPLE-STRUCTURED-LOCATION;VALUE=URI;X-ADDRESS=Rockford University 5050 E. State St.  Rockford IL 61108 United States;X-APPLE-RADIUS=500;X-TITLE=5050 E. State St.:geo:-89.0197305,42.2640342
END:VEVENT
BEGIN:VEVENT
DTSTART;TZID=America/New_York:20171011T130000
DTEND;TZID=America/New_York:20171011T141500
DTSTAMP:20260419T212500
CREATED:20171004T151619Z
LAST-MODIFIED:20171004T152635Z
UID:10006976-1507726800-1507731300@www.rockford.edu
SUMMARY:Annual Responsible Employee Training: Fall Renewal
DESCRIPTION:All Employees of Rockford University are required to complete Responsible Employee Training surrounding Title IX/sexual misconduct and gender-based harassment\, discrimination\, and retaliation of persons harmed or wronged. This interactive workshop is for employees renewing their annual training from fall 2016. Additional details are provided when you register online. Questions about the training may be directed to Compliance and Title IX Officer\, LaShun McGhee\, 815-226-2842
URL:https://www.rockford.edu/calendar-item/annual-responsible-employee-training-fall-renewal/
LOCATION:Rockford University\, 5050 E. State St. \, Rockford\, IL\, 61108\, United States
CATEGORIES:Title IX
GEO:42.2640342;-89.0197305
X-APPLE-STRUCTURED-LOCATION;VALUE=URI;X-ADDRESS=Rockford University 5050 E. State St.  Rockford IL 61108 United States;X-APPLE-RADIUS=500;X-TITLE=5050 E. State St.:geo:-89.0197305,42.2640342
END:VEVENT
BEGIN:VEVENT
DTSTART;TZID=America/New_York:20171011T150000
DTEND;TZID=America/New_York:20171011T180000
DTSTAMP:20260419T212500
CREATED:20170831T193152Z
LAST-MODIFIED:20171004T190506Z
UID:10007269-1507734000-1507744800@www.rockford.edu
SUMMARY:Art Gallery Hours
DESCRIPTION:Visit the gallery from 3-6pm to see Stephen Cartwright’s solo exhibition\, “Surface Elements” at the Rockford University Art Gallery in the Clark Arts Center. \nFor 18 years\, Stephen Cartwright has recorded his exact latitude\, longitude and elevation for every hour of every day. He incorporates this data into digital and sculptural work that intersects the realms of science and art. Using this and other self-recorded data\, Cartwright creates bold\, minimal landscape sculptures and digital media projects that explore topography\, temperature\, light\, and movement.
URL:https://www.rockford.edu/calendar-item/art-gallery-hours/2017-10-11/
LOCATION:Clark Arts Center\, 5050 E. State St. \, Rockford\, IL\, 61108\, United States
CATEGORIES:Campus Wide Event (Public)
ATTACH;FMTTYPE=image/jpeg:https://www.rockford.edu/wp-content/uploads/2017/08/IMG_9673edited.jpg
ORGANIZER;CN="Art Gallery":MAILTO:cwarzecha@rockford.edu
GEO:42.2640342;-89.0197305
X-APPLE-STRUCTURED-LOCATION;VALUE=URI;X-ADDRESS=Clark Arts Center 5050 E. State St.  Rockford IL 61108 United States;X-APPLE-RADIUS=500;X-TITLE=5050 E. State St.:geo:-89.0197305,42.2640342
END:VEVENT
BEGIN:VEVENT
DTSTART;TZID=America/New_York:20171012T083000
DTEND;TZID=America/New_York:20171012T094500
DTSTAMP:20260419T212500
CREATED:20171004T152522Z
LAST-MODIFIED:20171004T152522Z
UID:10006979-1507797000-1507801500@www.rockford.edu
SUMMARY:Annual Responsible Employee Training: Fall Renewal
DESCRIPTION:All Employees of Rockford University are required to complete Responsible Employee Training surrounding Title IX/sexual misconduct and gender-based harassment\, discrimination\, and retaliation of persons harmed or wronged. This interactive workshop is for employees renewing their annual training from fall 2016. Additional details are provided when you register online. Questions about the training may be directed to Compliance and Title IX Officer\, LaShun McGhee\, 815-226-2842.
URL:https://www.rockford.edu/calendar-item/annual-responsible-employee-training-fall-renewal-3/
LOCATION:Rockford University\, 5050 E. State St. \, Rockford\, IL\, 61108\, United States
CATEGORIES:Title IX
GEO:42.2640342;-89.0197305
X-APPLE-STRUCTURED-LOCATION;VALUE=URI;X-ADDRESS=Rockford University 5050 E. State St.  Rockford IL 61108 United States;X-APPLE-RADIUS=500;X-TITLE=5050 E. State St.:geo:-89.0197305,42.2640342
END:VEVENT
BEGIN:VEVENT
DTSTART;VALUE=DATE:20171013
DTEND;VALUE=DATE:20171015
DTSTAMP:20260419T212500
CREATED:20170517T170206Z
LAST-MODIFIED:20170828T222301Z
UID:10007037-1507852800-1508025599@www.rockford.edu
SUMMARY:Homecoming@Reunion
DESCRIPTION:Save the date: Reunion 2017\n  October 13 and 14\, 2017 \nWhen were you last on campus? Has it been 5\, 10\, 25 or even 50 years? However long it may have been\, now is the time to start thinking about your return to Rockford for a weekend with fellow Regents\, current students and favorite faculty. \nWe hope you will join us for a weekend of celebrating being a Regent! We look forward all the activities including campus tours\, musical performances\, sporting events\, award presentations\, Golden Grad celebrations\, lectures\, and an appearance from mascot Reggie the Regent. We hope you will be able to join us. Online registration and registration brochure will be available soon. \nSpecial weekend activities will revolve around the classes listed below\, but everyone is welcome! If you would like to become more involved and help create a fun-filled and meaningful time for your class\, please contact the Alumni Office at alumni@rockford.edu\, 815-394-5111 or register online. \nClass of 1967 celebrates their 50th reunion!\n Class of 1992 celebrates their 25th reunion! \nWhile the above classes will be celebrating specific reunion years\, Homecoming@Reunion is open to everyone!
URL:https://www.rockford.edu/calendar-item/reunionhomecoming/
LOCATION:Rockford University\, 5050 E. State St. \, Rockford\, IL\, 61108\, United States
CATEGORIES:Alumni,Campus Wide Event (Public)
GEO:42.2640342;-89.0197305
X-APPLE-STRUCTURED-LOCATION;VALUE=URI;X-ADDRESS=Rockford University 5050 E. State St.  Rockford IL 61108 United States;X-APPLE-RADIUS=500;X-TITLE=5050 E. State St.:geo:-89.0197305,42.2640342
END:VEVENT
BEGIN:VEVENT
DTSTART;TZID=America/New_York:20171013T150000
DTEND;TZID=America/New_York:20171013T180000
DTSTAMP:20260419T212500
CREATED:20170831T193152Z
LAST-MODIFIED:20171004T190506Z
UID:10007270-1507906800-1507917600@www.rockford.edu
SUMMARY:Art Gallery Hours
DESCRIPTION:Visit the gallery from 3-6pm to see Stephen Cartwright’s solo exhibition\, “Surface Elements” at the Rockford University Art Gallery in the Clark Arts Center. \nFor 18 years\, Stephen Cartwright has recorded his exact latitude\, longitude and elevation for every hour of every day. He incorporates this data into digital and sculptural work that intersects the realms of science and art. Using this and other self-recorded data\, Cartwright creates bold\, minimal landscape sculptures and digital media projects that explore topography\, temperature\, light\, and movement.
URL:https://www.rockford.edu/calendar-item/art-gallery-hours/2017-10-13/
LOCATION:Clark Arts Center\, 5050 E. State St. \, Rockford\, IL\, 61108\, United States
CATEGORIES:Campus Wide Event (Public)
ATTACH;FMTTYPE=image/jpeg:https://www.rockford.edu/wp-content/uploads/2017/08/IMG_9673edited.jpg
ORGANIZER;CN="Art Gallery":MAILTO:cwarzecha@rockford.edu
GEO:42.2640342;-89.0197305
X-APPLE-STRUCTURED-LOCATION;VALUE=URI;X-ADDRESS=Clark Arts Center 5050 E. State St.  Rockford IL 61108 United States;X-APPLE-RADIUS=500;X-TITLE=5050 E. State St.:geo:-89.0197305,42.2640342
END:VEVENT
BEGIN:VEVENT
DTSTART;TZID=America/Chicago:20171013T193000
DTEND;TZID=America/Chicago:20171013T210000
DTSTAMP:20260419T212500
CREATED:20170518T212248Z
LAST-MODIFIED:20170831T140757Z
UID:10007042-1507923000-1507928400@www.rockford.edu
SUMMARY:Rockford City Dance Festival
DESCRIPTION:The Rockford City Dance Festival\, now in its fourth year\, brings together professional and pre-professional dance companies from Rockford and the surrounding area\, performing original modern and ballet dance. Featured artists include Rockford University’s Orchesis Dance Company\, Bad Wolf Dance Theatre\, Without Shoes Modern Dance Company\, Maria Castello and Jacques Saint-Cyr\, and more.  
URL:https://www.rockford.edu/calendar-item/rockford-city-dance-festival/2017-10-13/
LOCATION:Clark Arts Center\, 5050 E. State St. \, Rockford\, IL\, 61108\, United States
CATEGORIES:Campus Wide Event (Public),PA Performance
GEO:42.2640342;-89.0197305
X-APPLE-STRUCTURED-LOCATION;VALUE=URI;X-ADDRESS=Clark Arts Center 5050 E. State St.  Rockford IL 61108 United States;X-APPLE-RADIUS=500;X-TITLE=5050 E. State St.:geo:-89.0197305,42.2640342
END:VEVENT
BEGIN:VEVENT
DTSTART;VALUE=DATE:20171014
DTEND;VALUE=DATE:20171015
DTSTAMP:20260419T212500
CREATED:20170720T155410Z
LAST-MODIFIED:20170814T172649Z
UID:10004345-1507939200-1508025599@www.rockford.edu
SUMMARY:Homecoming Game
DESCRIPTION:More information to come. \nView the full Academic Calendar 2017-18
URL:https://www.rockford.edu/calendar-item/homecoming-game/
LOCATION:Rockford University\, 5050 E. State St. \, Rockford\, IL\, 61108\, United States
CATEGORIES:Academic Calendar,Campus Wide Event (Public)
ORGANIZER;CN="Student Involvement and Orientation":MAILTO:LKeller@Rockford.edu
GEO:42.2640342;-89.0197305
X-APPLE-STRUCTURED-LOCATION;VALUE=URI;X-ADDRESS=Rockford University 5050 E. State St.  Rockford IL 61108 United States;X-APPLE-RADIUS=500;X-TITLE=5050 E. State St.:geo:-89.0197305,42.2640342
END:VEVENT
BEGIN:VEVENT
DTSTART;TZID=America/New_York:20171014T100000
DTEND;TZID=America/New_York:20171014T110000
DTSTAMP:20260419T212500
CREATED:20171010T185640Z
LAST-MODIFIED:20171010T192906Z
UID:10007318-1507975200-1507978800@www.rockford.edu
SUMMARY:Regents 5K Run/Walk
DESCRIPTION:Start your day with a 5K! On Saturday\, Oct. 14\, the annual Regents 5K Run/Walk will start at 10 a.m. in Parking Lot A. Dr. Jason Hunter’s Sports Management classes have organized the race route and will run the event. Come on out to support the Sports Management student project\, and enjoy running/walking the route as it winds through our beautiful campus. Register online at rockford.edu! 
URL:https://www.rockford.edu/calendar-item/regents-5k-runwalk/
LOCATION:Rockford University\, 5050 E. State St. \, Rockford\, IL\, 61108\, United States
CATEGORIES:Alumni,Campus Wide Event (Public)
GEO:42.2640342;-89.0197305
X-APPLE-STRUCTURED-LOCATION;VALUE=URI;X-ADDRESS=Rockford University 5050 E. State St.  Rockford IL 61108 United States;X-APPLE-RADIUS=500;X-TITLE=5050 E. State St.:geo:-89.0197305,42.2640342
END:VEVENT
BEGIN:VEVENT
DTSTART;TZID=America/Chicago:20171014T193000
DTEND;TZID=America/Chicago:20171014T210000
DTSTAMP:20260419T212500
CREATED:20170518T212248Z
LAST-MODIFIED:20170831T140757Z
UID:10007043-1508009400-1508014800@www.rockford.edu
SUMMARY:Rockford City Dance Festival
DESCRIPTION:The Rockford City Dance Festival\, now in its fourth year\, brings together professional and pre-professional dance companies from Rockford and the surrounding area\, performing original modern and ballet dance. Featured artists include Rockford University’s Orchesis Dance Company\, Bad Wolf Dance Theatre\, Without Shoes Modern Dance Company\, Maria Castello and Jacques Saint-Cyr\, and more.  
URL:https://www.rockford.edu/calendar-item/rockford-city-dance-festival/2017-10-14/
LOCATION:Clark Arts Center\, 5050 E. State St. \, Rockford\, IL\, 61108\, United States
CATEGORIES:Campus Wide Event (Public),PA Performance
GEO:42.2640342;-89.0197305
X-APPLE-STRUCTURED-LOCATION;VALUE=URI;X-ADDRESS=Clark Arts Center 5050 E. State St.  Rockford IL 61108 United States;X-APPLE-RADIUS=500;X-TITLE=5050 E. State St.:geo:-89.0197305,42.2640342
END:VEVENT
BEGIN:VEVENT
DTSTART;TZID=America/New_York:20171014T210000
DTEND;TZID=America/New_York:20171014T233000
DTSTAMP:20260419T212500
CREATED:20171013T221630Z
LAST-MODIFIED:20180815T150835Z
UID:10007328-1508014800-1508023800@www.rockford.edu
SUMMARY:Homecoming Dance
DESCRIPTION:Join the Campus Activities Board as they host the Homecoming 2017 Dance in Scarborough Hall Lobby \n*This is a Student Activities sponsored event and is only open to the Rockford University campus community.​​
URL:https://www.rockford.edu/calendar-item/homecoming-dance/
LOCATION:Scarborough Hall – Computer Lab D\, 5050 E. State St.\, Rockford\, IL\, 61108\, United States
CATEGORIES:Campus Activities Board,Student Activities
ORGANIZER;CN="Student Activities":MAILTO:APJohnson@rockford.edu
GEO:42.2640342;-89.0197305
X-APPLE-STRUCTURED-LOCATION;VALUE=URI;X-ADDRESS=Scarborough Hall – Computer Lab D 5050 E. State St. Rockford IL 61108 United States;X-APPLE-RADIUS=500;X-TITLE=5050 E. State St.:geo:-89.0197305,42.2640342
END:VEVENT
END:VCALENDAR