BEGIN:VCALENDAR
VERSION:2.0
PRODID:-//Rockford University - ECPv6.15.20//NONSGML v1.0//EN
CALSCALE:GREGORIAN
METHOD:PUBLISH
X-ORIGINAL-URL:https://www.rockford.edu
X-WR-CALDESC:Events for Rockford University
REFRESH-INTERVAL;VALUE=DURATION:PT1H
X-Robots-Tag:noindex
X-PUBLISHED-TTL:PT1H
BEGIN:VTIMEZONE
TZID:America/New_York
BEGIN:DAYLIGHT
TZOFFSETFROM:-0500
TZOFFSETTO:-0400
TZNAME:EDT
DTSTART:20160313T070000
END:DAYLIGHT
BEGIN:STANDARD
TZOFFSETFROM:-0400
TZOFFSETTO:-0500
TZNAME:EST
DTSTART:20161106T060000
END:STANDARD
BEGIN:DAYLIGHT
TZOFFSETFROM:-0500
TZOFFSETTO:-0400
TZNAME:EDT
DTSTART:20170312T070000
END:DAYLIGHT
BEGIN:STANDARD
TZOFFSETFROM:-0400
TZOFFSETTO:-0500
TZNAME:EST
DTSTART:20171105T060000
END:STANDARD
BEGIN:DAYLIGHT
TZOFFSETFROM:-0500
TZOFFSETTO:-0400
TZNAME:EDT
DTSTART:20180311T070000
END:DAYLIGHT
BEGIN:STANDARD
TZOFFSETFROM:-0400
TZOFFSETTO:-0500
TZNAME:EST
DTSTART:20181104T060000
END:STANDARD
END:VTIMEZONE
BEGIN:VEVENT
DTSTART;TZID=America/New_York:20170819T080000
DTEND;TZID=America/New_York:20170822T233000
DTSTAMP:20260424T173718
CREATED:20170629T152927Z
LAST-MODIFIED:20170809T182507Z
UID:10004297-1503129600-1503444600@www.rockford.edu
SUMMARY:Welcome Week
DESCRIPTION:More information at https://www.rockford.edu/admission/admitted/orientation/
URL:https://www.rockford.edu/calendar-item/welcome-week/
LOCATION:Rockford University\, 5050 E. State St. \, Rockford\, IL\, 61108\, United States
CATEGORIES:Academic Calendar,Campus Wide Event (Public)
ORGANIZER;CN="Student Involvement and Orientation":MAILTO:LKeller@Rockford.edu
GEO:42.2640342;-89.0197305
X-APPLE-STRUCTURED-LOCATION;VALUE=URI;X-ADDRESS=Rockford University 5050 E. State St.  Rockford IL 61108 United States;X-APPLE-RADIUS=500;X-TITLE=5050 E. State St.:geo:-89.0197305,42.2640342
END:VEVENT
BEGIN:VEVENT
DTSTART;TZID=America/New_York:20170821T190000
DTEND;TZID=America/New_York:20170821T203000
DTSTAMP:20260424T173718
CREATED:20170807T203616Z
LAST-MODIFIED:20170807T203616Z
UID:10004384-1503342000-1503347400@www.rockford.edu
SUMMARY:Magician - James David
DESCRIPTION:James returns to Rockford University! His show last year impressed students and had students talking! He delivers a highly entertaining stage show. Audiences are always amazed by his talent.
URL:https://www.rockford.edu/calendar-item/magician-james-david-2/
LOCATION:Maddox Theatre – Clark Arts Center\, 5050 E. State St. \, Rockford\, IL\, 61108\, United States
CATEGORIES:Campus Closed
ORGANIZER;CN="Student Activities":MAILTO:APJohnson@rockford.edu
GEO:42.2640342;-89.0197305
X-APPLE-STRUCTURED-LOCATION;VALUE=URI;X-ADDRESS=Maddox Theatre – Clark Arts Center 5050 E. State St.  Rockford IL 61108 United States;X-APPLE-RADIUS=500;X-TITLE=5050 E. State St.:geo:-89.0197305,42.2640342
END:VEVENT
BEGIN:VEVENT
DTSTART;VALUE=DATE:20170822
DTEND;VALUE=DATE:20170823
DTSTAMP:20260424T173718
CREATED:20170629T153112Z
LAST-MODIFIED:20170629T153112Z
UID:10007073-1503360000-1503446399@www.rockford.edu
SUMMARY:Advising and Registration for all new students
DESCRIPTION:More information to come.
URL:https://www.rockford.edu/calendar-item/advising-registration-new-students/
LOCATION:Rockford University\, 5050 E. State St. \, Rockford\, IL\, 61108\, United States
CATEGORIES:Academic Calendar,Campus Wide Event (Public)
ORGANIZER;CN="Student Involvement and Orientation":MAILTO:LKeller@Rockford.edu
GEO:42.2640342;-89.0197305
X-APPLE-STRUCTURED-LOCATION;VALUE=URI;X-ADDRESS=Rockford University 5050 E. State St.  Rockford IL 61108 United States;X-APPLE-RADIUS=500;X-TITLE=5050 E. State St.:geo:-89.0197305,42.2640342
END:VEVENT
BEGIN:VEVENT
DTSTART;TZID=America/New_York:20170822T143000
DTEND;TZID=America/New_York:20170822T173000
DTSTAMP:20260424T173718
CREATED:20170807T203651Z
LAST-MODIFIED:20170807T203703Z
UID:10004386-1503412200-1503423000@www.rockford.edu
SUMMARY:Club Fair
DESCRIPTION:Come see all of the club and organizations Rockford University has to offer and discover all the ways to get involved on campus at the Club Fair.
URL:https://www.rockford.edu/calendar-item/club-fair/
LOCATION:Rockford University\, 5050 E. State St. \, Rockford\, IL\, 61108\, United States
CATEGORIES:Campus Activities Board,Campus Closed,Clubs & Orgs
ORGANIZER;CN="Student Activities":MAILTO:APJohnson@rockford.edu
GEO:42.2640342;-89.0197305
X-APPLE-STRUCTURED-LOCATION;VALUE=URI;X-ADDRESS=Rockford University 5050 E. State St.  Rockford IL 61108 United States;X-APPLE-RADIUS=500;X-TITLE=5050 E. State St.:geo:-89.0197305,42.2640342
END:VEVENT
BEGIN:VEVENT
DTSTART;TZID=America/New_York:20170822T173000
DTEND;TZID=America/New_York:20170822T210000
DTSTAMP:20260424T173718
CREATED:20170807T203806Z
LAST-MODIFIED:20170807T203806Z
UID:10007207-1503423000-1503435600@www.rockford.edu
SUMMARY:Fall Kick-Off Celebration
DESCRIPTION:Kick off the academic year with style at this campus-wide picnic for all students\, faculty\, and staff members. There will be a DJ\, inflatables and FIREWORKS!
URL:https://www.rockford.edu/calendar-item/fall-kick-off-celebration/
LOCATION:Rockford University\, 5050 E. State St. \, Rockford\, IL\, 61108\, United States
CATEGORIES:Campus Closed
ORGANIZER;CN="Student Activities":MAILTO:APJohnson@rockford.edu
GEO:42.2640342;-89.0197305
X-APPLE-STRUCTURED-LOCATION;VALUE=URI;X-ADDRESS=Rockford University 5050 E. State St.  Rockford IL 61108 United States;X-APPLE-RADIUS=500;X-TITLE=5050 E. State St.:geo:-89.0197305,42.2640342
END:VEVENT
BEGIN:VEVENT
DTSTART;VALUE=DATE:20170823
DTEND;VALUE=DATE:20170824
DTSTAMP:20260424T173718
CREATED:20170629T153309Z
LAST-MODIFIED:20170629T153309Z
UID:10007075-1503446400-1503532799@www.rockford.edu
SUMMARY:First Day of Class
DESCRIPTION:
URL:https://www.rockford.edu/calendar-item/first-day-class/
LOCATION:Rockford University\, 5050 E. State St. \, Rockford\, IL\, 61108\, United States
CATEGORIES:Academic Calendar,Campus Wide Event (Public)
GEO:42.2640342;-89.0197305
X-APPLE-STRUCTURED-LOCATION;VALUE=URI;X-ADDRESS=Rockford University 5050 E. State St.  Rockford IL 61108 United States;X-APPLE-RADIUS=500;X-TITLE=5050 E. State St.:geo:-89.0197305,42.2640342
END:VEVENT
BEGIN:VEVENT
DTSTART;TZID=America/New_York:20170824T130000
DTEND;TZID=America/New_York:20170824T140000
DTSTAMP:20260424T173718
CREATED:20170614T140426Z
LAST-MODIFIED:20170614T140426Z
UID:10007071-1503579600-1503583200@www.rockford.edu
SUMMARY:Staff Meeting
DESCRIPTION:
URL:https://www.rockford.edu/calendar-item/staff-meeting-3/
LOCATION:Fisher Memorial Chapel – Rockford University\, 5050 E. State St. \, Rockford\, IL\, 61108\, United States
GEO:42.264048;-89.0197327
X-APPLE-STRUCTURED-LOCATION;VALUE=URI;X-ADDRESS=Fisher Memorial Chapel – Rockford University 5050 E. State St.  Rockford IL 61108 United States;X-APPLE-RADIUS=500;X-TITLE=5050 E. State St.:geo:-89.0197327,42.264048
END:VEVENT
BEGIN:VEVENT
DTSTART;TZID=America/New_York:20170825T120000
DTEND;TZID=America/New_York:20170825T130000
DTSTAMP:20260424T173718
CREATED:20170629T153816Z
LAST-MODIFIED:20170629T153816Z
UID:10007077-1503662400-1503666000@www.rockford.edu
SUMMARY:President's Opening Convocation
DESCRIPTION:Time to be determined.
URL:https://www.rockford.edu/calendar-item/presidents-opening-convocation/
LOCATION:Maddox Theatre – Clark Arts Center\, 5050 E. State St. \, Rockford\, IL\, 61108\, United States
CATEGORIES:Academic Calendar,Campus Wide Event (Public)
GEO:42.2640342;-89.0197305
X-APPLE-STRUCTURED-LOCATION;VALUE=URI;X-ADDRESS=Maddox Theatre – Clark Arts Center 5050 E. State St.  Rockford IL 61108 United States;X-APPLE-RADIUS=500;X-TITLE=5050 E. State St.:geo:-89.0197305,42.2640342
END:VEVENT
END:VCALENDAR