BEGIN:VCALENDAR
VERSION:2.0
PRODID:-//Rockford University - ECPv6.15.19//NONSGML v1.0//EN
CALSCALE:GREGORIAN
METHOD:PUBLISH
X-WR-CALNAME:Rockford University
X-ORIGINAL-URL:https://www.rockford.edu
X-WR-CALDESC:Events for Rockford University
REFRESH-INTERVAL;VALUE=DURATION:PT1H
X-Robots-Tag:noindex
X-PUBLISHED-TTL:PT1H
BEGIN:VTIMEZONE
TZID:America/Chicago
BEGIN:DAYLIGHT
TZOFFSETFROM:-0600
TZOFFSETTO:-0500
TZNAME:CDT
DTSTART:20180311T080000
END:DAYLIGHT
BEGIN:STANDARD
TZOFFSETFROM:-0500
TZOFFSETTO:-0600
TZNAME:CST
DTSTART:20181104T070000
END:STANDARD
BEGIN:DAYLIGHT
TZOFFSETFROM:-0600
TZOFFSETTO:-0500
TZNAME:CDT
DTSTART:20190310T080000
END:DAYLIGHT
BEGIN:STANDARD
TZOFFSETFROM:-0500
TZOFFSETTO:-0600
TZNAME:CST
DTSTART:20191103T070000
END:STANDARD
BEGIN:DAYLIGHT
TZOFFSETFROM:-0600
TZOFFSETTO:-0500
TZNAME:CDT
DTSTART:20200308T080000
END:DAYLIGHT
BEGIN:STANDARD
TZOFFSETFROM:-0500
TZOFFSETTO:-0600
TZNAME:CST
DTSTART:20201101T070000
END:STANDARD
END:VTIMEZONE
BEGIN:VEVENT
DTSTART;TZID=America/Chicago:20190117T160000
DTEND;TZID=America/Chicago:20190117T193000
DTSTAMP:20260420T080712
CREATED:20181010T175505Z
LAST-MODIFIED:20190111T183643Z
UID:10007708-1547740800-1547753400@www.rockford.edu
SUMMARY:Northern Illinois High School Math Competition
DESCRIPTION:Rockford University welcomes eleven regional high schools to campus Thursday\, Jan 17\, 2019 for the 14th NIATM Math Invitational\, the Northern Illinois Association of Teachers of Mathematics’ annual math competition. \nThe invitational\, organized and hosted by Math Program faculty\, is set for 4:00-7:30 p.m. in the Starr Science Center. \nHundreds of competitors from 11 local high schools—Belvidere\, Boylan\, Byron\, Harlem\, Hononegah\, Rochelle\, Rockford Christian\, Stillman Valley\, Winnebago\, Woodstock and Woodstock North—will attend the event with their coaches and guardians for individual and team tests in several disciplines. \nFor more information\, please contact the organizer Dr. Filiz Dik at fdik@rockford.edu
URL:https://www.rockford.edu/calendar-item/high-school-math-competition/
LOCATION:Starr Science Center\, 5050 E. State St. \, Rockford\, IL\, 61108\, United States
CATEGORIES:Campus Wide Event (Public),Student Activities
GEO:42.2640342;-89.0197305
X-APPLE-STRUCTURED-LOCATION;VALUE=URI;X-ADDRESS=Starr Science Center 5050 E. State St.  Rockford IL 61108 United States;X-APPLE-RADIUS=500;X-TITLE=5050 E. State St.:geo:-89.0197305,42.2640342
END:VEVENT
END:VCALENDAR