BEGIN:VCALENDAR
VERSION:2.0
PRODID:-//Rockford University - ECPv6.15.19//NONSGML v1.0//EN
CALSCALE:GREGORIAN
METHOD:PUBLISH
X-WR-CALNAME:Rockford University
X-ORIGINAL-URL:https://www.rockford.edu
X-WR-CALDESC:Events for Rockford University
REFRESH-INTERVAL;VALUE=DURATION:PT1H
X-Robots-Tag:noindex
X-PUBLISHED-TTL:PT1H
BEGIN:VTIMEZONE
TZID:America/Chicago
BEGIN:DAYLIGHT
TZOFFSETFROM:-0600
TZOFFSETTO:-0500
TZNAME:CDT
DTSTART:20170312T080000
END:DAYLIGHT
BEGIN:STANDARD
TZOFFSETFROM:-0500
TZOFFSETTO:-0600
TZNAME:CST
DTSTART:20171105T070000
END:STANDARD
BEGIN:DAYLIGHT
TZOFFSETFROM:-0600
TZOFFSETTO:-0500
TZNAME:CDT
DTSTART:20180311T080000
END:DAYLIGHT
BEGIN:STANDARD
TZOFFSETFROM:-0500
TZOFFSETTO:-0600
TZNAME:CST
DTSTART:20181104T070000
END:STANDARD
BEGIN:DAYLIGHT
TZOFFSETFROM:-0600
TZOFFSETTO:-0500
TZNAME:CDT
DTSTART:20190310T080000
END:DAYLIGHT
BEGIN:STANDARD
TZOFFSETFROM:-0500
TZOFFSETTO:-0600
TZNAME:CST
DTSTART:20191103T070000
END:STANDARD
END:VTIMEZONE
BEGIN:VEVENT
DTSTART;TZID=America/Chicago:20181026T190000
DTEND;TZID=America/Chicago:20181026T203000
DTSTAMP:20260420T160954
CREATED:20181024T182318Z
LAST-MODIFIED:20181024T182318Z
UID:10007726-1540580400-1540585800@www.rockford.edu
SUMMARY:Regent Madness
DESCRIPTION:-Men’s/Women’s 3pt Contest\n-On-Court Fan Contests\n-Dunk Contest\n-Men’s Scrimmage \nFriday\, October 26 at 7 pm \nLocated in Seaver \n#Don’tBreak #RestoreTheRoar
URL:https://www.rockford.edu/calendar-item/regent-madness/
LOCATION:Seaver Physical Education Center\, 5050 E. State St. \, Rockford\, IL\, 61108\, United States
CATEGORIES:Campus Wide Event (Public),Student Activities
ATTACH;FMTTYPE=image/jpeg:https://www.rockford.edu/wp-content/uploads/2018/04/Student-Activities-1.jpg
GEO:42.2640342;-89.0197305
X-APPLE-STRUCTURED-LOCATION;VALUE=URI;X-ADDRESS=Seaver Physical Education Center 5050 E. State St.  Rockford IL 61108 United States;X-APPLE-RADIUS=500;X-TITLE=5050 E. State St.:geo:-89.0197305,42.2640342
END:VEVENT
BEGIN:VEVENT
DTSTART;TZID=America/Chicago:20181031T110000
DTEND;TZID=America/Chicago:20181031T130000
DTSTAMP:20260420T160954
CREATED:20181029T181015Z
LAST-MODIFIED:20181029T181015Z
UID:10007727-1540983600-1540990800@www.rockford.edu
SUMMARY:Cruelty-Free Halloween
DESCRIPTION:November is World Vegan Month! Celebrate with free vegan candy in the Den on Wednesday\, October 31 from 11am to 1pm.
URL:https://www.rockford.edu/calendar-item/cruelty-free-halloween/
LOCATION:The Den – Burpee Student Center\, IL
CATEGORIES:Campus Wide Event (Public),Student Activities
ORGANIZER;CN="Jane Addams Center for Civic Engagment":MAILTO:jacce@rockford.edu
GEO:40.6331249;-89.3985283
END:VEVENT
END:VCALENDAR