BEGIN:VCALENDAR
VERSION:2.0
PRODID:-//Rockford University - ECPv6.15.20//NONSGML v1.0//EN
CALSCALE:GREGORIAN
METHOD:PUBLISH
X-WR-CALNAME:Rockford University
X-ORIGINAL-URL:https://www.rockford.edu
X-WR-CALDESC:Events for Rockford University
REFRESH-INTERVAL;VALUE=DURATION:PT1H
X-Robots-Tag:noindex
X-PUBLISHED-TTL:PT1H
BEGIN:VTIMEZONE
TZID:America/New_York
BEGIN:DAYLIGHT
TZOFFSETFROM:-0500
TZOFFSETTO:-0400
TZNAME:EDT
DTSTART:20160313T070000
END:DAYLIGHT
BEGIN:STANDARD
TZOFFSETFROM:-0400
TZOFFSETTO:-0500
TZNAME:EST
DTSTART:20161106T060000
END:STANDARD
BEGIN:DAYLIGHT
TZOFFSETFROM:-0500
TZOFFSETTO:-0400
TZNAME:EDT
DTSTART:20170312T070000
END:DAYLIGHT
BEGIN:STANDARD
TZOFFSETFROM:-0400
TZOFFSETTO:-0500
TZNAME:EST
DTSTART:20171105T060000
END:STANDARD
BEGIN:DAYLIGHT
TZOFFSETFROM:-0500
TZOFFSETTO:-0400
TZNAME:EDT
DTSTART:20180311T070000
END:DAYLIGHT
BEGIN:STANDARD
TZOFFSETFROM:-0400
TZOFFSETTO:-0500
TZNAME:EST
DTSTART:20181104T060000
END:STANDARD
END:VTIMEZONE
BEGIN:VEVENT
DTSTART;TZID=America/New_York:20171207T120000
DTEND;TZID=America/New_York:20171207T170000
DTSTAMP:20260421T174510
CREATED:20171205T211136Z
LAST-MODIFIED:20180815T145804Z
UID:10007381-1512648000-1512666000@www.rockford.edu
SUMMARY:NAP ZONE
DESCRIPTION:Take a break from studying and come to the nap zone in the library’s rare book room from 12-5pm. Air Couches provided. \n*This is a Student Activities sponsored event and is only open to the Rockford University campus community.​​
URL:https://www.rockford.edu/calendar-item/nap-zone/
LOCATION:Rare Book Room – Howard Colman Library\, 5050 E. State St. \, Rockford\, IL\, 61108\, United States
CATEGORIES:Student Activities
ORGANIZER;CN="Student Activities":MAILTO:APJohnson@rockford.edu
GEO:42.2640342;-89.0197305
X-APPLE-STRUCTURED-LOCATION;VALUE=URI;X-ADDRESS=Rare Book Room – Howard Colman Library 5050 E. State St.  Rockford IL 61108 United States;X-APPLE-RADIUS=500;X-TITLE=5050 E. State St.:geo:-89.0197305,42.2640342
END:VEVENT
BEGIN:VEVENT
DTSTART;TZID=America/New_York:20171211T220000
DTEND;TZID=America/New_York:20171211T230000
DTSTAMP:20260421T174510
CREATED:20171204T231605Z
LAST-MODIFIED:20180828T175131Z
UID:10007378-1513029600-1513033200@www.rockford.edu
SUMMARY:Late Night Breakfast
DESCRIPTION:Get a hearty start to finals week with the annual Late Night Breakfast\, served up by RU faculty and staff in The Den\, Burpee Student Center. Be sure to bring your RU student ID. \n*This is a Student Activities sponsored event and is only open to the Rockford University campus community.​​
URL:https://www.rockford.edu/calendar-item/late-night-breakfast-2/
LOCATION:The Den – Burpee Student Center\, IL
CATEGORIES:Student Activities
GEO:40.6331249;-89.3985283
END:VEVENT
END:VCALENDAR