BEGIN:VCALENDAR
VERSION:2.0
PRODID:-//Rockford University - ECPv6.15.20//NONSGML v1.0//EN
CALSCALE:GREGORIAN
METHOD:PUBLISH
X-ORIGINAL-URL:https://www.rockford.edu
X-WR-CALDESC:Events for Rockford University
REFRESH-INTERVAL;VALUE=DURATION:PT1H
X-Robots-Tag:noindex
X-PUBLISHED-TTL:PT1H
BEGIN:VTIMEZONE
TZID:America/Chicago
BEGIN:DAYLIGHT
TZOFFSETFROM:-0600
TZOFFSETTO:-0500
TZNAME:CDT
DTSTART:20230312T080000
END:DAYLIGHT
BEGIN:STANDARD
TZOFFSETFROM:-0500
TZOFFSETTO:-0600
TZNAME:CST
DTSTART:20231105T070000
END:STANDARD
BEGIN:DAYLIGHT
TZOFFSETFROM:-0600
TZOFFSETTO:-0500
TZNAME:CDT
DTSTART:20240310T080000
END:DAYLIGHT
BEGIN:STANDARD
TZOFFSETFROM:-0500
TZOFFSETTO:-0600
TZNAME:CST
DTSTART:20241103T070000
END:STANDARD
BEGIN:DAYLIGHT
TZOFFSETFROM:-0600
TZOFFSETTO:-0500
TZNAME:CDT
DTSTART:20250309T080000
END:DAYLIGHT
BEGIN:STANDARD
TZOFFSETFROM:-0500
TZOFFSETTO:-0600
TZNAME:CST
DTSTART:20251102T070000
END:STANDARD
END:VTIMEZONE
BEGIN:VEVENT
DTSTART;TZID=America/Chicago:20240327T130000
DTEND;TZID=America/Chicago:20240327T160000
DTSTAMP:20260422T231927
CREATED:20240321T132302Z
LAST-MODIFIED:20240325T164954Z
UID:10008365-1711544400-1711555200@www.rockford.edu
SUMMARY:Spring Career and Internship Fair
DESCRIPTION:We’re excited to welcome you to the upcoming Rockford University Spring 2024 Career and Internship Fair! Whether you’re seeking internships\, full-time positions\, or simply exploring your options\, this event promises to be a valuable opportunity to connect with potential employers and make meaningful strides in your career journey. Over 50 employers will be present! \nDate: March 27th\, 2024\nTime: 1:00-4:00\nLocation: Regents Hall\, Burpee Student Center\, Rockford University\, 5050 E. State St.\, Rockford\, IL 61108 \nAdditional Offerings:\nFree Headshot Station: Make sure to look your best for professional profiles and applications by stopping by our free headshot station.\nCareer Closet: Need attire for the fair? The Career Closet will be open\, offering professional clothing options at no cost to you.\nRaffles and Giveaways: Don’t miss out on the chance to win exciting prizes and giveaways throughout the event. \nPrepare your resumes\, practice your elevator pitch\, and dress to impress! This is your opportunity to network with potential employers and take proactive steps toward your future career. \nWe look forward to seeing you at the Spring 2024 Career and Internship Fair!
URL:https://www.rockford.edu/calendar-item/spring-career-and-internship-fair/
LOCATION:Rockford University\, 5050 E. State St. \, Rockford\, IL\, 61108\, United States
CATEGORIES:Campus Wide Event (Public),Career Services Events
ATTACH;FMTTYPE=image/png:https://www.rockford.edu/wp-content/uploads/2024/03/Career-Fair-2024-Flyer.png
ORGANIZER;CN="Career Development":MAILTO:careers@rockford.edu
GEO:42.2640342;-89.0197305
X-APPLE-STRUCTURED-LOCATION;VALUE=URI;X-ADDRESS=Rockford University 5050 E. State St.  Rockford IL 61108 United States;X-APPLE-RADIUS=500;X-TITLE=5050 E. State St.:geo:-89.0197305,42.2640342
END:VEVENT
END:VCALENDAR