BEGIN:VCALENDAR
VERSION:2.0
PRODID:-//Rockford University - ECPv6.15.20//NONSGML v1.0//EN
CALSCALE:GREGORIAN
METHOD:PUBLISH
X-ORIGINAL-URL:https://www.rockford.edu
X-WR-CALDESC:Events for Rockford University
REFRESH-INTERVAL;VALUE=DURATION:PT1H
X-Robots-Tag:noindex
X-PUBLISHED-TTL:PT1H
BEGIN:VTIMEZONE
TZID:America/Chicago
BEGIN:DAYLIGHT
TZOFFSETFROM:-0600
TZOFFSETTO:-0500
TZNAME:CDT
DTSTART:20180311T080000
END:DAYLIGHT
BEGIN:STANDARD
TZOFFSETFROM:-0500
TZOFFSETTO:-0600
TZNAME:CST
DTSTART:20181104T070000
END:STANDARD
BEGIN:DAYLIGHT
TZOFFSETFROM:-0600
TZOFFSETTO:-0500
TZNAME:CDT
DTSTART:20190310T080000
END:DAYLIGHT
BEGIN:STANDARD
TZOFFSETFROM:-0500
TZOFFSETTO:-0600
TZNAME:CST
DTSTART:20191103T070000
END:STANDARD
BEGIN:DAYLIGHT
TZOFFSETFROM:-0600
TZOFFSETTO:-0500
TZNAME:CDT
DTSTART:20200308T080000
END:DAYLIGHT
BEGIN:STANDARD
TZOFFSETFROM:-0500
TZOFFSETTO:-0600
TZNAME:CST
DTSTART:20201101T070000
END:STANDARD
END:VTIMEZONE
BEGIN:VEVENT
DTSTART;TZID=America/Chicago:20190406T170000
DTEND;TZID=America/Chicago:20190406T200000
DTSTAMP:20260421T120857
CREATED:20181129T150721Z
LAST-MODIFIED:20190311T161923Z
UID:10007761-1554570000-1554580800@www.rockford.edu
SUMMARY:International Food Festival
DESCRIPTION:Come join the International students at Rockford University as they prepare a wide variety of international dishes for the University’s annual International Food Festival. \nThis event will take place on Saturday\, April 6 from 5 to 8 p.m.\, doors open at 4:30 p.m.\, in Regents Hall\, 2nd floor\, Burpee Center. \nSponsored by Rockford University’s Multicultural Club and the Office of Global Affairs\, the International Food Festival features authentic recipes from over 33 countries like Denmark\, Germany\, Philippines\, Japan\, China\, Sweden\, Turkey\, Syria\, Italy\, Saudi Arabia\, Mexico and France. Members from the Multicultural Club will prepare foods so that visitors can taste home cooked meals from their countries. International entertainment is also planned so that guests can enjoy traditional song and dance while they eat. Rockford University is currently home to more than 112 international students representing 23 countries.
URL:https://www.rockford.edu/calendar-item/international-food-festival-2/
LOCATION:Regents Hall – Burpee Student Center\, 5050 E. State St. \, Rockford\, IL\, 61108\, United States
CATEGORIES:Campus Wide Event (Public),Office of Global Affairs
GEO:42.2640342;-89.0197305
X-APPLE-STRUCTURED-LOCATION;VALUE=URI;X-ADDRESS=Regents Hall – Burpee Student Center 5050 E. State St.  Rockford IL 61108 United States;X-APPLE-RADIUS=500;X-TITLE=5050 E. State St.:geo:-89.0197305,42.2640342
END:VEVENT
END:VCALENDAR