BEGIN:VCALENDAR
VERSION:2.0
PRODID:-//Rockford University - ECPv6.15.20//NONSGML v1.0//EN
CALSCALE:GREGORIAN
METHOD:PUBLISH
X-WR-CALNAME:Rockford University
X-ORIGINAL-URL:https://www.rockford.edu
X-WR-CALDESC:Events for Rockford University
REFRESH-INTERVAL;VALUE=DURATION:PT1H
X-Robots-Tag:noindex
X-PUBLISHED-TTL:PT1H
BEGIN:VTIMEZONE
TZID:America/Chicago
BEGIN:DAYLIGHT
TZOFFSETFROM:-0600
TZOFFSETTO:-0500
TZNAME:CDT
DTSTART:20170312T080000
END:DAYLIGHT
BEGIN:STANDARD
TZOFFSETFROM:-0500
TZOFFSETTO:-0600
TZNAME:CST
DTSTART:20171105T070000
END:STANDARD
BEGIN:DAYLIGHT
TZOFFSETFROM:-0600
TZOFFSETTO:-0500
TZNAME:CDT
DTSTART:20180311T080000
END:DAYLIGHT
BEGIN:STANDARD
TZOFFSETFROM:-0500
TZOFFSETTO:-0600
TZNAME:CST
DTSTART:20181104T070000
END:STANDARD
BEGIN:DAYLIGHT
TZOFFSETFROM:-0600
TZOFFSETTO:-0500
TZNAME:CDT
DTSTART:20190310T080000
END:DAYLIGHT
BEGIN:STANDARD
TZOFFSETFROM:-0500
TZOFFSETTO:-0600
TZNAME:CST
DTSTART:20191103T070000
END:STANDARD
END:VTIMEZONE
BEGIN:VEVENT
DTSTART;TZID=America/Chicago:20181024T113000
DTEND;TZID=America/Chicago:20181024T130000
DTSTAMP:20260422T170104
CREATED:20181012T135939Z
LAST-MODIFIED:20181012T135939Z
UID:10007709-1540380600-1540386000@www.rockford.edu
SUMMARY:Sushi - Global Taste
DESCRIPTION:Sodexo and the Office of Global Affairs have teamed up for a very special Global Taste on October 24 in the cafeteria from 11:30-1. \nSodexo is bringing a sushi expert to campus who will make 1000 pieces of sushi which will be served in the cafeteria during the lunch hour. \nOur two students from Japan will be on hand to demonstrate sushi making and will teach students\, faculty and staff how to make their own sushi.
URL:https://www.rockford.edu/calendar-item/sushi-global-taste/
LOCATION:Cafeteria
CATEGORIES:Campus Wide Event (Public),Office of Global Affairs
ATTACH;FMTTYPE=image/jpeg:https://www.rockford.edu/wp-content/uploads/2018/04/Global-Affairs.jpg
END:VEVENT
END:VCALENDAR