BEGIN:VCALENDAR
VERSION:2.0
PRODID:-//Rockford University - ECPv6.15.20//NONSGML v1.0//EN
CALSCALE:GREGORIAN
METHOD:PUBLISH
X-WR-CALNAME:Rockford University
X-ORIGINAL-URL:https://www.rockford.edu
X-WR-CALDESC:Events for Rockford University
REFRESH-INTERVAL;VALUE=DURATION:PT1H
X-Robots-Tag:noindex
X-PUBLISHED-TTL:PT1H
BEGIN:VTIMEZONE
TZID:America/Chicago
BEGIN:DAYLIGHT
TZOFFSETFROM:-0600
TZOFFSETTO:-0500
TZNAME:CDT
DTSTART:20170312T080000
END:DAYLIGHT
BEGIN:STANDARD
TZOFFSETFROM:-0500
TZOFFSETTO:-0600
TZNAME:CST
DTSTART:20171105T070000
END:STANDARD
BEGIN:DAYLIGHT
TZOFFSETFROM:-0600
TZOFFSETTO:-0500
TZNAME:CDT
DTSTART:20180311T080000
END:DAYLIGHT
BEGIN:STANDARD
TZOFFSETFROM:-0500
TZOFFSETTO:-0600
TZNAME:CST
DTSTART:20181104T070000
END:STANDARD
BEGIN:DAYLIGHT
TZOFFSETFROM:-0600
TZOFFSETTO:-0500
TZNAME:CDT
DTSTART:20190310T080000
END:DAYLIGHT
BEGIN:STANDARD
TZOFFSETFROM:-0500
TZOFFSETTO:-0600
TZNAME:CST
DTSTART:20191103T070000
END:STANDARD
END:VTIMEZONE
BEGIN:VEVENT
DTSTART;TZID=America/Chicago:20180424T170000
DTEND;TZID=America/Chicago:20180424T200000
DTSTAMP:20260422T175359
CREATED:20180423T140655Z
LAST-MODIFIED:20180625T185101Z
UID:10007529-1524589200-1524600000@www.rockford.edu
SUMMARY:Portillo's Fundraiser for RU Spain Trip 2018 - Tuesday\, April 24\, 5-8 p.m.
DESCRIPTION:Please join us on Tuesday\, April 24\, from 5:00 p.m. to 8:00 p.m. at Portillo’s on State Street (6090 E. State Street) for a fundraiser for Rockford University’s Spain Trip 2018. Show this flyer on your smartphone for 20% of Tuesday evening’s proceeds to go to RU. \nTuesday\, April 24\, 2018\n5:00-8:00 p.m.\nPortillo’s\n6090 E. State Street\nRockford\, IL 61108 \nThank you! / Gracias!
URL:https://www.rockford.edu/calendar-item/portillos-fundraiser-for-ru-spain-trip-2018-tuesday-april-24-5-8-p-m/2018-04-24/
LOCATION:Portillo’s\, 6090 E. State Street\, Rockford\, IL\, 61108\, United States
CATEGORIES:Office of Global Affairs
END:VEVENT
BEGIN:VEVENT
DTSTART;TZID=America/Chicago:20180425T120000
DTEND;TZID=America/Chicago:20180425T130000
DTSTAMP:20260422T175359
CREATED:20180420T150225Z
LAST-MODIFIED:20180420T151906Z
UID:10007527-1524657600-1524661200@www.rockford.edu
SUMMARY:Council of Global Affairs Open Forum
DESCRIPTION:We would like to invite the faculty to join us in a Council Global Affairs Open Forum on Wednesday\, April 25\, 12-12:50 p.m. in the Rare Book Room to discuss global initiatives in our classrooms and on campus. Please feel free to stop in for all or part of the discussion. We will cover these main areas: \n· The role of the Council Global Affairs (CGA) at RU. (5 min.)\n · Teaching a diverse student population in the classroom. (10 min.)\n · Integrating academics and co/extracurricular activities. (10 min.)\n · Facilitating global and cross-cultural experiences. (10 min.)\n · Questions and conclusions. (10 min.) \nIn preparation\, we ask that you please respond to the following two questions: ​ \nhttps://goo.gl/forms/yd0ROo6OvNO2jQeV2 \nWe invite you to respond to these questions even if you cannot make it to the Open Forum. Thank you.
URL:https://www.rockford.edu/calendar-item/council-of-global-affairs-open-forum/
LOCATION:Rare Book Room – Howard Colman Library\, 5050 E. State St. \, Rockford\, IL\, 61108\, United States
CATEGORIES:Office of Global Affairs
GEO:42.2640342;-89.0197305
X-APPLE-STRUCTURED-LOCATION;VALUE=URI;X-ADDRESS=Rare Book Room – Howard Colman Library 5050 E. State St.  Rockford IL 61108 United States;X-APPLE-RADIUS=500;X-TITLE=5050 E. State St.:geo:-89.0197305,42.2640342
END:VEVENT
END:VCALENDAR