BEGIN:VCALENDAR
VERSION:2.0
PRODID:-//Rockford University - ECPv6.15.20//NONSGML v1.0//EN
CALSCALE:GREGORIAN
METHOD:PUBLISH
X-ORIGINAL-URL:https://www.rockford.edu
X-WR-CALDESC:Events for Rockford University
REFRESH-INTERVAL;VALUE=DURATION:PT1H
X-Robots-Tag:noindex
X-PUBLISHED-TTL:PT1H
BEGIN:VTIMEZONE
TZID:America/Chicago
BEGIN:DAYLIGHT
TZOFFSETFROM:-0600
TZOFFSETTO:-0500
TZNAME:CDT
DTSTART:20220313T080000
END:DAYLIGHT
BEGIN:STANDARD
TZOFFSETFROM:-0500
TZOFFSETTO:-0600
TZNAME:CST
DTSTART:20221106T070000
END:STANDARD
BEGIN:DAYLIGHT
TZOFFSETFROM:-0600
TZOFFSETTO:-0500
TZNAME:CDT
DTSTART:20230312T080000
END:DAYLIGHT
BEGIN:STANDARD
TZOFFSETFROM:-0500
TZOFFSETTO:-0600
TZNAME:CST
DTSTART:20231105T070000
END:STANDARD
BEGIN:DAYLIGHT
TZOFFSETFROM:-0600
TZOFFSETTO:-0500
TZNAME:CDT
DTSTART:20240310T080000
END:DAYLIGHT
BEGIN:STANDARD
TZOFFSETFROM:-0500
TZOFFSETTO:-0600
TZNAME:CST
DTSTART:20241103T070000
END:STANDARD
END:VTIMEZONE
BEGIN:VEVENT
DTSTART;TZID=America/Chicago:20230427T110000
DTEND;TZID=America/Chicago:20230427T230000
DTSTAMP:20260425T200947
CREATED:20230414T211611Z
LAST-MODIFIED:20230421T160654Z
UID:10008294-1682593200-1682636400@www.rockford.edu
SUMMARY:Day of Giving 2023 Celebration
DESCRIPTION:On April 27 we will celebrate our 9th Annual Day of Giving\, where all Regents come together to celebrate the amazing things happening at Rockford University. \nJoin us by making your gift of any size\, sharing on social media\, and stopping by our Day of Giving Celebration from 11 am – 1 pm outside the Johnson Alumni Center. Students\, faculty\, staff\, alumni\, and friends are all welcome! \nLEARN MORE/MAKE A GIFT\nFaculty/Staff Payroll Deduction Form HERE. (Any gifts made in advance and gifts already being made monthly for April will count toward Day of Giving and each donor will receive their tickets for our drawings during the Day of Giving Celebration.) \nCompetitions & Incentives: \n• Everyone is welcomed to join us from 11 am – 1 pm outside our Johnson Alumni Center for FREE food\, t-shirts to the first 50 guests\, pictures with Reggie\, time with the therapy dogs\, and anyone who makes a gift of any size is entered for both our pick-a-prize opportunity and our pick-a-pie opportunity (more details below)! We hope to see you there! \n• Every donor will be entered to win a $100 gift card from the Rockford University Spirit Shop \n• Make a gift of $25 or more to receive an entry to win TWO free tickets to our 2024 Gala \n• Donate a gift of at least $25 to receive your own Rockford University Blue-Blocker Glasses \n• Donate a gift of at least $75 to receive your own pair of Rockford University coasters \n• Sign up as an advocate\, and generate 5 gifts of any size from sharing on social\, receive your own Rockford University “Rolling R” t-shirt \nPICK-A-PRIZE & PICK-A-PIE DETAILS \nJoin us from 11 am – 1 pm outside the Johnson Alumni Center (or stop by our office any time if you can’t make the event) and make a gift of any size to receive one ticket for our Pick-A-Prize opportunity and Pick-A-Pie Opportunity. An additional entry is available for each $25 increment given. For the Pick-A-Prize\, you can place your ticket in the basket of any of the below prizes to have a chance at winning that prize. Each winning ticket will be drawn at the end of the business day (5p.m.) and all winners will be notified. For the Pick-A-Pie\, you can place your ticket in the basket of which EC member you would like to see get a (good-hearted) pie in the face during the End of Year Bash on Friday\, April 28. \nPick-A-Prize Options (THANK YOU to all our generous faculty/staff prize donors. Interested in donating a prize? Please contact Nicole Riley at NRiley@rockford.edu): \n\nMake Ice Cream in the Chemistry Lab\, Donated by Deb Breiter\nA Homemade Heart-Shaped Cake\, Donated by Kristen Clarke\nA Basket of Homemade Baked Goods by Brian Fisher\, Donated by Todd Fisher-Free\nA Historic Tour of Rockford\, Donated by Catherine Forslund\nA Homemade Chocolate Chocolate Chip Cheesecake\, Donated by James Marshall\nA Handmade Crocheted Scarf\, Donated by Jessica Morris\nA Handmade Crocheted Bag or Wallet\, Donated by Jen Ocampo\nA Salsa Dancing Lesson\, Donated by Luis Romero\nA Faculty/Staff/or Student Reserved Parking Space\, Donated by Advancement\n\nDon’t forget to follow us on Facebook for updates throughout the day\, including fun giveaways when we hit certain milestones!
URL:https://www.rockford.edu/calendar-item/day-of-giving-2023/
LOCATION:Rockford University\, 5050 E. State St. \, Rockford\, IL\, 61108\, United States
CATEGORIES:Alumni,Campus Wide Event (Public)
ATTACH;FMTTYPE=image/png:https://www.rockford.edu/wp-content/uploads/2023/04/DOG-2023-Banner.png
GEO:42.2640342;-89.0197305
X-APPLE-STRUCTURED-LOCATION;VALUE=URI;X-ADDRESS=Rockford University 5050 E. State St.  Rockford IL 61108 United States;X-APPLE-RADIUS=500;X-TITLE=5050 E. State St.:geo:-89.0197305,42.2640342
END:VEVENT
END:VCALENDAR