BEGIN:VCALENDAR
VERSION:2.0
PRODID:-//Rockford University - ECPv6.15.20//NONSGML v1.0//EN
CALSCALE:GREGORIAN
METHOD:PUBLISH
X-WR-CALNAME:Rockford University
X-ORIGINAL-URL:https://www.rockford.edu
X-WR-CALDESC:Events for Rockford University
REFRESH-INTERVAL;VALUE=DURATION:PT1H
X-Robots-Tag:noindex
X-PUBLISHED-TTL:PT1H
BEGIN:VTIMEZONE
TZID:America/Chicago
BEGIN:DAYLIGHT
TZOFFSETFROM:-0600
TZOFFSETTO:-0500
TZNAME:CDT
DTSTART:20210314T080000
END:DAYLIGHT
BEGIN:STANDARD
TZOFFSETFROM:-0500
TZOFFSETTO:-0600
TZNAME:CST
DTSTART:20211107T070000
END:STANDARD
BEGIN:DAYLIGHT
TZOFFSETFROM:-0600
TZOFFSETTO:-0500
TZNAME:CDT
DTSTART:20220313T080000
END:DAYLIGHT
BEGIN:STANDARD
TZOFFSETFROM:-0500
TZOFFSETTO:-0600
TZNAME:CST
DTSTART:20221106T070000
END:STANDARD
BEGIN:DAYLIGHT
TZOFFSETFROM:-0600
TZOFFSETTO:-0500
TZNAME:CDT
DTSTART:20230312T080000
END:DAYLIGHT
BEGIN:STANDARD
TZOFFSETFROM:-0500
TZOFFSETTO:-0600
TZNAME:CST
DTSTART:20231105T070000
END:STANDARD
END:VTIMEZONE
BEGIN:VEVENT
DTSTART;TZID=America/Chicago:20221103T193000
DTEND;TZID=America/Chicago:20221103T213000
DTSTAMP:20260425T084529
CREATED:20221025T183533Z
LAST-MODIFIED:20221025T183533Z
UID:10007660-1667503800-1667511000@www.rockford.edu
SUMMARY:These Shining Lives
DESCRIPTION:Event is free to students\, faculty\, and staff! Just show us your ID at the box office! Non-RU people may purchase tickets at the door. \nNovember 3-6\, 2022\, (Thursday-Saturday\, 7:30 p.m.; Sunday 2 p.m.)\nMaddox Theatre\, Clark Arts Center\nDirector\, Deborah Mogford\nThese Shining Lives is based on the true story of Catherine Donahue and her friends who worked for the Radium Dial Company\, a watch factory\, in Ottawa\, Illinois. The play chronicles the strength and determination of the women from the 1922 to 1938 as their lives are changed by the right to vote and the possibilities of jobs for women. This is an awe-inspiring story of survival and the fight to improve the working conditions for all in light of new scientific developments.
URL:https://www.rockford.edu/calendar-item/these-shining-lives/
LOCATION:Rockford University\, 5050 E. State St. \, Rockford\, IL\, 61108\, United States
CATEGORIES:Campus Wide Event (Public),PA Performance
ATTACH;FMTTYPE=image/jpeg:https://www.rockford.edu/wp-content/uploads/2022/10/TSL_11x17_Bleed_Final-1-scaled.jpg
GEO:42.2640342;-89.0197305
X-APPLE-STRUCTURED-LOCATION;VALUE=URI;X-ADDRESS=Rockford University 5050 E. State St.  Rockford IL 61108 United States;X-APPLE-RADIUS=500;X-TITLE=5050 E. State St.:geo:-89.0197305,42.2640342
END:VEVENT
END:VCALENDAR