BEGIN:VCALENDAR
VERSION:2.0
PRODID:-//Rockford University - ECPv6.15.20//NONSGML v1.0//EN
CALSCALE:GREGORIAN
METHOD:PUBLISH
X-WR-CALNAME:Rockford University
X-ORIGINAL-URL:https://www.rockford.edu
X-WR-CALDESC:Events for Rockford University
REFRESH-INTERVAL;VALUE=DURATION:PT1H
X-Robots-Tag:noindex
X-PUBLISHED-TTL:PT1H
BEGIN:VTIMEZONE
TZID:America/Chicago
BEGIN:DAYLIGHT
TZOFFSETFROM:-0600
TZOFFSETTO:-0500
TZNAME:CDT
DTSTART:20210314T080000
END:DAYLIGHT
BEGIN:STANDARD
TZOFFSETFROM:-0500
TZOFFSETTO:-0600
TZNAME:CST
DTSTART:20211107T070000
END:STANDARD
BEGIN:DAYLIGHT
TZOFFSETFROM:-0600
TZOFFSETTO:-0500
TZNAME:CDT
DTSTART:20220313T080000
END:DAYLIGHT
BEGIN:STANDARD
TZOFFSETFROM:-0500
TZOFFSETTO:-0600
TZNAME:CST
DTSTART:20221106T070000
END:STANDARD
BEGIN:DAYLIGHT
TZOFFSETFROM:-0600
TZOFFSETTO:-0500
TZNAME:CDT
DTSTART:20230312T080000
END:DAYLIGHT
BEGIN:STANDARD
TZOFFSETFROM:-0500
TZOFFSETTO:-0600
TZNAME:CST
DTSTART:20231105T070000
END:STANDARD
END:VTIMEZONE
BEGIN:VEVENT
DTSTART;TZID=America/Chicago:20220602T120000
DTEND;TZID=America/Chicago:20220602T200000
DTSTAMP:20260425T071208
CREATED:20220404T153924Z
LAST-MODIFIED:20220404T153924Z
UID:10008066-1654171200-1654200000@www.rockford.edu
SUMMARY:Regents Golf Playday 2022
DESCRIPTION:Please plan to join us for this fun tradition – a day of play to support Rockford University student-athletes! Take a break for an afternoon of golf\, drinks\, and dinner with friends and your favorite Regents. \nVisit rockford.edu/golfplayday to sign up.
URL:https://www.rockford.edu/calendar-item/regents-golf-playday-2022/
LOCATION:Aldeen Golf Club\, 1902 Reid Farm Rd\, Rockford\, IL\, 61107\, United States
CATEGORIES:Campus Wide Event (Public)
ATTACH;FMTTYPE=image/jpeg:https://www.rockford.edu/wp-content/uploads/2022/03/22-0072-GPD-2022_STD-web-banner-1200x416-1-scaled.jpg
END:VEVENT
END:VCALENDAR