BEGIN:VCALENDAR
VERSION:2.0
PRODID:-//Rockford University - ECPv6.15.20//NONSGML v1.0//EN
CALSCALE:GREGORIAN
METHOD:PUBLISH
X-ORIGINAL-URL:https://www.rockford.edu
X-WR-CALDESC:Events for Rockford University
REFRESH-INTERVAL;VALUE=DURATION:PT1H
X-Robots-Tag:noindex
X-PUBLISHED-TTL:PT1H
BEGIN:VTIMEZONE
TZID:America/Chicago
BEGIN:DAYLIGHT
TZOFFSETFROM:-0600
TZOFFSETTO:-0500
TZNAME:CDT
DTSTART:20210314T080000
END:DAYLIGHT
BEGIN:STANDARD
TZOFFSETFROM:-0500
TZOFFSETTO:-0600
TZNAME:CST
DTSTART:20211107T070000
END:STANDARD
BEGIN:DAYLIGHT
TZOFFSETFROM:-0600
TZOFFSETTO:-0500
TZNAME:CDT
DTSTART:20220313T080000
END:DAYLIGHT
BEGIN:STANDARD
TZOFFSETFROM:-0500
TZOFFSETTO:-0600
TZNAME:CST
DTSTART:20221106T070000
END:STANDARD
BEGIN:DAYLIGHT
TZOFFSETFROM:-0600
TZOFFSETTO:-0500
TZNAME:CDT
DTSTART:20230312T080000
END:DAYLIGHT
BEGIN:STANDARD
TZOFFSETFROM:-0500
TZOFFSETTO:-0600
TZNAME:CST
DTSTART:20231105T070000
END:STANDARD
END:VTIMEZONE
BEGIN:VEVENT
DTSTART;TZID=America/Chicago:20220224T193000
DTEND;TZID=America/Chicago:20220226T220000
DTSTAMP:20260424T211251
CREATED:20210727T131345Z
LAST-MODIFIED:20210922T164647Z
UID:10007580-1645731000-1645912800@www.rockford.edu
SUMMARY:The Revlon Girl
DESCRIPTION:The Revlon Girl (play)\nFebruary 24 – 27\, 2022 (Thursday-Saturday\, 7:30 p.m.; Sunday 2 p.m.)\nCheek Theatre\, Clark Arts Center\nDirector Prof. Deborah Mogford \nBy Neil Anthony Docking: The Revlon Girl tells the poignant story of a group of women who try to make sense of their lives after suffering a great loss in the October 1966 mining disaster of Aberfan\, Wales. It is a beautifully crafted and delicate story about friendship\, loss\, family\, community\, healing\, and hope. Neil Anthony Docking’s intelligent and sensitive script examines the process of grief\, redemption\, and the embracing of what is to move forward through the tears and laughter of women seeking to return to a sense of normality and embrace a different type of future. \nFor a list of all our performances please visit the Performing Arts webpage. https://www.rockford.edu/artslectures/performingarts/\nFor tickets\, call the Rockford University Box Office at (815) 226-4100. Adults $12\, Students & Seniors $9\nAll Rockford University students may receive one free ticket to each RU Performing Arts show.
URL:https://www.rockford.edu/calendar-item/the-revlon-girl-2/
LOCATION:Rockford University\, 5050 E. State St. \, Rockford\, IL\, 61108\, United States
CATEGORIES:Campus Wide Event (Public),PA Performance
ATTACH;FMTTYPE=image/png:https://www.rockford.edu/wp-content/uploads/2021/07/PA.png
GEO:42.2640342;-89.0197305
X-APPLE-STRUCTURED-LOCATION;VALUE=URI;X-ADDRESS=Rockford University 5050 E. State St.  Rockford IL 61108 United States;X-APPLE-RADIUS=500;X-TITLE=5050 E. State St.:geo:-89.0197305,42.2640342
END:VEVENT
BEGIN:VEVENT
DTSTART;TZID=America/Chicago:20220225T160000
DTEND;TZID=America/Chicago:20220225T173000
DTSTAMP:20260424T211251
CREATED:20220106T210221Z
LAST-MODIFIED:20220106T221703Z
UID:10007602-1645804800-1645810200@www.rockford.edu
SUMMARY:Charter Day Convocation
DESCRIPTION:This year’s Charter Day commemorates the 175th anniversary of the signing of the charter for Rockford University. The annual event will include special speaker and alumnus Dr. Charles Branham ’67\, and an academic procession of faculty in traditional robes depicting their rank\, with stoles representing their respective alma maters and degrees. \nView the full Academic Calendar 2021-22. 
URL:https://www.rockford.edu/calendar-item/charter-day-convocation-4/
LOCATION:Maddox Theatre – Clark Arts Center\, 5050 E. State St. \, Rockford\, IL\, 61108\, United States
CATEGORIES:Academic Calendar,Campus Wide Event (Public)
ATTACH;FMTTYPE=image/jpeg:https://www.rockford.edu/wp-content/uploads/2018/04/Academic-Calendar.jpg
ORGANIZER;CN="Forum Series":MAILTO:boxoffice@rockford.edu
GEO:42.2640342;-89.0197305
X-APPLE-STRUCTURED-LOCATION;VALUE=URI;X-ADDRESS=Maddox Theatre – Clark Arts Center 5050 E. State St.  Rockford IL 61108 United States;X-APPLE-RADIUS=500;X-TITLE=5050 E. State St.:geo:-89.0197305,42.2640342
END:VEVENT
BEGIN:VEVENT
DTSTART;TZID=America/Chicago:20220226T170000
DTEND;TZID=America/Chicago:20220226T190000
DTSTAMP:20260424T211251
CREATED:20220106T211010Z
LAST-MODIFIED:20220106T211010Z
UID:10007604-1645894800-1645902000@www.rockford.edu
SUMMARY:175th Gallery Exhibition Opening
DESCRIPTION:An array of historical artifacts from the university’s archives will be on display in this unique and engaging exhibit\, which will run for two weeks\, closing on Friday\, March 11\, 2022. \nJoin us for an evening cocktail reception to open the exhibit and immerse yourself in the little-seen relics of our past.
URL:https://www.rockford.edu/calendar-item/175th-gallery-exhibition-opening/
LOCATION:Rockford University Art Gallery – Clark Arts Center\, 5050 E. State St. \, Rockford\, IL\, 61108\, United States
CATEGORIES:Campus Wide Event (Public)
ATTACH;FMTTYPE=image/jpeg:https://www.rockford.edu/wp-content/uploads/2018/04/Art-Gallery-1.jpg
ORGANIZER;CN="Tara Vanden Branden":MAILTO:tvandenbranden@rockford.edu
GEO:42.264048;-89.0197327
X-APPLE-STRUCTURED-LOCATION;VALUE=URI;X-ADDRESS=Rockford University Art Gallery – Clark Arts Center 5050 E. State St.  Rockford IL 61108 United States;X-APPLE-RADIUS=500;X-TITLE=5050 E. State St.:geo:-89.0197327,42.264048
END:VEVENT
END:VCALENDAR