BEGIN:VCALENDAR
VERSION:2.0
PRODID:-//Rockford University - ECPv6.15.20//NONSGML v1.0//EN
CALSCALE:GREGORIAN
METHOD:PUBLISH
X-ORIGINAL-URL:https://www.rockford.edu
X-WR-CALDESC:Events for Rockford University
REFRESH-INTERVAL;VALUE=DURATION:PT1H
X-Robots-Tag:noindex
X-PUBLISHED-TTL:PT1H
BEGIN:VTIMEZONE
TZID:America/Chicago
BEGIN:DAYLIGHT
TZOFFSETFROM:-0600
TZOFFSETTO:-0500
TZNAME:CDT
DTSTART:20200308T080000
END:DAYLIGHT
BEGIN:STANDARD
TZOFFSETFROM:-0500
TZOFFSETTO:-0600
TZNAME:CST
DTSTART:20201101T070000
END:STANDARD
BEGIN:DAYLIGHT
TZOFFSETFROM:-0600
TZOFFSETTO:-0500
TZNAME:CDT
DTSTART:20210314T080000
END:DAYLIGHT
BEGIN:STANDARD
TZOFFSETFROM:-0500
TZOFFSETTO:-0600
TZNAME:CST
DTSTART:20211107T070000
END:STANDARD
BEGIN:DAYLIGHT
TZOFFSETFROM:-0600
TZOFFSETTO:-0500
TZNAME:CDT
DTSTART:20220313T080000
END:DAYLIGHT
BEGIN:STANDARD
TZOFFSETFROM:-0500
TZOFFSETTO:-0600
TZNAME:CST
DTSTART:20221106T070000
END:STANDARD
END:VTIMEZONE
BEGIN:VEVENT
DTSTART;TZID=America/Chicago:20211116T183000
DTEND;TZID=America/Chicago:20211116T200000
DTSTAMP:20260424T170116
CREATED:20211025T174736Z
LAST-MODIFIED:20211025T174736Z
UID:10007590-1637087400-1637092800@www.rockford.edu
SUMMARY:Forum Series - Human Library
DESCRIPTION:Join us for the first Forum event of Fall 2021 – Human Library. The Human Library is a library of people. Since 2000\, Human Library events have featured human beings serving as open books\, allowing interactive conversations that the audience would not normally have access to. Every human book represents a group in our society that is often subjected to prejudice\, stigmatization or discrimination because of their lifestyle\, diagnosis\, belief\, disability\, social status\, or ethnic origin. Join us for the amazing event!
URL:https://www.rockford.edu/calendar-item/forum-series-human-library/
LOCATION:Regents Hall – Burpee Student Center\, 5050 E. State St. \, Rockford\, IL\, 61108\, United States
CATEGORIES:Campus Wide Event (Public),Forum Series
ATTACH;FMTTYPE=image/jpeg:https://www.rockford.edu/wp-content/uploads/2018/04/Forum-Series-1.jpg
ORGANIZER;CN="Forum Series":MAILTO:boxoffice@rockford.edu
GEO:42.2640342;-89.0197305
X-APPLE-STRUCTURED-LOCATION;VALUE=URI;X-ADDRESS=Regents Hall – Burpee Student Center 5050 E. State St.  Rockford IL 61108 United States;X-APPLE-RADIUS=500;X-TITLE=5050 E. State St.:geo:-89.0197305,42.2640342
END:VEVENT
BEGIN:VEVENT
DTSTART;TZID=America/Chicago:20211117T123000
DTEND;TZID=America/Chicago:20211117T140000
DTSTAMP:20260424T170116
CREATED:20211109T211644Z
LAST-MODIFIED:20211109T212052Z
UID:10007596-1637152200-1637157600@www.rockford.edu
SUMMARY:Courageous Conversation: Balancing Parenting and College
DESCRIPTION:Please join us in Fisher Chapel at 12:30PM on Wednesday\, November 17 for a town hall on Balancing Parenting and College. \nThis discussion is part of the ongoing Courageous Conversations event series brought to you by the Jane Addams Center and our partners. It is open to parents and non-parents alike. Anybody who is interested in learning more about what life is like as a parent at RU–and how our University can better support our students who are parents–is welcome to attend. \nA light snack and beverage will be provided. \nBring your stories to share! \nFor questions\, please contact Rachel Rushing at rr092736@rockford.edu.
URL:https://www.rockford.edu/calendar-item/courageous-conversation-balancing-parenting-and-college/
LOCATION:Fisher Memorial Chapel – Rockford University\, 5050 E. State St. \, Rockford\, IL\, 61108\, United States
CATEGORIES:Academic Calendar,Campus Wide Event (Public),Jane Adams Center for Civic Engagement (JACCE)
ATTACH;FMTTYPE=image/png:https://www.rockford.edu/wp-content/uploads/2021/11/balancingparentingandcollege.png
ORGANIZER;CN="Jane Addams Center for Civic Engagment":MAILTO:jacce@rockford.edu
GEO:42.264048;-89.0197327
X-APPLE-STRUCTURED-LOCATION;VALUE=URI;X-ADDRESS=Fisher Memorial Chapel – Rockford University 5050 E. State St.  Rockford IL 61108 United States;X-APPLE-RADIUS=500;X-TITLE=5050 E. State St.:geo:-89.0197327,42.264048
END:VEVENT
BEGIN:VEVENT
DTSTART;TZID=America/Chicago:20211117T183000
DTEND;TZID=America/Chicago:20211117T193000
DTSTAMP:20260424T170117
CREATED:20211109T211615Z
LAST-MODIFIED:20211109T212113Z
UID:10007594-1637173800-1637177400@www.rockford.edu
SUMMARY:CLS Success Workshop: Study Tips for Finals
DESCRIPTION:Join the CLS for the Rock Solid Success Workshop Series focusing on Study Tips For Finals. CLS peer tutors and fellow students will be sharing proven success strategies! *Counts toward study table hours*
URL:https://www.rockford.edu/calendar-item/cls-success-workshop-study-tips-for-finals/
LOCATION:Fisher Memorial Chapel – Rockford University\, 5050 E. State St. \, Rockford\, IL\, 61108\, United States
CATEGORIES:Academic Calendar,Campus Wide Event (Public),Center for Learning Strategies
GEO:42.264048;-89.0197327
X-APPLE-STRUCTURED-LOCATION;VALUE=URI;X-ADDRESS=Fisher Memorial Chapel – Rockford University 5050 E. State St.  Rockford IL 61108 United States;X-APPLE-RADIUS=500;X-TITLE=5050 E. State St.:geo:-89.0197327,42.264048
END:VEVENT
BEGIN:VEVENT
DTSTART;TZID=America/Chicago:20211118T193000
DTEND;TZID=America/Chicago:20211120T220000
DTSTAMP:20260424T170117
CREATED:20210727T131244Z
LAST-MODIFIED:20210922T164801Z
UID:10007578-1637263800-1637445600@www.rockford.edu
SUMMARY:The Beaux’ Stratagem
DESCRIPTION:The Beaux’ Stratagem (play)\nNovember\, 18 – 21\, 2021 (Thursday-Saturday\, 7:30 p.m.; Sunday 2 p.m.)\nMaddox Theatre\, Clark Arts Center\nDirector\, Prof. Deborah Mogford \nThornton Wilder and Ken Ludwig’s adaptation of George Farquhar classic 18th century farce\, The Beaux’ Stratagem\, tells the tale of Aimwell and Archer\, two charming\, dissolute young men who have spent their fortunes carousing in London. Now shamed and debt-ridden\, they flee to provincial Lichfield. They decide the only way to recover their wealth is to marry for money. They take rooms at the local inn posing as master and servant. While in town they encounter the young\, beautiful\, wealthy\, and perceptive Dorinda and Mrs. Sullen. Will the Beaux\, Aimwell and Archer\, succeed in their stratagem? That remains to be seen because here in this seemly gentle countryside they encounter a teeming variety of human obstacles to their marriage plans: a crooked landlord\, a fearsome highwayman\, a fervent French Count\, a maid on the make\, a drunken husband\, a furious butler\, a natural healer of dubious abilities\, and a strange\, turbulent priest. Maybe\, if they can survive the misunderstandings\, mistaken identities\, and masterly sword play they may attain both wealth and love. \nFor a list of all our performances please visit the Performing Arts webpage. https://www.rockford.edu/artslectures/performingarts/\nFor tickets\, call the Rockford University Box Office at (815) 226-4100. Adults $12\, Students & Seniors $9\nAll Rockford University students may receive one free ticket to each RU show.
URL:https://www.rockford.edu/calendar-item/the-beaux-stratagem-2/
LOCATION:Maddox Theatre – Clark Arts Center\, 5050 E. State St. \, Rockford\, IL\, 61108\, United States
CATEGORIES:Campus Wide Event (Public),PA Performance
ATTACH;FMTTYPE=image/png:https://www.rockford.edu/wp-content/uploads/2021/07/PA.png
GEO:42.2640342;-89.0197305
X-APPLE-STRUCTURED-LOCATION;VALUE=URI;X-ADDRESS=Maddox Theatre – Clark Arts Center 5050 E. State St.  Rockford IL 61108 United States;X-APPLE-RADIUS=500;X-TITLE=5050 E. State St.:geo:-89.0197305,42.2640342
END:VEVENT
END:VCALENDAR