BEGIN:VCALENDAR
VERSION:2.0
PRODID:-//Rockford University - ECPv6.15.20//NONSGML v1.0//EN
CALSCALE:GREGORIAN
METHOD:PUBLISH
X-WR-CALNAME:Rockford University
X-ORIGINAL-URL:https://www.rockford.edu
X-WR-CALDESC:Events for Rockford University
REFRESH-INTERVAL;VALUE=DURATION:PT1H
X-Robots-Tag:noindex
X-PUBLISHED-TTL:PT1H
BEGIN:VTIMEZONE
TZID:America/Chicago
BEGIN:DAYLIGHT
TZOFFSETFROM:-0600
TZOFFSETTO:-0500
TZNAME:CDT
DTSTART:20200308T080000
END:DAYLIGHT
BEGIN:STANDARD
TZOFFSETFROM:-0500
TZOFFSETTO:-0600
TZNAME:CST
DTSTART:20201101T070000
END:STANDARD
BEGIN:DAYLIGHT
TZOFFSETFROM:-0600
TZOFFSETTO:-0500
TZNAME:CDT
DTSTART:20210314T080000
END:DAYLIGHT
BEGIN:STANDARD
TZOFFSETFROM:-0500
TZOFFSETTO:-0600
TZNAME:CST
DTSTART:20211107T070000
END:STANDARD
BEGIN:DAYLIGHT
TZOFFSETFROM:-0600
TZOFFSETTO:-0500
TZNAME:CDT
DTSTART:20220313T080000
END:DAYLIGHT
BEGIN:STANDARD
TZOFFSETFROM:-0500
TZOFFSETTO:-0600
TZNAME:CST
DTSTART:20221106T070000
END:STANDARD
END:VTIMEZONE
BEGIN:VEVENT
DTSTART;VALUE=DATE:20210428
DTEND;VALUE=DATE:20210429
DTSTAMP:20260424T035432
CREATED:20210416T135547Z
LAST-MODIFIED:20210416T135706Z
UID:10007995-1619568000-1619654399@www.rockford.edu
SUMMARY:Day of Giving
DESCRIPTION:Join us this year for our Day of Giving on April 28. This Day of Giving\, we need your help as we seek to secure a record-setting amount of gifts to ensure our students can continue to succeed in the classroom\, in our community\, and in their careers. #RegentsAreResilient \nGive now and be counted. \nwww.rockford.edu/give/dayofgiving
URL:https://www.rockford.edu/calendar-item/day-of-giving-3/
LOCATION:Rockford University\, 5050 E. State St. \, Rockford\, IL\, 61108\, United States
CATEGORIES:Campus Wide Event (Public)
ATTACH;FMTTYPE=image/png:https://www.rockford.edu/wp-content/uploads/2021/04/day_of_giving2021logo_PURPLE.png
GEO:42.2640342;-89.0197305
X-APPLE-STRUCTURED-LOCATION;VALUE=URI;X-ADDRESS=Rockford University 5050 E. State St.  Rockford IL 61108 United States;X-APPLE-RADIUS=500;X-TITLE=5050 E. State St.:geo:-89.0197305,42.2640342
END:VEVENT
BEGIN:VEVENT
DTSTART;TZID=America/Chicago:20210428T110000
DTEND;TZID=America/Chicago:20210428T140000
DTSTAMP:20260424T035432
CREATED:20210202T215324Z
LAST-MODIFIED:20210326T190749Z
UID:10007987-1619607600-1619618400@www.rockford.edu
SUMMARY:Craft & Snack with Commuter Council
DESCRIPTION:Each Wednesday from 11 am – 2 pm\, you are invited to come by the Burpee Student Center Den for a free craft and snack with Commuter Council. We hope to see you there! As always\, masks and social distancing are required. Please bring your Student ID to check in to this event.
URL:https://www.rockford.edu/calendar-item/craft-snack-with-commuter-council/2021-04-28/
LOCATION:Blanche Walker Burpee Student Center\, 5050 East State St.\, Rockford\, IL\, 61108\, United States
CATEGORIES:Campus Wide Event (Public),Clubs & Orgs,Regent Experience,Student Activities
ORGANIZER;CN="Commuter Council":MAILTO:CommuterCouncil@rockford.edu
GEO:42.2696337;-89.0184645
X-APPLE-STRUCTURED-LOCATION;VALUE=URI;X-ADDRESS=Blanche Walker Burpee Student Center 5050 East State St. Rockford IL 61108 United States;X-APPLE-RADIUS=500;X-TITLE=5050 East State St.:geo:-89.0184645,42.2696337
END:VEVENT
END:VCALENDAR