BEGIN:VCALENDAR
VERSION:2.0
PRODID:-//Rockford University - ECPv6.15.20//NONSGML v1.0//EN
CALSCALE:GREGORIAN
METHOD:PUBLISH
X-WR-CALNAME:Rockford University
X-ORIGINAL-URL:https://www.rockford.edu
X-WR-CALDESC:Events for Rockford University
REFRESH-INTERVAL;VALUE=DURATION:PT1H
X-Robots-Tag:noindex
X-PUBLISHED-TTL:PT1H
BEGIN:VTIMEZONE
TZID:America/Chicago
BEGIN:DAYLIGHT
TZOFFSETFROM:-0600
TZOFFSETTO:-0500
TZNAME:CDT
DTSTART:20200308T080000
END:DAYLIGHT
BEGIN:STANDARD
TZOFFSETFROM:-0500
TZOFFSETTO:-0600
TZNAME:CST
DTSTART:20201101T070000
END:STANDARD
BEGIN:DAYLIGHT
TZOFFSETFROM:-0600
TZOFFSETTO:-0500
TZNAME:CDT
DTSTART:20210314T080000
END:DAYLIGHT
BEGIN:STANDARD
TZOFFSETFROM:-0500
TZOFFSETTO:-0600
TZNAME:CST
DTSTART:20211107T070000
END:STANDARD
BEGIN:DAYLIGHT
TZOFFSETFROM:-0600
TZOFFSETTO:-0500
TZNAME:CDT
DTSTART:20220313T080000
END:DAYLIGHT
BEGIN:STANDARD
TZOFFSETFROM:-0500
TZOFFSETTO:-0600
TZNAME:CST
DTSTART:20221106T070000
END:STANDARD
END:VTIMEZONE
BEGIN:VEVENT
DTSTART;TZID=America/Chicago:20210419T140000
DTEND;TZID=America/Chicago:20210419T150000
DTSTAMP:20260424T022826
CREATED:20210413T134410Z
LAST-MODIFIED:20210413T134652Z
UID:10007554-1618840800-1618844400@www.rockford.edu
SUMMARY:Student Job Opportunities for Fall 2021 Info Session
DESCRIPTION:Join the Center for Learning Strategies (CLS) to learn how to become a Supplemental Instruction (SI) Leader or Peer Tutor for the Fall 2021 Semester! We will discuss this great on-campus and/or virtual paid position. You will learn about the work schedules\, compensation\, job requirements\, and special training you can add to your resume! \nWhen: Monday\, April 19th @ 2:00 p.m. *Please Note the Day/Time Change* \nWhere: Online via Zoom – click here to join the sessions: https://rockford.zoom.us/j/6396316421 \nFor more information\, contact the CLS: (815) 226-4087 or CLStutor@rockford.edu
URL:https://www.rockford.edu/calendar-item/student-job-opportunities-for-fall-2021-info-session/
LOCATION:Zoom\, IL\, United States
CATEGORIES:Campus Wide Event (Public),Center for Learning Strategies,Regent Experience
ATTACH;FMTTYPE=image/jpeg:https://www.rockford.edu/wp-content/uploads/2018/04/Academic-Calendar.jpg
END:VEVENT
BEGIN:VEVENT
DTSTART;TZID=America/Chicago:20210421T110000
DTEND;TZID=America/Chicago:20210421T140000
DTSTAMP:20260424T022826
CREATED:20210202T215324Z
LAST-MODIFIED:20210326T190749Z
UID:10007986-1619002800-1619013600@www.rockford.edu
SUMMARY:Craft & Snack with Commuter Council
DESCRIPTION:Each Wednesday from 11 am – 2 pm\, you are invited to come by the Burpee Student Center Den for a free craft and snack with Commuter Council. We hope to see you there! As always\, masks and social distancing are required. Please bring your Student ID to check in to this event.
URL:https://www.rockford.edu/calendar-item/craft-snack-with-commuter-council/2021-04-21/
LOCATION:Blanche Walker Burpee Student Center\, 5050 East State St.\, Rockford\, IL\, 61108\, United States
CATEGORIES:Campus Wide Event (Public),Clubs & Orgs,Regent Experience,Student Activities
ORGANIZER;CN="Commuter Council":MAILTO:CommuterCouncil@rockford.edu
GEO:42.2696337;-89.0184645
X-APPLE-STRUCTURED-LOCATION;VALUE=URI;X-ADDRESS=Blanche Walker Burpee Student Center 5050 East State St. Rockford IL 61108 United States;X-APPLE-RADIUS=500;X-TITLE=5050 East State St.:geo:-89.0184645,42.2696337
END:VEVENT
BEGIN:VEVENT
DTSTART;TZID=America/Chicago:20210421T120000
DTEND;TZID=America/Chicago:20210421T130000
DTSTAMP:20260424T022826
CREATED:20210413T154423Z
LAST-MODIFIED:20210413T154423Z
UID:10007993-1619006400-1619010000@www.rockford.edu
SUMMARY:CLS Student Group Discussion For First Generation College Students
DESCRIPTION:Are you the first in your family to attend college and earn a 4-year degree? The Center for Learning Strategies (CLS) would like to talk with you about your experience at Rockford University.  \nPlease join us for the student group conversation on Wednesday\, April 21st from 12 p.m. – 1 p.m. in Fisher Chapel.  \nWe are eager to learn about the accomplishments and challenges you’ve encountered on your college journey.  The first 20 student participants will receive a voucher to grab a free meal from Burpee!  Please view the attached flyer for more information.  If you have questions\, email us at RegentsFirst@rockford.edu. 
URL:https://www.rockford.edu/calendar-item/cls-student-group-discussion-for-first-generation-college-students/
LOCATION:Fisher Memorial Chapel\, Rockford University\, 5050 E. State St. \, Rockford\, IL\, 61108\, United States
CATEGORIES:Campus Wide Event (Public),Center for Learning Strategies,Regent Experience
ATTACH;FMTTYPE=image/png:https://www.rockford.edu/wp-content/uploads/2021/04/Regents-First-Focus-Group-Meeting.png
GEO:42.2640342;-89.0197305
X-APPLE-STRUCTURED-LOCATION;VALUE=URI;X-ADDRESS=Fisher Memorial Chapel Rockford University 5050 E. State St.  Rockford IL 61108 United States;X-APPLE-RADIUS=500;X-TITLE=5050 E. State St.:geo:-89.0197305,42.2640342
END:VEVENT
BEGIN:VEVENT
DTSTART;TZID=America/Chicago:20210421T143000
DTEND;TZID=America/Chicago:20210421T153000
DTSTAMP:20260424T022826
CREATED:20210413T154529Z
LAST-MODIFIED:20210413T154529Z
UID:10007994-1619015400-1619019000@www.rockford.edu
SUMMARY:CLS Faculty and Staff Group Discussion for First Generation College Students
DESCRIPTION:Are you the first in your family to attend college and earn a 4-year degree? The Center for Learning Strategies (CLS) would like to talk with you about your experience.   \nThe faculty and staff group conversation will take place on Wednesday\, April 21st from 2:30 p.m. – 3:30 p.m. on Zoom: https://rockford.zoom.us/j/9566641396 \nWe are eager to learn about the accomplishments and challenges you encountered on your college journey.  Please view the attached flyer for more information. If you have questions\, email us at RegentsFirst@rockford.edu. 
URL:https://www.rockford.edu/calendar-item/cls-faculty-and-staff-group-discussion-for-first-generation-college-students-2/
LOCATION:Zoom\, IL\, United States
CATEGORIES:Campus Wide Event (Public),Center for Learning Strategies
ATTACH;FMTTYPE=image/png:https://www.rockford.edu/wp-content/uploads/2021/04/Regents-First-Focus-Group-Meeting-1.png
END:VEVENT
END:VCALENDAR