BEGIN:VCALENDAR
VERSION:2.0
PRODID:-//Rockford University - ECPv6.15.20//NONSGML v1.0//EN
CALSCALE:GREGORIAN
METHOD:PUBLISH
X-ORIGINAL-URL:https://www.rockford.edu
X-WR-CALDESC:Events for Rockford University
REFRESH-INTERVAL;VALUE=DURATION:PT1H
X-Robots-Tag:noindex
X-PUBLISHED-TTL:PT1H
BEGIN:VTIMEZONE
TZID:America/Chicago
BEGIN:DAYLIGHT
TZOFFSETFROM:-0600
TZOFFSETTO:-0500
TZNAME:CDT
DTSTART:20200308T080000
END:DAYLIGHT
BEGIN:STANDARD
TZOFFSETFROM:-0500
TZOFFSETTO:-0600
TZNAME:CST
DTSTART:20201101T070000
END:STANDARD
BEGIN:DAYLIGHT
TZOFFSETFROM:-0600
TZOFFSETTO:-0500
TZNAME:CDT
DTSTART:20210314T080000
END:DAYLIGHT
BEGIN:STANDARD
TZOFFSETFROM:-0500
TZOFFSETTO:-0600
TZNAME:CST
DTSTART:20211107T070000
END:STANDARD
BEGIN:DAYLIGHT
TZOFFSETFROM:-0600
TZOFFSETTO:-0500
TZNAME:CDT
DTSTART:20220313T080000
END:DAYLIGHT
BEGIN:STANDARD
TZOFFSETFROM:-0500
TZOFFSETTO:-0600
TZNAME:CST
DTSTART:20221106T070000
END:STANDARD
END:VTIMEZONE
BEGIN:VEVENT
DTSTART;TZID=America/Chicago:20210217T110000
DTEND;TZID=America/Chicago:20210217T140000
DTSTAMP:20260424T022459
CREATED:20210202T215324Z
LAST-MODIFIED:20210211T191457Z
UID:10007988-1613559600-1613570400@www.rockford.edu
SUMMARY:Black History Month Craft & Snack with Commuter Council
DESCRIPTION:Each Wednesday from 11 am – 2 pm\, you are invited to come by the Burpee Student Center Den for a free craft and snack with Commuter Council. We hope to see you there! Activities this week include coloring pages\, stickers\, and iron on decals which celebrate Black History\, Hope\, & Peace. Snacks this week will feature baked goods from a local Black-owned business. As always\, masks and social distancing are required. Please bring your Student ID to check in to this event.
URL:https://www.rockford.edu/calendar-item/craft-snack-with-commuter-council-2021-02-17/
LOCATION:Blanche Walker Burpee Student Center\, 5050 East State St.\, Rockford\, IL\, 61108\, United States
CATEGORIES:Campus Wide Event (Public),Clubs & Orgs,Regent Experience,Student Activities
ORGANIZER;CN="Commuter Council":MAILTO:CommuterCouncil@rockford.edu
GEO:42.2696337;-89.0184645
X-APPLE-STRUCTURED-LOCATION;VALUE=URI;X-ADDRESS=Blanche Walker Burpee Student Center 5050 East State St. Rockford IL 61108 United States;X-APPLE-RADIUS=500;X-TITLE=5050 East State St.:geo:-89.0184645,42.2696337
END:VEVENT
BEGIN:VEVENT
DTSTART;TZID=America/Chicago:20210217T120000
DTEND;TZID=America/Chicago:20210217T130000
DTSTAMP:20260424T022459
CREATED:20210209T214400Z
LAST-MODIFIED:20210209T214400Z
UID:10007545-1613563200-1613566800@www.rockford.edu
SUMMARY:RU Career Closet & Professional Headshots
DESCRIPTION:The RU Career Closet is presented by the Rockford University’s Career Development Department. It is located in the Grace Roper Lounge of the Burpee Student Center. \nWhat is a Professional Headshot?  \nA professional headshot is a photograph you use to create a personal brand of who you are. Professional headshots focus on your upper body\, including your head and shoulders. Your professional headshot can be used for LinkedIn\, your email account\, your social media profile picture\, online portfolios you may have\, or your Zoom\, Google\, or Skype account for video interviews. \nHow can I get a Professional Headshot?  \nAs a bonus for registering for upcoming Career Exploration & Job Fair\, students can get a FREE professional headshot! To register for the fair\, go to rockford.edu/careerfair or register on-the-spot during the RU Career Closet event. \nWhat do I wear for my Professional Headshot? \nDress how you would for an interview for a job in your field. \nWhat is the RU Career Closet? \nThe Career Closet is a place where Rockford University Students can find professional clothing for FREE! The Career Closet is donation-driven and designed specifically for RU students who are looking for professional clothing to wear for an interview or for their first day on-the-job. The closet includes professional clothing of all types: dress pants\, shirts\, jackets\, dresses\, skirts\, ties and MORE! \nHow does it work? \nEach student will be allowed one outfit per semester and will need to show their Rockford University ID before looking through the Career Closet. Would YOU like to take a look at what the Career Closet has to offer? Make an appointment by emailing careers@rockford.edu or by attending our open hours during lunch. \nWhen is it open\, and where is it located? \nThe Career Closet is located in the Grace Roper Lounge of the Burpee Student Center. Visit it in February during the following dates and times: \n\nWednesday\, February 10 (12-1pm) – Grace Roper Lounge\, Burpee Student Center\nWednesday\, February 17 (12-1pm) – Grace Roper Lounge\, Burpee Student Center\n\nCan I donate to the RU Career Closet? \nYes! We accept donations year-round. New or like-new professional clothing can be taken to the Student Life Suite of the Burpee Student Center. Please ensure that they are clean\, unwrinkled\, and in new or like-new condition. Dress shoes will only be accepted in new condition. Contact Career Development at careers@rockford.edu with any questions. 
URL:https://www.rockford.edu/calendar-item/ru-career-closet-professional-headshots-2/
LOCATION:Rockford University\, 5050 E. State St. \, Rockford\, IL\, 61108\, United States
CATEGORIES:Campus Wide Event (Public),Career Services Events
ORGANIZER;CN="Career Development":MAILTO:careers@rockford.edu
GEO:42.2640342;-89.0197305
X-APPLE-STRUCTURED-LOCATION;VALUE=URI;X-ADDRESS=Rockford University 5050 E. State St.  Rockford IL 61108 United States;X-APPLE-RADIUS=500;X-TITLE=5050 E. State St.:geo:-89.0197305,42.2640342
END:VEVENT
END:VCALENDAR