BEGIN:VCALENDAR
VERSION:2.0
PRODID:-//Rockford University - ECPv6.15.20//NONSGML v1.0//EN
CALSCALE:GREGORIAN
METHOD:PUBLISH
X-ORIGINAL-URL:https://www.rockford.edu
X-WR-CALDESC:Events for Rockford University
REFRESH-INTERVAL;VALUE=DURATION:PT1H
X-Robots-Tag:noindex
X-PUBLISHED-TTL:PT1H
BEGIN:VTIMEZONE
TZID:America/Chicago
BEGIN:DAYLIGHT
TZOFFSETFROM:-0600
TZOFFSETTO:-0500
TZNAME:CDT
DTSTART:20200308T080000
END:DAYLIGHT
BEGIN:STANDARD
TZOFFSETFROM:-0500
TZOFFSETTO:-0600
TZNAME:CST
DTSTART:20201101T070000
END:STANDARD
BEGIN:DAYLIGHT
TZOFFSETFROM:-0600
TZOFFSETTO:-0500
TZNAME:CDT
DTSTART:20210314T080000
END:DAYLIGHT
BEGIN:STANDARD
TZOFFSETFROM:-0500
TZOFFSETTO:-0600
TZNAME:CST
DTSTART:20211107T070000
END:STANDARD
BEGIN:DAYLIGHT
TZOFFSETFROM:-0600
TZOFFSETTO:-0500
TZNAME:CDT
DTSTART:20220313T080000
END:DAYLIGHT
BEGIN:STANDARD
TZOFFSETFROM:-0500
TZOFFSETTO:-0600
TZNAME:CST
DTSTART:20221106T070000
END:STANDARD
END:VTIMEZONE
BEGIN:VEVENT
DTSTART;TZID=America/Chicago:20210208T150000
DTEND;TZID=America/Chicago:20210208T160000
DTSTAMP:20260424T005710
CREATED:20210129T170857Z
LAST-MODIFIED:20210129T170958Z
UID:10007972-1612796400-1612800000@www.rockford.edu
SUMMARY:Online Brown Bag – Dr. Mary Weaks-Baxter and Dr. Belinda Wholeben present “Jane Addams’ Education at Rockford Female Seminary”
DESCRIPTION:On Monday\, February 8\, at 3 p.m.\, Dr. Mary Weaks-Baxter\, Andrew H. Sherratt College Professor and Director of the Jane Addams Center\, and Dr. Belinda Wholeben\, Professor Emerita of Psychology and Founding Director of the Jane Addams Center\, will present “Jane Addams’ Education at Rockford Female Seminary\,” a talk on Addams’ education and experiences at Rockford Female Seminary (now Rockford University) and the influence of those years on Addams’ work at Hull House in Chicago. \nPlease use the following link: https://alumlc.org/rockford/5922.
URL:https://www.rockford.edu/calendar-item/online-brown-bag-dr-mary-weaks-baxter-and-dr-belinda-wholeben-present-jane-addams-education-at-rockford-female-seminary/
LOCATION:Rockford University\, 5050 E. State St. \, Rockford\, IL\, 61108\, United States
CATEGORIES:Academic Calendar,Campus Wide Event (Public)
ATTACH;FMTTYPE=image/png:https://www.rockford.edu/wp-content/uploads/2021/01/R-Seminary-campus.png
ORGANIZER;CN="Dr. Marilen Loyola":MAILTO:mloyola@rockford.edu
GEO:42.2640342;-89.0197305
X-APPLE-STRUCTURED-LOCATION;VALUE=URI;X-ADDRESS=Rockford University 5050 E. State St.  Rockford IL 61108 United States;X-APPLE-RADIUS=500;X-TITLE=5050 E. State St.:geo:-89.0197305,42.2640342
END:VEVENT
BEGIN:VEVENT
DTSTART;TZID=America/Chicago:20210210T110000
DTEND;TZID=America/Chicago:20210210T140000
DTSTAMP:20260424T005710
CREATED:20210202T215324Z
LAST-MODIFIED:20210326T190749Z
UID:10007980-1612954800-1612965600@www.rockford.edu
SUMMARY:Craft & Snack with Commuter Council
DESCRIPTION:Each Wednesday from 11 am – 2 pm\, you are invited to come by the Burpee Student Center Den for a free craft and snack with Commuter Council. We hope to see you there! As always\, masks and social distancing are required. Please bring your Student ID to check in to this event.
URL:https://www.rockford.edu/calendar-item/craft-snack-with-commuter-council/2021-02-10/
LOCATION:Blanche Walker Burpee Student Center\, 5050 East State St.\, Rockford\, IL\, 61108\, United States
CATEGORIES:Campus Wide Event (Public),Clubs & Orgs,Regent Experience,Student Activities
ORGANIZER;CN="Commuter Council":MAILTO:CommuterCouncil@rockford.edu
GEO:42.2696337;-89.0184645
X-APPLE-STRUCTURED-LOCATION;VALUE=URI;X-ADDRESS=Blanche Walker Burpee Student Center 5050 East State St. Rockford IL 61108 United States;X-APPLE-RADIUS=500;X-TITLE=5050 East State St.:geo:-89.0184645,42.2696337
END:VEVENT
BEGIN:VEVENT
DTSTART;TZID=America/Chicago:20210210T120000
DTEND;TZID=America/Chicago:20210210T130000
DTSTAMP:20260424T005710
CREATED:20210209T214203Z
LAST-MODIFIED:20210209T214203Z
UID:10007544-1612958400-1612962000@www.rockford.edu
SUMMARY:RU Career Closet & Professional Headshots
DESCRIPTION:The RU Career Closet is presented by the Rockford University’s Career Development Department. It is located in the Grace Roper Lounge of the Burpee Student Center. \nWhat is a Professional Headshot?  \nA professional headshot is a photograph you use to create a personal brand of who you are. Professional headshots focus on your upper body\, including your head and shoulders. Your professional headshot can be used for LinkedIn\, your email account\, your social media profile picture\, online portfolios you may have\, or your Zoom\, Google\, or Skype account for video interviews. \nHow can I get a Professional Headshot?  \nAs a bonus for registering for upcoming Career Exploration & Job Fair\, students can get a FREE professional headshot! To register for the fair\, go to rockford.edu/careerfair or register on-the-spot during the RU Career Closet event. \nWhat do I wear for my Professional Headshot? \nDress how you would for an interview for a job in your field. \nWhat is the RU Career Closet? \nThe Career Closet is a place where Rockford University Students can find professional clothing for FREE! The Career Closet is donation-driven and designed specifically for RU students who are looking for professional clothing to wear for an interview or for their first day on-the-job. The closet includes professional clothing of all types: dress pants\, shirts\, jackets\, dresses\, skirts\, ties and MORE! \nHow does it work? \nEach student will be allowed one outfit per semester and will need to show their Rockford University ID before looking through the Career Closet. Would YOU like to take a look at what the Career Closet has to offer? Make an appointment by emailing careers@rockford.edu or by attending our open hours during lunch. \nWhen is it open\, and where is it located? \nThe Career Closet is located in the Grace Roper Lounge of the Burpee Student Center. Visit it in February during the following dates and times: \n\nWednesday\, February 10 (12-1pm) – Grace Roper Lounge\, Burpee Student Center\nWednesday\, February 17 (12-1pm) – Grace Roper Lounge\, Burpee Student Center\n\nCan I donate to the RU Career Closet? \nYes! We accept donations year-round. New or like-new professional clothing can be taken to the Student Life Suite of the Burpee Student Center. Please ensure that they are clean\, unwrinkled\, and in new or like-new condition. Dress shoes will only be accepted in new condition. Contact Career Development at careers@rockford.edu with any questions. 
URL:https://www.rockford.edu/calendar-item/ru-career-closet-professional-headshots/
LOCATION:Blanche Walker Burpee Student Center\, 5050 East State St.\, Rockford\, IL\, 61108\, United States
CATEGORIES:Campus Wide Event (Public),Career Services Events
ORGANIZER;CN="Career Development":MAILTO:careers@rockford.edu
GEO:42.2696337;-89.0184645
X-APPLE-STRUCTURED-LOCATION;VALUE=URI;X-ADDRESS=Blanche Walker Burpee Student Center 5050 East State St. Rockford IL 61108 United States;X-APPLE-RADIUS=500;X-TITLE=5050 East State St.:geo:-89.0184645,42.2696337
END:VEVENT
BEGIN:VEVENT
DTSTART;TZID=America/Chicago:20210212T100000
DTEND;TZID=America/Chicago:20210212T140000
DTSTAMP:20260424T005710
CREATED:20210129T163229Z
LAST-MODIFIED:20210129T163229Z
UID:10007970-1613124000-1613138400@www.rockford.edu
SUMMARY:CCCI CareerFest
DESCRIPTION:As a part of the College Career Consortium of Illinois (CCCI)\, Rockford University students and alumni have access to CareerFest\, its Spring 2021 Virtual Career Fair.  \nAbout CareerFest 2021: \nThe 32nd Annual CareerFest is planned for Friday\, February 12\, 2021 from 10:00 a.m.-2:00 p.m. via Handshake.  CareerFest will include local and regional employers offering internships\, and full-time positions in business\, government\, healthcare\, manufacturing\, non-profits\, science\, and social services. \nUsing an online platform\, students will be able to meet with employers and hiring organizations at their virtual booths through 1-1 sessions and interviews. \nIf you are a student seeking full-time or internship opportunities plan to participate in CareerFest.  With a chance to connect with employers in a variety of career fields including business\, government\, and non-profits who value the skills and experiences unique to students from small\, private liberal arts colleges. \nTo Register (Registration Deadline is 2/10/2021): \n\nAccess the fair through Handshake’s Open Network: https://www.joinhandshake.com/\nComplete your free profile; search for your institution (Rockford University)\nYou will now have access to jobs\, internships\, and public career events\nUnder Events/Career Fairs\, search and register for CareerFest 2021 (CCCI- College Career Consortium of IL)\nReview all employers and opportunities\nSign up for employer sessions in advance. You can only attend sessions you registered for. Learn more here.\nIf you sign up for employer sessions that conflict with a class\, please check with your professor ahead of time.\nUpdate your profile. Some employers set qualifications to define which students can register for their sessions. To ensure you qualify for employer sessions\, make sure you have filled out the following fields on your profile:\n\nSchool year\, major and GPA\, which can be found on your profile\nWork authorization status\, which can be found on the Privacy & Settings page\n\n\n\nQuestions? \nContact RU Career Development at careers@rockford.edu. 
URL:https://www.rockford.edu/calendar-item/ccci-careerfest/
LOCATION:Rockford University\, 5050 E. State St. \, Rockford\, IL\, 61108\, United States
CATEGORIES:Campus Wide Event (Public),Career Services Events
GEO:42.2640342;-89.0197305
X-APPLE-STRUCTURED-LOCATION;VALUE=URI;X-ADDRESS=Rockford University 5050 E. State St.  Rockford IL 61108 United States;X-APPLE-RADIUS=500;X-TITLE=5050 E. State St.:geo:-89.0197305,42.2640342
END:VEVENT
END:VCALENDAR