BEGIN:VCALENDAR
VERSION:2.0
PRODID:-//Rockford University - ECPv6.15.20//NONSGML v1.0//EN
CALSCALE:GREGORIAN
METHOD:PUBLISH
X-ORIGINAL-URL:https://www.rockford.edu
X-WR-CALDESC:Events for Rockford University
REFRESH-INTERVAL;VALUE=DURATION:PT1H
X-Robots-Tag:noindex
X-PUBLISHED-TTL:PT1H
BEGIN:VTIMEZONE
TZID:America/Chicago
BEGIN:DAYLIGHT
TZOFFSETFROM:-0600
TZOFFSETTO:-0500
TZNAME:CDT
DTSTART:20190310T080000
END:DAYLIGHT
BEGIN:STANDARD
TZOFFSETFROM:-0500
TZOFFSETTO:-0600
TZNAME:CST
DTSTART:20191103T070000
END:STANDARD
BEGIN:DAYLIGHT
TZOFFSETFROM:-0600
TZOFFSETTO:-0500
TZNAME:CDT
DTSTART:20200308T080000
END:DAYLIGHT
BEGIN:STANDARD
TZOFFSETFROM:-0500
TZOFFSETTO:-0600
TZNAME:CST
DTSTART:20201101T070000
END:STANDARD
BEGIN:DAYLIGHT
TZOFFSETFROM:-0600
TZOFFSETTO:-0500
TZNAME:CDT
DTSTART:20210314T080000
END:DAYLIGHT
BEGIN:STANDARD
TZOFFSETFROM:-0500
TZOFFSETTO:-0600
TZNAME:CST
DTSTART:20211107T070000
END:STANDARD
END:VTIMEZONE
BEGIN:VEVENT
DTSTART;TZID=America/Chicago:20201116T140000
DTEND;TZID=America/Chicago:20201116T160000
DTSTAMP:20260423T184916
CREATED:20201015T151631Z
LAST-MODIFIED:20201015T151653Z
UID:10007956-1605535200-1605542400@www.rockford.edu
SUMMARY:Virtual Job and Internship Fair
DESCRIPTION:Rockford University and Rock Valley College present a Virtual Job & Internship Fair! Join us on Monday\, November 16 from 2-4pm at rockvalleycollege.edu/careerfair to research career and internship opportunities and chat LIVE with employers!  \n\nFull-time\, part-time\, and internship opportunities are available\nMeet employers LIVE over Zoom – a great networking opportunity\nFor all RU majors and career paths – it’s easy\, interactive\, and rewarding\nThe full event will occur at rockvalleycollege.edu/careerfair  \nPreview all job opportunities and apply on-the-spot\n\nAttendees are strongly encouraged to have a resume ready to send and dress in professional attire if they plan to chat (live) with an employer.  \nResume assistance is available by contacting RU Career Services at careers@rockford.edu. 
URL:https://www.rockford.edu/calendar-item/virtual-joband-internship-fair/
LOCATION:Rockford University\, 5050 E. State St. \, Rockford\, IL\, 61108\, United States
CATEGORIES:Alumni,Campus Wide Event (Public),Career Services Events
ORGANIZER;CN="Career Development":MAILTO:careers@rockford.edu
GEO:42.2640342;-89.0197305
X-APPLE-STRUCTURED-LOCATION;VALUE=URI;X-ADDRESS=Rockford University 5050 E. State St.  Rockford IL 61108 United States;X-APPLE-RADIUS=500;X-TITLE=5050 E. State St.:geo:-89.0197305,42.2640342
END:VEVENT
BEGIN:VEVENT
DTSTART;TZID=America/Chicago:20201117T120000
DTEND;TZID=America/Chicago:20201117T124500
DTSTAMP:20260423T184916
CREATED:20200820T185542Z
LAST-MODIFIED:20200820T185542Z
UID:10007517-1605614400-1605617100@www.rockford.edu
SUMMARY:Virtual MBA Information Session
DESCRIPTION:Rockford University’s Puri School of Business will host two virtual MBA information sessions on Tuesday\, November 17 from 12-12:45 p.m. and from 5:30- 6:15 p.m. Anyone interested in learning more about Rockford University’s MBA program is encouraged to attend. Attendees will be provided an in-depth look at how the University’s MBA program helps advance career and leadership opportunities\, including details on available program concentrations\, admission requirements\, and testimonials. \nThere is no cost to attend\, but registration is requested. To learn more about the MBA information session and to register\, call 815-226-4040 or visit www.rockford.edu/mbainfosession to reserve a spot today. \nZoom Meeting Room link will be provided after registration.
URL:https://www.rockford.edu/calendar-item/virtual-mba-information-session-7/2020-11-17/1/
LOCATION:Rockford University\, 5050 E. State St. \, Rockford\, IL\, 61108\, United States
CATEGORIES:Campus Wide Event (Public),Graduate Office
ATTACH;FMTTYPE=image/jpeg:https://www.rockford.edu/wp-content/uploads/2020/03/social-media-MBA-Info-session-Resized-for-web.jpg
GEO:42.2640342;-89.0197305
X-APPLE-STRUCTURED-LOCATION;VALUE=URI;X-ADDRESS=Rockford University 5050 E. State St.  Rockford IL 61108 United States;X-APPLE-RADIUS=500;X-TITLE=5050 E. State St.:geo:-89.0197305,42.2640342
END:VEVENT
BEGIN:VEVENT
DTSTART;TZID=America/Chicago:20201117T173000
DTEND;TZID=America/Chicago:20201117T181500
DTSTAMP:20260423T184916
CREATED:20200820T185542Z
LAST-MODIFIED:20200820T185542Z
UID:10007518-1605634200-1605636900@www.rockford.edu
SUMMARY:Virtual MBA Information Session
DESCRIPTION:Rockford University’s Puri School of Business will host two virtual MBA information sessions on Tuesday\, November 17 from 12-12:45 p.m. and from 5:30- 6:15 p.m. Anyone interested in learning more about Rockford University’s MBA program is encouraged to attend. Attendees will be provided an in-depth look at how the University’s MBA program helps advance career and leadership opportunities\, including details on available program concentrations\, admission requirements\, and testimonials. \nThere is no cost to attend\, but registration is requested. To learn more about the MBA information session and to register\, call 815-226-4040 or visit www.rockford.edu/mbainfosession to reserve a spot today. \nZoom Meeting Room link will be provided after registration.
URL:https://www.rockford.edu/calendar-item/virtual-mba-information-session-7/2020-11-17/2/
LOCATION:Rockford University\, 5050 E. State St. \, Rockford\, IL\, 61108\, United States
CATEGORIES:Campus Wide Event (Public),Graduate Office
ATTACH;FMTTYPE=image/jpeg:https://www.rockford.edu/wp-content/uploads/2020/03/social-media-MBA-Info-session-Resized-for-web.jpg
GEO:42.2640342;-89.0197305
X-APPLE-STRUCTURED-LOCATION;VALUE=URI;X-ADDRESS=Rockford University 5050 E. State St.  Rockford IL 61108 United States;X-APPLE-RADIUS=500;X-TITLE=5050 E. State St.:geo:-89.0197305,42.2640342
END:VEVENT
BEGIN:VEVENT
DTSTART;TZID=America/Chicago:20201119T160000
DTEND;TZID=America/Chicago:20201119T170000
DTSTAMP:20260423T184916
CREATED:20201111T154237Z
LAST-MODIFIED:20201111T154341Z
UID:10007967-1605801600-1605805200@www.rockford.edu
SUMMARY:Cans Across Conference - Pie in the Face
DESCRIPTION:Coaches will be nominated by students during the week of November 9th – 13th. \nThe top 6 coaches will move forward with voting. \nThe top 3 coaches to receive votes (a vote is canned goods placed in a box at Seaver) will get a pie in the face on November 19th at 4pm at Regents Hall.
URL:https://www.rockford.edu/calendar-item/cans-across-conference-pie-in-the-face/
LOCATION:Regents Hall – Burpee Student Center\, 5050 E. State St. \, Rockford\, IL\, 61108\, United States
CATEGORIES:Campus Wide Event (Public)
ORGANIZER;CN="Student Involvement and Orientation":MAILTO:LKeller@Rockford.edu
GEO:42.2640342;-89.0197305
X-APPLE-STRUCTURED-LOCATION;VALUE=URI;X-ADDRESS=Regents Hall – Burpee Student Center 5050 E. State St.  Rockford IL 61108 United States;X-APPLE-RADIUS=500;X-TITLE=5050 E. State St.:geo:-89.0197305,42.2640342
END:VEVENT
BEGIN:VEVENT
DTSTART;TZID=America/Chicago:20201121T140000
DTEND;TZID=America/Chicago:20201121T150000
DTSTAMP:20260423T184916
CREATED:20201102T231021Z
LAST-MODIFIED:20201102T231021Z
UID:10007963-1605967200-1605970800@www.rockford.edu
SUMMARY:Virtual Thanksgiving Cooking Class
DESCRIPTION:Join us on Saturday\, November 21 at 2:00 p.m. CST for a fun seasonal cooking class! Rockford University & Sodexo Executive Chef Bryan will demo how to cook his family favorites for the upcoming holidays\, including: \nTeresa’s Sweet Potato Pie: Bryan’s mom’s own version of a Southern favorite. Traditional sweet potato pie but with a twist – buttery graham cracker crust.\nMommas Banana Pudding: A holiday staple made in his family’s own creamy and delicious way. So easy you won’t believe it!\nRegister today! 
URL:https://www.rockford.edu/calendar-item/virtual-thanksgiving-cooking-class/
LOCATION:Rockford University\, 5050 E. State St. \, Rockford\, IL\, 61108\, United States
CATEGORIES:Alumni,Campus Wide Event (Public),Student Activities
ATTACH;FMTTYPE=image/jpeg:https://www.rockford.edu/wp-content/uploads/2020/11/Chef-Bryan.jpg
GEO:42.2640342;-89.0197305
X-APPLE-STRUCTURED-LOCATION;VALUE=URI;X-ADDRESS=Rockford University 5050 E. State St.  Rockford IL 61108 United States;X-APPLE-RADIUS=500;X-TITLE=5050 E. State St.:geo:-89.0197305,42.2640342
END:VEVENT
END:VCALENDAR