BEGIN:VCALENDAR
VERSION:2.0
PRODID:-//Rockford University - ECPv6.15.20//NONSGML v1.0//EN
CALSCALE:GREGORIAN
METHOD:PUBLISH
X-ORIGINAL-URL:https://www.rockford.edu
X-WR-CALDESC:Events for Rockford University
REFRESH-INTERVAL;VALUE=DURATION:PT1H
X-Robots-Tag:noindex
X-PUBLISHED-TTL:PT1H
BEGIN:VTIMEZONE
TZID:America/Chicago
BEGIN:DAYLIGHT
TZOFFSETFROM:-0600
TZOFFSETTO:-0500
TZNAME:CDT
DTSTART:20190310T080000
END:DAYLIGHT
BEGIN:STANDARD
TZOFFSETFROM:-0500
TZOFFSETTO:-0600
TZNAME:CST
DTSTART:20191103T070000
END:STANDARD
BEGIN:DAYLIGHT
TZOFFSETFROM:-0600
TZOFFSETTO:-0500
TZNAME:CDT
DTSTART:20200308T080000
END:DAYLIGHT
BEGIN:STANDARD
TZOFFSETFROM:-0500
TZOFFSETTO:-0600
TZNAME:CST
DTSTART:20201101T070000
END:STANDARD
BEGIN:DAYLIGHT
TZOFFSETFROM:-0600
TZOFFSETTO:-0500
TZNAME:CDT
DTSTART:20210314T080000
END:DAYLIGHT
BEGIN:STANDARD
TZOFFSETFROM:-0500
TZOFFSETTO:-0600
TZNAME:CST
DTSTART:20211107T070000
END:STANDARD
END:VTIMEZONE
BEGIN:VEVENT
DTSTART;TZID=America/Chicago:20201102T120000
DTEND;TZID=America/Chicago:20201102T130000
DTSTAMP:20260423T184921
CREATED:20201103T232001Z
LAST-MODIFIED:20201103T232705Z
UID:10007964-1604318400-1604322000@www.rockford.edu
SUMMARY:Online Brown Bag – Mon.\, Nov. 2\, 12 p.m. – Dr. Yoandy Cabrera Ortega\, Assistant Professor of Spanish\, presents “A Postmodern Poetics: Researching\, Translating\, and Teaching Catullus in English and Spanish.”
DESCRIPTION:Please join us for our next online Brown Bag presentation on Monday\, November 2\, at 12 p.m. Dr. Yoandy Cabrera Ortega\, Assistant Professor of Spanish\, will present “A Postmodern Poetics: Researching\, Translating\, and Teaching Catullus in English and Spanish.” \nPlease register for Dr. Cabrera’s presentation using the following link: https://alumlc.org/rockford/4331. Registering will give you access to the Zoom link and event reminders. \nThis event is free and open to the public. For more information\, please contact Dr. Marilén Loyola (mloyola@rockford.edu) or Dr. Orhan Erdem (oerdem@rockford.edu).
URL:https://www.rockford.edu/calendar-item/online-brown-bag-mon-nov-2-12-p-m-dr-yoandy-cabrera-ortega-assistant-professor-of-spanish-presents-a-postmodern-poetics-researching-translating-and-teaching-cat/
LOCATION:Rockford University\, 5050 E. State St. \, Rockford\, IL\, 61108\, United States
CATEGORIES:Campus Wide Event (Public)
ORGANIZER;CN="Dr. Marilen Loyola":MAILTO:mloyola@rockford.edu
GEO:42.2640342;-89.0197305
X-APPLE-STRUCTURED-LOCATION;VALUE=URI;X-ADDRESS=Rockford University 5050 E. State St.  Rockford IL 61108 United States;X-APPLE-RADIUS=500;X-TITLE=5050 E. State St.:geo:-89.0197305,42.2640342
END:VEVENT
BEGIN:VEVENT
DTSTART;TZID=America/Chicago:20201104T120000
DTEND;TZID=America/Chicago:20201104T130000
DTSTAMP:20260423T184921
CREATED:20201102T174054Z
LAST-MODIFIED:20201102T174303Z
UID:10007961-1604491200-1604494800@www.rockford.edu
SUMMARY:Virtual Career Fair Prep Zoom Workshop
DESCRIPTION:Get help with Resume Writing\, Tips & Tricks for a Virtual Career Fair\, and Q&A from Career Services experts at Rockford University and Rock Valley College! Attend a workshop and prepare for the upcoming Virtual Career Fair on Monday\, November 16. \nWednesday\, November 4 from 12 to 1 p.m.\nZoom Link\nMeeting ID: 995 7264 4642\nPasscode: 653267 \nTuesday\, November 10 from 4 to 5 p.m.\nZoom Link\nMeeting ID: 982 4793 8417\nPasscode: 232406
URL:https://www.rockford.edu/calendar-item/virtual-career-fair-prep-workshop/
LOCATION:Rockford University\, 5050 E. State St. \, Rockford\, IL\, 61108\, United States
CATEGORIES:Alumni,Campus Wide Event (Public),Career Services Events
ORGANIZER;CN="Career Development":MAILTO:careers@rockford.edu
GEO:42.2640342;-89.0197305
X-APPLE-STRUCTURED-LOCATION;VALUE=URI;X-ADDRESS=Rockford University 5050 E. State St.  Rockford IL 61108 United States;X-APPLE-RADIUS=500;X-TITLE=5050 E. State St.:geo:-89.0197305,42.2640342
END:VEVENT
BEGIN:VEVENT
DTSTART;VALUE=DATE:20201106
DTEND;VALUE=DATE:20201107
DTSTAMP:20260423T184921
CREATED:20200820T194929Z
LAST-MODIFIED:20200820T194929Z
UID:10007524-1604620800-1604707199@www.rockford.edu
SUMMARY:Future Regent Friday
DESCRIPTION:“Is Rockford University a good fit for me?” Find out by attending a Future Regent Friday! \nAt RU\, you’ll be a VIP and we are rolling out the red carpet! You and your guests will have their own personal guide to campus. In your customized schedule\, you’ll get to sit in on a live class\, enjoy lunch with current students\, tour campus\, and learn what it takes to become a Rockford Regent.
URL:https://www.rockford.edu/calendar-item/future-regent-friday/2020-11-06/
LOCATION:Rockford University\, 5050 E. State St. \, Rockford\, IL\, 61108\, United States
CATEGORIES:Admissions,Campus Wide Event (Public),Visit Day
ATTACH;FMTTYPE=image/jpeg:https://www.rockford.edu/wp-content/uploads/2020/08/Your-Visit-to-Rockford-University-1.jpg
ORGANIZER;CN="Admission":MAILTO:admissions@rockford.edu
GEO:42.2640342;-89.0197305
X-APPLE-STRUCTURED-LOCATION;VALUE=URI;X-ADDRESS=Rockford University 5050 E. State St.  Rockford IL 61108 United States;X-APPLE-RADIUS=500;X-TITLE=5050 E. State St.:geo:-89.0197305,42.2640342
END:VEVENT
END:VCALENDAR