BEGIN:VCALENDAR
VERSION:2.0
PRODID:-//Rockford University - ECPv6.15.20//NONSGML v1.0//EN
CALSCALE:GREGORIAN
METHOD:PUBLISH
X-ORIGINAL-URL:https://www.rockford.edu
X-WR-CALDESC:Events for Rockford University
REFRESH-INTERVAL;VALUE=DURATION:PT1H
X-Robots-Tag:noindex
X-PUBLISHED-TTL:PT1H
BEGIN:VTIMEZONE
TZID:America/Chicago
BEGIN:DAYLIGHT
TZOFFSETFROM:-0600
TZOFFSETTO:-0500
TZNAME:CDT
DTSTART:20190310T080000
END:DAYLIGHT
BEGIN:STANDARD
TZOFFSETFROM:-0500
TZOFFSETTO:-0600
TZNAME:CST
DTSTART:20191103T070000
END:STANDARD
BEGIN:DAYLIGHT
TZOFFSETFROM:-0600
TZOFFSETTO:-0500
TZNAME:CDT
DTSTART:20200308T080000
END:DAYLIGHT
BEGIN:STANDARD
TZOFFSETFROM:-0500
TZOFFSETTO:-0600
TZNAME:CST
DTSTART:20201101T070000
END:STANDARD
BEGIN:DAYLIGHT
TZOFFSETFROM:-0600
TZOFFSETTO:-0500
TZNAME:CDT
DTSTART:20210314T080000
END:DAYLIGHT
BEGIN:STANDARD
TZOFFSETFROM:-0500
TZOFFSETTO:-0600
TZNAME:CST
DTSTART:20211107T070000
END:STANDARD
END:VTIMEZONE
BEGIN:VEVENT
DTSTART;VALUE=DATE:20200922
DTEND;VALUE=DATE:20200923
DTSTAMP:20260423T170301
CREATED:20200806T183921Z
LAST-MODIFIED:20200921T151156Z
UID:10007950-1600732800-1600819199@www.rockford.edu
SUMMARY:National Voter Registration Day
DESCRIPTION:Not sure if you’re registered to vote? Still need to register? \nNational Voter Registration Day is a day set aside to help you prepare for voting in November on election day. Click here for more details.
URL:https://www.rockford.edu/calendar-item/national-voter-registration-day/
LOCATION:Rockford University\, 5050 E. State St. \, Rockford\, IL\, 61108\, United States
CATEGORIES:Campus Wide Event (Public),Jane Adams Center for Civic Engagement (JACCE)
ATTACH;FMTTYPE=image/png:https://www.rockford.edu/wp-content/uploads/2020/08/JACCE-Poster.png
ORGANIZER;CN="Jane Addams Center for Civic Engagment":MAILTO:jacce@rockford.edu
GEO:42.2640342;-89.0197305
X-APPLE-STRUCTURED-LOCATION;VALUE=URI;X-ADDRESS=Rockford University 5050 E. State St.  Rockford IL 61108 United States;X-APPLE-RADIUS=500;X-TITLE=5050 E. State St.:geo:-89.0197305,42.2640342
END:VEVENT
BEGIN:VEVENT
DTSTART;VALUE=DATE:20200925
DTEND;VALUE=DATE:20200926
DTSTAMP:20260423T170301
CREATED:20200820T194929Z
LAST-MODIFIED:20200820T194929Z
UID:10007522-1600992000-1601078399@www.rockford.edu
SUMMARY:Future Regent Friday
DESCRIPTION:“Is Rockford University a good fit for me?” Find out by attending a Future Regent Friday! \nAt RU\, you’ll be a VIP and we are rolling out the red carpet! You and your guests will have their own personal guide to campus. In your customized schedule\, you’ll get to sit in on a live class\, enjoy lunch with current students\, tour campus\, and learn what it takes to become a Rockford Regent.
URL:https://www.rockford.edu/calendar-item/future-regent-friday/2020-09-25/
LOCATION:Rockford University\, 5050 E. State St. \, Rockford\, IL\, 61108\, United States
CATEGORIES:Admissions,Campus Wide Event (Public),Visit Day
ATTACH;FMTTYPE=image/jpeg:https://www.rockford.edu/wp-content/uploads/2020/08/Your-Visit-to-Rockford-University-1.jpg
ORGANIZER;CN="Admission":MAILTO:admissions@rockford.edu
GEO:42.2640342;-89.0197305
X-APPLE-STRUCTURED-LOCATION;VALUE=URI;X-ADDRESS=Rockford University 5050 E. State St.  Rockford IL 61108 United States;X-APPLE-RADIUS=500;X-TITLE=5050 E. State St.:geo:-89.0197305,42.2640342
END:VEVENT
BEGIN:VEVENT
DTSTART;TZID=America/Chicago:20200925T100000
DTEND;TZID=America/Chicago:20200925T150000
DTSTAMP:20260423T170301
CREATED:20200910T191511Z
LAST-MODIFIED:20200910T191511Z
UID:10007530-1601028000-1601046000@www.rockford.edu
SUMMARY:Virtual Work and Life Skills Boot Camp
DESCRIPTION:Get ready to launch your career in a virtual world! The Associated Colleges of Illinois (ACI) invites Rockford University students to attends its FREE Virtual Work and Life Skills Boot Camp on Friday\, September 25\, 2020 from 10 am – 3:00 pm. \nAttend all or part of the day as your schedule permits! The event will be held on Zoom and can be streamed from school or at home. \nThe Registration Deadline is September 22\, 2020. Please register by clicking here. \nThis FREE seminar will equip you to find\, interview for\, and onboard jobs virtually. And\, it will help you manage the stress of these challenging times. Topics include: \n\nStress Management\nVirtual Opportunities\nVirtual Onboarding\nWhat Employers Want in the Time of the Pandemic\nFinancial Aid in the Age of COVID-19\n\nFor questions\, contact the Office of Career Development at 815-226-4022 or careers@rockford.edu. \nACI flyer for Boot Camp (pdf)
URL:https://www.rockford.edu/calendar-item/virtual-work-and-life-skills-boot-camp/
LOCATION:Rockford University\, 5050 E. State St. \, Rockford\, IL\, 61108\, United States
CATEGORIES:Campus Wide Event (Public),Career Services Events
ATTACH;FMTTYPE=image/png:https://www.rockford.edu/wp-content/uploads/2020/09/Career-Development-Newsletter-Contacting-Us.png
ORGANIZER;CN="Career Development":MAILTO:careers@rockford.edu
GEO:42.2640342;-89.0197305
X-APPLE-STRUCTURED-LOCATION;VALUE=URI;X-ADDRESS=Rockford University 5050 E. State St.  Rockford IL 61108 United States;X-APPLE-RADIUS=500;X-TITLE=5050 E. State St.:geo:-89.0197305,42.2640342
END:VEVENT
END:VCALENDAR