BEGIN:VCALENDAR
VERSION:2.0
PRODID:-//Rockford University - ECPv6.15.20//NONSGML v1.0//EN
CALSCALE:GREGORIAN
METHOD:PUBLISH
X-WR-CALNAME:Rockford University
X-ORIGINAL-URL:https://www.rockford.edu
X-WR-CALDESC:Events for Rockford University
REFRESH-INTERVAL;VALUE=DURATION:PT1H
X-Robots-Tag:noindex
X-PUBLISHED-TTL:PT1H
BEGIN:VTIMEZONE
TZID:America/Chicago
BEGIN:DAYLIGHT
TZOFFSETFROM:-0600
TZOFFSETTO:-0500
TZNAME:CDT
DTSTART:20190310T080000
END:DAYLIGHT
BEGIN:STANDARD
TZOFFSETFROM:-0500
TZOFFSETTO:-0600
TZNAME:CST
DTSTART:20191103T070000
END:STANDARD
BEGIN:DAYLIGHT
TZOFFSETFROM:-0600
TZOFFSETTO:-0500
TZNAME:CDT
DTSTART:20200308T080000
END:DAYLIGHT
BEGIN:STANDARD
TZOFFSETFROM:-0500
TZOFFSETTO:-0600
TZNAME:CST
DTSTART:20201101T070000
END:STANDARD
BEGIN:DAYLIGHT
TZOFFSETFROM:-0600
TZOFFSETTO:-0500
TZNAME:CDT
DTSTART:20210314T080000
END:DAYLIGHT
BEGIN:STANDARD
TZOFFSETFROM:-0500
TZOFFSETTO:-0600
TZNAME:CST
DTSTART:20211107T070000
END:STANDARD
END:VTIMEZONE
BEGIN:VEVENT
DTSTART;TZID=America/Chicago:20200818T110000
DTEND;TZID=America/Chicago:20200818T143000
DTSTAMP:20260423T154437
CREATED:20200806T205231Z
LAST-MODIFIED:20200806T205231Z
UID:10007951-1597748400-1597761000@www.rockford.edu
SUMMARY:Women’s Suffrage Centennial 2020 Program and Celebration Parade
DESCRIPTION:The event will be held at 11 am on Tuesday\, August 18 in Maddox Theatre inside Clark Arts Center. Due to COVID-19\, only 50 persons–presenters and invited guests–will be allowed inside the theatre. \nThe community at large is encouraged to watch the one-hour program via Facebook Live @WSC2020IL.
URL:https://www.rockford.edu/calendar-item/womens-suffrage-centennial-2020-program-and-celebration-parade/
LOCATION:Rockford University\, 5050 E. State St. \, Rockford\, IL\, 61108\, United States
CATEGORIES:Campus Wide Event (Public),Jane Adams Center for Civic Engagement (JACCE)
ATTACH;FMTTYPE=image/png:https://www.rockford.edu/wp-content/uploads/2020/08/Logo.png
ORGANIZER;CN="Jane Addams Center for Civic Engagment":MAILTO:jacce@rockford.edu
GEO:42.2640342;-89.0197305
X-APPLE-STRUCTURED-LOCATION;VALUE=URI;X-ADDRESS=Rockford University 5050 E. State St.  Rockford IL 61108 United States;X-APPLE-RADIUS=500;X-TITLE=5050 E. State St.:geo:-89.0197305,42.2640342
END:VEVENT
BEGIN:VEVENT
DTSTART;TZID=America/Chicago:20200819T080000
DTEND;TZID=America/Chicago:20200819T170000
DTSTAMP:20260423T154437
CREATED:20200804T150324Z
LAST-MODIFIED:20200804T150337Z
UID:10007496-1597824000-1597856400@www.rockford.edu
SUMMARY:Classes begin
DESCRIPTION:View the full Academic Calendar 2020-21.
URL:https://www.rockford.edu/calendar-item/classes-begin/
LOCATION:Rockford University\, 5050 E. State St. \, Rockford\, IL\, 61108\, United States
CATEGORIES:Academic Calendar,Campus Wide Event (Public)
ATTACH;FMTTYPE=image/jpeg:https://www.rockford.edu/wp-content/uploads/2018/04/Academic-Calendar.jpg
GEO:42.2640342;-89.0197305
X-APPLE-STRUCTURED-LOCATION;VALUE=URI;X-ADDRESS=Rockford University 5050 E. State St.  Rockford IL 61108 United States;X-APPLE-RADIUS=500;X-TITLE=5050 E. State St.:geo:-89.0197305,42.2640342
END:VEVENT
BEGIN:VEVENT
DTSTART;TZID=America/Chicago:20200821T120000
DTEND;TZID=America/Chicago:20200821T140000
DTSTAMP:20260423T154437
CREATED:20200804T160844Z
LAST-MODIFIED:20200814T161304Z
UID:10007497-1598011200-1598018400@www.rockford.edu
SUMMARY:Student Employment Fair for On-Campus Jobs
DESCRIPTION:On-campus jobs are often a great choice for students looking for a part-time job. To facilitate your on-campus work experience at Rockford University and to explore multiple on-campus career opportunities\, don’t miss out on this year’s Fall 2020 Student Employment Fair! \n\nEvent Name: Student Employment Fair\nEvent Time & Location: 12:00 pm – 2:00 pm on Friday\, August 21 in Grace Roper Lounge (Burpee Student Center)\nHow Does the Event Work?: Students will meet with SAS and HR to determine on-campus work eligibility\, and then they will get the chance to meet with all participating employers. Students will be assigned one 30-minute session (20 students max per session) on a first come\, first served basis. Students are encouraged to bring copies of their resume and to dress professionally\, but it is not a requirement. \nParticipating Employers: Dining Services\, Front Desk\, Print Services\, Regent Ambassadors\, Lang Health\, Commuter Council\, & more!
URL:https://www.rockford.edu/calendar-item/student-employment-fair-fall-2020/
LOCATION:Rockford University\, 5050 E. State St. \, Rockford\, IL\, 61108\, United States
CATEGORIES:Campus Wide Event (Public),Career Services Events
ORGANIZER;CN="Career Development":MAILTO:careers@rockford.edu
GEO:42.2640342;-89.0197305
X-APPLE-STRUCTURED-LOCATION;VALUE=URI;X-ADDRESS=Rockford University 5050 E. State St.  Rockford IL 61108 United States;X-APPLE-RADIUS=500;X-TITLE=5050 E. State St.:geo:-89.0197305,42.2640342
END:VEVENT
END:VCALENDAR