BEGIN:VCALENDAR
VERSION:2.0
PRODID:-//Rockford University - ECPv6.15.20//NONSGML v1.0//EN
CALSCALE:GREGORIAN
METHOD:PUBLISH
X-WR-CALNAME:Rockford University
X-ORIGINAL-URL:https://www.rockford.edu
X-WR-CALDESC:Events for Rockford University
REFRESH-INTERVAL;VALUE=DURATION:PT1H
X-Robots-Tag:noindex
X-PUBLISHED-TTL:PT1H
BEGIN:VTIMEZONE
TZID:America/Chicago
BEGIN:DAYLIGHT
TZOFFSETFROM:-0600
TZOFFSETTO:-0500
TZNAME:CDT
DTSTART:20190310T080000
END:DAYLIGHT
BEGIN:STANDARD
TZOFFSETFROM:-0500
TZOFFSETTO:-0600
TZNAME:CST
DTSTART:20191103T070000
END:STANDARD
BEGIN:DAYLIGHT
TZOFFSETFROM:-0600
TZOFFSETTO:-0500
TZNAME:CDT
DTSTART:20200308T080000
END:DAYLIGHT
BEGIN:STANDARD
TZOFFSETFROM:-0500
TZOFFSETTO:-0600
TZNAME:CST
DTSTART:20201101T070000
END:STANDARD
BEGIN:DAYLIGHT
TZOFFSETFROM:-0600
TZOFFSETTO:-0500
TZNAME:CDT
DTSTART:20210314T080000
END:DAYLIGHT
BEGIN:STANDARD
TZOFFSETFROM:-0500
TZOFFSETTO:-0600
TZNAME:CST
DTSTART:20211107T070000
END:STANDARD
END:VTIMEZONE
BEGIN:VEVENT
DTSTART;TZID=America/Chicago:20200709T120000
DTEND;TZID=America/Chicago:20200709T124500
DTSTAMP:20260423T154431
CREATED:20200609T173142Z
LAST-MODIFIED:20200609T173142Z
UID:10007935-1594296000-1594298700@www.rockford.edu
SUMMARY:Virtual Bachelor’s Degree Completion Information Sessions
DESCRIPTION:Rockford University’s Puri School of Business will host Bachelor’s Degree Completion Information Sessions via webinar on Thursday\, July 9 from 12-12:45 p.m. or 5:30-6:15 p.m. Anyone interested in learning more about Rockford University’s Bachelor’s Degree Completion Programs in Business Management or Accounting Studies is encouraged to attend. \nAttendees will be provided an in-depth look at how the programs helps advance career opportunities\, including details on program and admission requirements\, and testimonials.There is no cost to attend\, but registration is requested. To learn more about the information session and to register\, call 815-226-4040 or visit www.rockford.edu/busnsession to reserve a spot today. \nThe session will be a webinar through Zoom. The Zoom Meeting Room link will be provided after registration.
URL:https://www.rockford.edu/calendar-item/virtual-bachelors-degree-completion-information-sessions-2/2020-07-09/1/
LOCATION:Rockford University\, 5050 E. State St. \, Rockford\, IL\, 61108\, United States
CATEGORIES:Admissions,Campus Wide Event (Public)
ATTACH;FMTTYPE=image/jpeg:https://www.rockford.edu/wp-content/uploads/2020/04/Degree-Completion-April-21-Sessions-515x280-1.jpg
GEO:42.2640342;-89.0197305
X-APPLE-STRUCTURED-LOCATION;VALUE=URI;X-ADDRESS=Rockford University 5050 E. State St.  Rockford IL 61108 United States;X-APPLE-RADIUS=500;X-TITLE=5050 E. State St.:geo:-89.0197305,42.2640342
END:VEVENT
BEGIN:VEVENT
DTSTART;TZID=America/Chicago:20200709T173000
DTEND;TZID=America/Chicago:20200709T181500
DTSTAMP:20260423T154431
CREATED:20200609T173142Z
LAST-MODIFIED:20200609T173142Z
UID:10007936-1594315800-1594318500@www.rockford.edu
SUMMARY:Virtual Bachelor’s Degree Completion Information Sessions
DESCRIPTION:Rockford University’s Puri School of Business will host Bachelor’s Degree Completion Information Sessions via webinar on Thursday\, July 9 from 12-12:45 p.m. or 5:30-6:15 p.m. Anyone interested in learning more about Rockford University’s Bachelor’s Degree Completion Programs in Business Management or Accounting Studies is encouraged to attend. \nAttendees will be provided an in-depth look at how the programs helps advance career opportunities\, including details on program and admission requirements\, and testimonials.There is no cost to attend\, but registration is requested. To learn more about the information session and to register\, call 815-226-4040 or visit www.rockford.edu/busnsession to reserve a spot today. \nThe session will be a webinar through Zoom. The Zoom Meeting Room link will be provided after registration.
URL:https://www.rockford.edu/calendar-item/virtual-bachelors-degree-completion-information-sessions-2/2020-07-09/2/
LOCATION:Rockford University\, 5050 E. State St. \, Rockford\, IL\, 61108\, United States
CATEGORIES:Admissions,Campus Wide Event (Public)
ATTACH;FMTTYPE=image/jpeg:https://www.rockford.edu/wp-content/uploads/2020/04/Degree-Completion-April-21-Sessions-515x280-1.jpg
GEO:42.2640342;-89.0197305
X-APPLE-STRUCTURED-LOCATION;VALUE=URI;X-ADDRESS=Rockford University 5050 E. State St.  Rockford IL 61108 United States;X-APPLE-RADIUS=500;X-TITLE=5050 E. State St.:geo:-89.0197305,42.2640342
END:VEVENT
END:VCALENDAR