BEGIN:VCALENDAR
VERSION:2.0
PRODID:-//Rockford University - ECPv6.15.20//NONSGML v1.0//EN
CALSCALE:GREGORIAN
METHOD:PUBLISH
X-ORIGINAL-URL:https://www.rockford.edu
X-WR-CALDESC:Events for Rockford University
REFRESH-INTERVAL;VALUE=DURATION:PT1H
X-Robots-Tag:noindex
X-PUBLISHED-TTL:PT1H
BEGIN:VTIMEZONE
TZID:America/Chicago
BEGIN:DAYLIGHT
TZOFFSETFROM:-0600
TZOFFSETTO:-0500
TZNAME:CDT
DTSTART:20190310T080000
END:DAYLIGHT
BEGIN:STANDARD
TZOFFSETFROM:-0500
TZOFFSETTO:-0600
TZNAME:CST
DTSTART:20191103T070000
END:STANDARD
BEGIN:DAYLIGHT
TZOFFSETFROM:-0600
TZOFFSETTO:-0500
TZNAME:CDT
DTSTART:20200308T080000
END:DAYLIGHT
BEGIN:STANDARD
TZOFFSETFROM:-0500
TZOFFSETTO:-0600
TZNAME:CST
DTSTART:20201101T070000
END:STANDARD
BEGIN:DAYLIGHT
TZOFFSETFROM:-0600
TZOFFSETTO:-0500
TZNAME:CDT
DTSTART:20210314T080000
END:DAYLIGHT
BEGIN:STANDARD
TZOFFSETFROM:-0500
TZOFFSETTO:-0600
TZNAME:CST
DTSTART:20211107T070000
END:STANDARD
END:VTIMEZONE
BEGIN:VEVENT
DTSTART;TZID=America/Chicago:20200624T130000
DTEND;TZID=America/Chicago:20200624T140000
DTSTAMP:20260423T135724
CREATED:20200622T143226Z
LAST-MODIFIED:20200622T143314Z
UID:10007937-1593003600-1593007200@www.rockford.edu
SUMMARY:IWAT Presents- Civil Liberties in the Time of Pandemic
DESCRIPTION:The Institute for World Affairs and Trade at Rockford University in partnership with Rockford Public Library are presenting a program about the present COVID-19 pandemic in which Americans face the serious issue of balancing the Constitutional rights of individuals against governments’ need to protect public health. \n Join us for a 90 minute presentation and an open discussion on Wednesday\, June 24\, 2020\, at 1pm CT (2pm ET).  Issues will include stay-at-home measures; freedom of religion\, travel\, and association; modifications to electoral process; mandatory vaccine requirements; business closures; rights of prisoners and exposure to the virus\, and government monitoring measures. \nPresenters are Jason Mazzone\, who is the Albert E Jenner\, Jr. Professor of Law at the University of Illinois and the Director of the Illinois Program in Constitutional Theory\, History and Law; and Attorneys Dan McCarthy and Joe Richotte\, who are affiliated with the law firm of Butzel Long\, and have extensive experience in civil and criminal trial and appellate practice. They are involved in landmark cases in Michigan concerning constitutional rights of business owners and the state’s closure measures \nTo join the discussion\, please register at: \nhttps://services.rockfordpubliclibrary.org/event/4375302
URL:https://www.rockford.edu/calendar-item/civil-liberties-in-the-time-of-pandemic/
LOCATION:Rockford University\, 5050 E. State St. \, Rockford\, IL\, 61108\, United States
CATEGORIES:Campus Wide Event (Public)
GEO:42.2640342;-89.0197305
X-APPLE-STRUCTURED-LOCATION;VALUE=URI;X-ADDRESS=Rockford University 5050 E. State St.  Rockford IL 61108 United States;X-APPLE-RADIUS=500;X-TITLE=5050 E. State St.:geo:-89.0197305,42.2640342
END:VEVENT
END:VCALENDAR