BEGIN:VCALENDAR
VERSION:2.0
PRODID:-//Rockford University - ECPv6.15.20//NONSGML v1.0//EN
CALSCALE:GREGORIAN
METHOD:PUBLISH
X-ORIGINAL-URL:https://www.rockford.edu
X-WR-CALDESC:Events for Rockford University
REFRESH-INTERVAL;VALUE=DURATION:PT1H
X-Robots-Tag:noindex
X-PUBLISHED-TTL:PT1H
BEGIN:VTIMEZONE
TZID:America/Chicago
BEGIN:DAYLIGHT
TZOFFSETFROM:-0600
TZOFFSETTO:-0500
TZNAME:CDT
DTSTART:20190310T080000
END:DAYLIGHT
BEGIN:STANDARD
TZOFFSETFROM:-0500
TZOFFSETTO:-0600
TZNAME:CST
DTSTART:20191103T070000
END:STANDARD
BEGIN:DAYLIGHT
TZOFFSETFROM:-0600
TZOFFSETTO:-0500
TZNAME:CDT
DTSTART:20200308T080000
END:DAYLIGHT
BEGIN:STANDARD
TZOFFSETFROM:-0500
TZOFFSETTO:-0600
TZNAME:CST
DTSTART:20201101T070000
END:STANDARD
BEGIN:DAYLIGHT
TZOFFSETFROM:-0600
TZOFFSETTO:-0500
TZNAME:CDT
DTSTART:20210314T080000
END:DAYLIGHT
BEGIN:STANDARD
TZOFFSETFROM:-0500
TZOFFSETTO:-0600
TZNAME:CST
DTSTART:20211107T070000
END:STANDARD
END:VTIMEZONE
BEGIN:VEVENT
DTSTART;TZID=America/Chicago:20200616T120000
DTEND;TZID=America/Chicago:20200616T130000
DTSTAMP:20260423T135620
CREATED:20200326T185128Z
LAST-MODIFIED:20200410T160151Z
UID:10007478-1592308800-1592312400@www.rockford.edu
SUMMARY:Virtual Bachelor's Degree Completion Information Sessions
DESCRIPTION:Rockford University’s Puri School of Business will host a Bachelor’s Degree Completion Information Sessions via webinar on Tuesday\, June 16\, 2020 from 12-1:00 p.m. or 5:30-6:30 p.m. Anyone interested in learning more about Rockford University’s Bachelor’s Degree Completion Program is encouraged to attend. Attendees will be provided an in-depth look at how the program helps advance career opportunities\, including details on program and admission requirements\, and testimonials.\nThere is no cost to attend\, but registration is requested. To learn more about the Business Management information session and to register\, call 815-226-4040 or visit www.rockford.edu/busnsession to reserve a spot today.\nThe session will be a webinar through Zoom. The Zoom Meeting Room link will be provided after registration.
URL:https://www.rockford.edu/calendar-item/virtual-business-management-information-session-2/2020-06-16/1/
LOCATION:Rockford University\, 5050 E. State St. \, Rockford\, IL\, 61108\, United States
CATEGORIES:Campus Wide Event (Public)
GEO:42.2640342;-89.0197305
X-APPLE-STRUCTURED-LOCATION;VALUE=URI;X-ADDRESS=Rockford University 5050 E. State St.  Rockford IL 61108 United States;X-APPLE-RADIUS=500;X-TITLE=5050 E. State St.:geo:-89.0197305,42.2640342
END:VEVENT
BEGIN:VEVENT
DTSTART;TZID=America/Chicago:20200616T173000
DTEND;TZID=America/Chicago:20200616T183000
DTSTAMP:20260423T135620
CREATED:20200326T185128Z
LAST-MODIFIED:20200410T160151Z
UID:10007479-1592328600-1592332200@www.rockford.edu
SUMMARY:Virtual Bachelor's Degree Completion Information Sessions
DESCRIPTION:Rockford University’s Puri School of Business will host a Bachelor’s Degree Completion Information Sessions via webinar on Tuesday\, June 16\, 2020 from 12-1:00 p.m. or 5:30-6:30 p.m. Anyone interested in learning more about Rockford University’s Bachelor’s Degree Completion Program is encouraged to attend. Attendees will be provided an in-depth look at how the program helps advance career opportunities\, including details on program and admission requirements\, and testimonials.\nThere is no cost to attend\, but registration is requested. To learn more about the Business Management information session and to register\, call 815-226-4040 or visit www.rockford.edu/busnsession to reserve a spot today.\nThe session will be a webinar through Zoom. The Zoom Meeting Room link will be provided after registration.
URL:https://www.rockford.edu/calendar-item/virtual-business-management-information-session-2/2020-06-16/2/
LOCATION:Rockford University\, 5050 E. State St. \, Rockford\, IL\, 61108\, United States
CATEGORIES:Campus Wide Event (Public)
GEO:42.2640342;-89.0197305
X-APPLE-STRUCTURED-LOCATION;VALUE=URI;X-ADDRESS=Rockford University 5050 E. State St.  Rockford IL 61108 United States;X-APPLE-RADIUS=500;X-TITLE=5050 E. State St.:geo:-89.0197305,42.2640342
END:VEVENT
BEGIN:VEVENT
DTSTART;TZID=America/Chicago:20200617T120000
DTEND;TZID=America/Chicago:20200617T124500
DTSTAMP:20260423T135620
CREATED:20200428T181113Z
LAST-MODIFIED:20200428T181150Z
UID:10007925-1592395200-1592397900@www.rockford.edu
SUMMARY:Virtual MBA Information Session
DESCRIPTION:Rockford University’s Puri School of Business will host two virtual MBA information sessions on Wednesday\, June 17\, 2020 from 12-12:45 p.m. and from 5:30- 6:15 p.m. Anyone interested in learning more about Rockford University’s MBA program is encouraged to attend. Attendees will be provided an in-depth look at how the University’s MBA program helps advance career and leadership opportunities\, including details on available program concentrations\, admission requirements\, and testimonials. \nThere is no cost to attend\, but registration is requested. To learn more about the MBA information session and to register\, call 815-226-4040 or visit www.rockford.edu/mbainfosession to reserve a spot today. \nZoom Meeting Room link will be provided after registration.
URL:https://www.rockford.edu/calendar-item/virtual-mba-information-session-2/2020-06-17/1/
LOCATION:Rockford University\, 5050 E. State St. \, Rockford\, IL\, 61108\, United States
CATEGORIES:Admissions,Campus Wide Event (Public)
GEO:42.2640342;-89.0197305
X-APPLE-STRUCTURED-LOCATION;VALUE=URI;X-ADDRESS=Rockford University 5050 E. State St.  Rockford IL 61108 United States;X-APPLE-RADIUS=500;X-TITLE=5050 E. State St.:geo:-89.0197305,42.2640342
END:VEVENT
BEGIN:VEVENT
DTSTART;TZID=America/Chicago:20200617T173000
DTEND;TZID=America/Chicago:20200617T181500
DTSTAMP:20260423T135620
CREATED:20200428T181113Z
LAST-MODIFIED:20200428T181150Z
UID:10007926-1592415000-1592417700@www.rockford.edu
SUMMARY:Virtual MBA Information Session
DESCRIPTION:Rockford University’s Puri School of Business will host two virtual MBA information sessions on Wednesday\, June 17\, 2020 from 12-12:45 p.m. and from 5:30- 6:15 p.m. Anyone interested in learning more about Rockford University’s MBA program is encouraged to attend. Attendees will be provided an in-depth look at how the University’s MBA program helps advance career and leadership opportunities\, including details on available program concentrations\, admission requirements\, and testimonials. \nThere is no cost to attend\, but registration is requested. To learn more about the MBA information session and to register\, call 815-226-4040 or visit www.rockford.edu/mbainfosession to reserve a spot today. \nZoom Meeting Room link will be provided after registration.
URL:https://www.rockford.edu/calendar-item/virtual-mba-information-session-2/2020-06-17/2/
LOCATION:Rockford University\, 5050 E. State St. \, Rockford\, IL\, 61108\, United States
CATEGORIES:Admissions,Campus Wide Event (Public)
GEO:42.2640342;-89.0197305
X-APPLE-STRUCTURED-LOCATION;VALUE=URI;X-ADDRESS=Rockford University 5050 E. State St.  Rockford IL 61108 United States;X-APPLE-RADIUS=500;X-TITLE=5050 E. State St.:geo:-89.0197305,42.2640342
END:VEVENT
END:VCALENDAR