BEGIN:VCALENDAR
VERSION:2.0
PRODID:-//Rockford University - ECPv6.15.20//NONSGML v1.0//EN
CALSCALE:GREGORIAN
METHOD:PUBLISH
X-WR-CALNAME:Rockford University
X-ORIGINAL-URL:https://www.rockford.edu
X-WR-CALDESC:Events for Rockford University
REFRESH-INTERVAL;VALUE=DURATION:PT1H
X-Robots-Tag:noindex
X-PUBLISHED-TTL:PT1H
BEGIN:VTIMEZONE
TZID:America/Chicago
BEGIN:DAYLIGHT
TZOFFSETFROM:-0600
TZOFFSETTO:-0500
TZNAME:CDT
DTSTART:20190310T080000
END:DAYLIGHT
BEGIN:STANDARD
TZOFFSETFROM:-0500
TZOFFSETTO:-0600
TZNAME:CST
DTSTART:20191103T070000
END:STANDARD
BEGIN:DAYLIGHT
TZOFFSETFROM:-0600
TZOFFSETTO:-0500
TZNAME:CDT
DTSTART:20200308T080000
END:DAYLIGHT
BEGIN:STANDARD
TZOFFSETFROM:-0500
TZOFFSETTO:-0600
TZNAME:CST
DTSTART:20201101T070000
END:STANDARD
BEGIN:DAYLIGHT
TZOFFSETFROM:-0600
TZOFFSETTO:-0500
TZNAME:CDT
DTSTART:20210314T080000
END:DAYLIGHT
BEGIN:STANDARD
TZOFFSETFROM:-0500
TZOFFSETTO:-0600
TZNAME:CST
DTSTART:20211107T070000
END:STANDARD
END:VTIMEZONE
BEGIN:VEVENT
DTSTART;TZID=America/Chicago:20200225T110000
DTEND;TZID=America/Chicago:20200225T130000
DTSTAMP:20260423T041418
CREATED:20200127T220246Z
LAST-MODIFIED:20200224T155131Z
UID:10007909-1582628400-1582635600@www.rockford.edu
SUMMARY:What You Should Know About Cyberstalking
DESCRIPTION:Stop by our table to learn about ways to keep yourself safe from cyberstalking\, and campus and community supports who can intervene.
URL:https://www.rockford.edu/calendar-item/what-you-should-know-about-cyberstalking/2020-02-25/
LOCATION:Cafeteria
CATEGORIES:Campus Wide Event (Public),Lang Center for Health & Wellness,Prevention and Education,Title IX
ATTACH;FMTTYPE=image/jpeg:https://www.rockford.edu/wp-content/uploads/2020/02/Lang-Wellness-Tree-600x600-1.jpg
END:VEVENT
BEGIN:VEVENT
DTSTART;TZID=America/Chicago:20200226T110000
DTEND;TZID=America/Chicago:20200226T130000
DTSTAMP:20260423T041418
CREATED:20200127T220246Z
LAST-MODIFIED:20200224T155131Z
UID:10007910-1582714800-1582722000@www.rockford.edu
SUMMARY:What You Should Know About Cyberstalking
DESCRIPTION:Stop by our table to learn about ways to keep yourself safe from cyberstalking\, and campus and community supports who can intervene.
URL:https://www.rockford.edu/calendar-item/what-you-should-know-about-cyberstalking/2020-02-26/
LOCATION:Cafeteria
CATEGORIES:Campus Wide Event (Public),Lang Center for Health & Wellness,Prevention and Education,Title IX
ATTACH;FMTTYPE=image/jpeg:https://www.rockford.edu/wp-content/uploads/2020/02/Lang-Wellness-Tree-600x600-1.jpg
END:VEVENT
BEGIN:VEVENT
DTSTART;TZID=America/Chicago:20200227T193000
DTEND;TZID=America/Chicago:20200227T210000
DTSTAMP:20260423T041418
CREATED:20191217T171714Z
LAST-MODIFIED:20200108T171314Z
UID:10007882-1582831800-1582837200@www.rockford.edu
SUMMARY:"Triumph of Love"
DESCRIPTION:A chamber musical adaption of the classic French comedy of the same name\, Triumph of Love is full of delicious deception\, gender confusion and comic buffoonery. As multiple romantic story lines collided\, the beautiful Princess Leonide and the handsome Agis must decide which is the more powerful force: the mind or the heart. \nPurchase your tickets today! Single ticket admission for adults $12\, seniors age 55 and up\, and students is $9 unless otherwise noted.
URL:https://www.rockford.edu/calendar-item/triumph-of-love/2020-02-27/
LOCATION:Maddox Theatre – Clark Arts Center\, 5050 E. State St. \, Rockford\, IL\, 61108\, United States
CATEGORIES:Campus Wide Event (Public),Forum Series
GEO:42.2640342;-89.0197305
X-APPLE-STRUCTURED-LOCATION;VALUE=URI;X-ADDRESS=Maddox Theatre – Clark Arts Center 5050 E. State St.  Rockford IL 61108 United States;X-APPLE-RADIUS=500;X-TITLE=5050 E. State St.:geo:-89.0197305,42.2640342
END:VEVENT
BEGIN:VEVENT
DTSTART;TZID=America/Chicago:20200228T193000
DTEND;TZID=America/Chicago:20200228T210000
DTSTAMP:20260423T041418
CREATED:20191217T171714Z
LAST-MODIFIED:20200108T171314Z
UID:10007883-1582918200-1582923600@www.rockford.edu
SUMMARY:"Triumph of Love"
DESCRIPTION:A chamber musical adaption of the classic French comedy of the same name\, Triumph of Love is full of delicious deception\, gender confusion and comic buffoonery. As multiple romantic story lines collided\, the beautiful Princess Leonide and the handsome Agis must decide which is the more powerful force: the mind or the heart. \nPurchase your tickets today! Single ticket admission for adults $12\, seniors age 55 and up\, and students is $9 unless otherwise noted.
URL:https://www.rockford.edu/calendar-item/triumph-of-love/2020-02-28/
LOCATION:Maddox Theatre – Clark Arts Center\, 5050 E. State St. \, Rockford\, IL\, 61108\, United States
CATEGORIES:Campus Wide Event (Public),Forum Series
GEO:42.2640342;-89.0197305
X-APPLE-STRUCTURED-LOCATION;VALUE=URI;X-ADDRESS=Maddox Theatre – Clark Arts Center 5050 E. State St.  Rockford IL 61108 United States;X-APPLE-RADIUS=500;X-TITLE=5050 E. State St.:geo:-89.0197305,42.2640342
END:VEVENT
BEGIN:VEVENT
DTSTART;TZID=America/Chicago:20200229T193000
DTEND;TZID=America/Chicago:20200229T210000
DTSTAMP:20260423T041418
CREATED:20191217T171714Z
LAST-MODIFIED:20200108T171314Z
UID:10007884-1583004600-1583010000@www.rockford.edu
SUMMARY:"Triumph of Love"
DESCRIPTION:A chamber musical adaption of the classic French comedy of the same name\, Triumph of Love is full of delicious deception\, gender confusion and comic buffoonery. As multiple romantic story lines collided\, the beautiful Princess Leonide and the handsome Agis must decide which is the more powerful force: the mind or the heart. \nPurchase your tickets today! Single ticket admission for adults $12\, seniors age 55 and up\, and students is $9 unless otherwise noted.
URL:https://www.rockford.edu/calendar-item/triumph-of-love/2020-02-29/
LOCATION:Maddox Theatre – Clark Arts Center\, 5050 E. State St. \, Rockford\, IL\, 61108\, United States
CATEGORIES:Campus Wide Event (Public),Forum Series
GEO:42.2640342;-89.0197305
X-APPLE-STRUCTURED-LOCATION;VALUE=URI;X-ADDRESS=Maddox Theatre – Clark Arts Center 5050 E. State St.  Rockford IL 61108 United States;X-APPLE-RADIUS=500;X-TITLE=5050 E. State St.:geo:-89.0197305,42.2640342
END:VEVENT
END:VCALENDAR