BEGIN:VCALENDAR
VERSION:2.0
PRODID:-//Rockford University - ECPv6.15.20//NONSGML v1.0//EN
CALSCALE:GREGORIAN
METHOD:PUBLISH
X-WR-CALNAME:Rockford University
X-ORIGINAL-URL:https://www.rockford.edu
X-WR-CALDESC:Events for Rockford University
REFRESH-INTERVAL;VALUE=DURATION:PT1H
X-Robots-Tag:noindex
X-PUBLISHED-TTL:PT1H
BEGIN:VTIMEZONE
TZID:America/Chicago
BEGIN:DAYLIGHT
TZOFFSETFROM:-0600
TZOFFSETTO:-0500
TZNAME:CDT
DTSTART:20190310T080000
END:DAYLIGHT
BEGIN:STANDARD
TZOFFSETFROM:-0500
TZOFFSETTO:-0600
TZNAME:CST
DTSTART:20191103T070000
END:STANDARD
BEGIN:DAYLIGHT
TZOFFSETFROM:-0600
TZOFFSETTO:-0500
TZNAME:CDT
DTSTART:20200308T080000
END:DAYLIGHT
BEGIN:STANDARD
TZOFFSETFROM:-0500
TZOFFSETTO:-0600
TZNAME:CST
DTSTART:20201101T070000
END:STANDARD
BEGIN:DAYLIGHT
TZOFFSETFROM:-0600
TZOFFSETTO:-0500
TZNAME:CDT
DTSTART:20210314T080000
END:DAYLIGHT
BEGIN:STANDARD
TZOFFSETFROM:-0500
TZOFFSETTO:-0600
TZNAME:CST
DTSTART:20211107T070000
END:STANDARD
END:VTIMEZONE
BEGIN:VEVENT
DTSTART;TZID=America/Chicago:20200217T190000
DTEND;TZID=America/Chicago:20200217T200000
DTSTAMP:20260423T040235
CREATED:20191217T170932Z
LAST-MODIFIED:20200109T220031Z
UID:10007881-1581966000-1581969600@www.rockford.edu
SUMMARY:FORUM: The Power of Human Interaction: Ken Nwadike\, Jr.
DESCRIPTION:Ken’s keynote address explores the power of positive human interaction and ways to bridge the racial divide by spreading love. The goal of this program is to create unity\, civility\, and build a more diverse and inclusive culture on campus.
URL:https://www.rockford.edu/calendar-item/forum-the-power-of-human-interaction-ken-nwadike-jr/
LOCATION:Severson Auditorium – Scarborough Hall\, IL
CATEGORIES:Campus Wide Event (Public),Forum Series
ATTACH;FMTTYPE=image/jpeg:https://www.rockford.edu/wp-content/uploads/2018/04/Forum-Series-1.jpg
ORGANIZER;CN="Forum Series":MAILTO:boxoffice@rockford.edu
GEO:40.6331249;-89.3985283
END:VEVENT
BEGIN:VEVENT
DTSTART;TZID=America/Chicago:20200218T110000
DTEND;TZID=America/Chicago:20200218T130000
DTSTAMP:20260423T040235
CREATED:20200127T220923Z
LAST-MODIFIED:20200127T220923Z
UID:10007459-1582023600-1582030800@www.rockford.edu
SUMMARY:Stalking: Information and Prevention
DESCRIPTION:Stop by the Lang Wellness Center table outside the Cafeteria to learn about stalking\, prevention strategies\, and campus and community supports who can intervene.
URL:https://www.rockford.edu/calendar-item/stalking-information-and-prevention/2020-02-18/
LOCATION:Cafeteria
CATEGORIES:Campus Wide Event (Public),Lang Center for Health & Wellness,Prevention and Education,Title IX
END:VEVENT
BEGIN:VEVENT
DTSTART;TZID=America/Chicago:20200218T180000
DTEND;TZID=America/Chicago:20200218T190000
DTSTAMP:20260423T040235
CREATED:20200131T174842Z
LAST-MODIFIED:20200131T175611Z
UID:10007461-1582048800-1582052400@www.rockford.edu
SUMMARY:IWAT Presents: “Big Money and Polarization of Politics in America"
DESCRIPTION:Former Congressmen John Cox and Don Manzullo will discuss the role of Super Pacs\, Big Money\, and the Polarization of Politics in America Tuesday\, February 18\, 2020\, from 6-7 p.m.\, at Rockford University’s Severson Auditorium located in Scarborough Hall (next to the Colman library). \nThe program is co-sponsored by the Institute of World Affairs and Trade at Rockford University (IWAT)\, Rockford Public Library and 815 Choose Civility\, and Dr. Ron Lee\, Assistant Professor of Political Science. \nJohn Cox and Don Manzullo represented the 16th Congressional District of Illinois. Cox\, a Democrat\, and Manzullo\, a Republican\, stated: “We are concerned over the massive amounts of money being poured into today’s elections as a result of the Citizens United case\, which allowed individuals\, corporations and others to spend unlimited amounts of money to influence campaigns through legal hoops with names such as ‘bundling\,’ ‘independent expenditures\,’ and ‘Super Pacs’. The Center for Responsive Politics said $4.5 billion has been spent in races over the past decade. This Big Money has created chaos in the political system\, unfair advantage\, and what amounts to the buying of political seats. In addition\, these unbridled amounts of money have exacerbated an already hostile political environment where civility in public discourse has been on the decline.” \nView the full media release here.
URL:https://www.rockford.edu/calendar-item/iwat-presents-big-money-and-polarization-of-politics-in-america/
LOCATION:Severson Auditorium – Scarborough Hall\, IL
CATEGORIES:Campus Wide Event (Public)
ATTACH;FMTTYPE=image/jpeg:https://www.rockford.edu/wp-content/uploads/2018/07/LED-Entrance-Sign.jpg
GEO:40.6331249;-89.3985283
END:VEVENT
BEGIN:VEVENT
DTSTART;TZID=America/Chicago:20200219T110000
DTEND;TZID=America/Chicago:20200219T130000
DTSTAMP:20260423T040235
CREATED:20200127T220923Z
LAST-MODIFIED:20200127T220923Z
UID:10007460-1582110000-1582117200@www.rockford.edu
SUMMARY:Stalking: Information and Prevention
DESCRIPTION:Stop by the Lang Wellness Center table outside the Cafeteria to learn about stalking\, prevention strategies\, and campus and community supports who can intervene.
URL:https://www.rockford.edu/calendar-item/stalking-information-and-prevention/2020-02-19/
LOCATION:Cafeteria
CATEGORIES:Campus Wide Event (Public),Lang Center for Health & Wellness,Prevention and Education,Title IX
END:VEVENT
BEGIN:VEVENT
DTSTART;TZID=America/Chicago:20200222T100000
DTEND;TZID=America/Chicago:20200222T143000
DTSTAMP:20260423T040235
CREATED:20190709T215217Z
LAST-MODIFIED:20200109T215806Z
UID:10007346-1582365600-1582381800@www.rockford.edu
SUMMARY:Future Regent Visit Day
DESCRIPTION:There are a lot of factors to consider when choosing a college: academic programs\, faculty interaction\, what’s the food like?\, will I make friends? how about cost? and so much more. Take some time on Saturday\, February 22\, to explore Rockford University. Let us help you discover what the college search is all about.\n• Admission Info\n• Academic & Resource Fair (meet our faculty!)\n• Campus Tour with a Twist\n• Free Lunch \nJoin us at Future Regent Visit Day and explore all of your opportunities. Check back soon for details about reserving your spot!
URL:https://www.rockford.edu/calendar-item/future-regent-visit-day-9/
LOCATION:Rockford University\, 5050 E. State St. \, Rockford\, IL\, 61108\, United States
CATEGORIES:Admissions,Campus Wide Event (Public),Visit Day
ATTACH;FMTTYPE=image/jpeg:https://www.rockford.edu/wp-content/uploads/2018/04/Admission-1.jpg
ORGANIZER;CN="Admission":MAILTO:admissions@rockford.edu
GEO:42.2640342;-89.0197305
X-APPLE-STRUCTURED-LOCATION;VALUE=URI;X-ADDRESS=Rockford University 5050 E. State St.  Rockford IL 61108 United States;X-APPLE-RADIUS=500;X-TITLE=5050 E. State St.:geo:-89.0197305,42.2640342
END:VEVENT
END:VCALENDAR