BEGIN:VCALENDAR
VERSION:2.0
PRODID:-//Rockford University - ECPv6.15.20//NONSGML v1.0//EN
CALSCALE:GREGORIAN
METHOD:PUBLISH
X-ORIGINAL-URL:https://www.rockford.edu
X-WR-CALDESC:Events for Rockford University
REFRESH-INTERVAL;VALUE=DURATION:PT1H
X-Robots-Tag:noindex
X-PUBLISHED-TTL:PT1H
BEGIN:VTIMEZONE
TZID:America/Chicago
BEGIN:DAYLIGHT
TZOFFSETFROM:-0600
TZOFFSETTO:-0500
TZNAME:CDT
DTSTART:20190310T080000
END:DAYLIGHT
BEGIN:STANDARD
TZOFFSETFROM:-0500
TZOFFSETTO:-0600
TZNAME:CST
DTSTART:20191103T070000
END:STANDARD
BEGIN:DAYLIGHT
TZOFFSETFROM:-0600
TZOFFSETTO:-0500
TZNAME:CDT
DTSTART:20200308T080000
END:DAYLIGHT
BEGIN:STANDARD
TZOFFSETFROM:-0500
TZOFFSETTO:-0600
TZNAME:CST
DTSTART:20201101T070000
END:STANDARD
BEGIN:DAYLIGHT
TZOFFSETFROM:-0600
TZOFFSETTO:-0500
TZNAME:CDT
DTSTART:20210314T080000
END:DAYLIGHT
BEGIN:STANDARD
TZOFFSETFROM:-0500
TZOFFSETTO:-0600
TZNAME:CST
DTSTART:20211107T070000
END:STANDARD
END:VTIMEZONE
BEGIN:VEVENT
DTSTART;TZID=America/Chicago:20200202T170000
DTEND;TZID=America/Chicago:20200202T210000
DTSTAMP:20260423T041712
CREATED:20200124T212748Z
LAST-MODIFIED:20200124T212748Z
UID:10007908-1580662800-1580677200@www.rockford.edu
SUMMARY:Super Bowl Watch Party
DESCRIPTION:Join the Campus Activities Board and the Student Athletic Advisory Committee for the 2020 Super Bowl Watch Party! Watch the game on the big screen and enjoy wings\, pizza\, and snacks. Predict the scores for each quarter for your chance to win speakers\, gift cards\, a TV\, and more! \nThe event will take place in at 5:00 pm in Regents Hall on Sunday\, February 2nd.
URL:https://www.rockford.edu/calendar-item/super-bowl-watch-party/
LOCATION:Regents Hall – Burpee Student Center\, 5050 E. State St. \, Rockford\, IL\, 61108\, United States
CATEGORIES:Campus Activities Board,Campus Wide Event (Public),Regent Experience,Student Activities
GEO:42.2640342;-89.0197305
X-APPLE-STRUCTURED-LOCATION;VALUE=URI;X-ADDRESS=Regents Hall – Burpee Student Center 5050 E. State St.  Rockford IL 61108 United States;X-APPLE-RADIUS=500;X-TITLE=5050 E. State St.:geo:-89.0197305,42.2640342
END:VEVENT
BEGIN:VEVENT
DTSTART;TZID=America/Chicago:20200203T160000
DTEND;TZID=America/Chicago:20200203T170000
DTSTAMP:20260423T041712
CREATED:20200124T175334Z
LAST-MODIFIED:20200124T175334Z
UID:10007907-1580745600-1580749200@www.rockford.edu
SUMMARY:Alan Hutchcroft Alternative Spring Break Information Session #2
DESCRIPTION:The Alan Hutchcroft Alternative Spring Break (AHASB) has provided students the opportunity to participate in Habitat for Humanity’s Collegiate Challenge since 1995. The Collegiate Challenge is an alternative spring break program that provides opportunities for university students to spend their school break building a house in partnership with the local Habitat for Humanity affiliate. \nA Collegiate Challenge trip may be the best spring break trip you will ever have! Not only do you help people in need but you will create lasting friendships and enjoy unique team-building experiences. You’ll have the chance to improve your carpentry skills\, connect with new people\, and make a real difference in Habitat for Humanity’s work of eliminating substandard housing. \nJoin us at this Information Session to learn more about this amazing opportunity and ask any questions you may have.
URL:https://www.rockford.edu/calendar-item/alan-hutchcroft-alternative-spring-break-information-session-2/
LOCATION:Faculty Dining Room – Burpee Student Center\, 5050 E. State St. \, Rockford\, IL\, 61108\, United States
CATEGORIES:Alternative Spring Break,Campus Wide Event (Public),Regent Experience,Student Activities
GEO:42.2640342;-89.0197305
X-APPLE-STRUCTURED-LOCATION;VALUE=URI;X-ADDRESS=Faculty Dining Room – Burpee Student Center 5050 E. State St.  Rockford IL 61108 United States;X-APPLE-RADIUS=500;X-TITLE=5050 E. State St.:geo:-89.0197305,42.2640342
END:VEVENT
BEGIN:VEVENT
DTSTART;TZID=America/Chicago:20200204T110000
DTEND;TZID=America/Chicago:20200204T130000
DTSTAMP:20260423T041712
CREATED:20200127T220705Z
LAST-MODIFIED:20200224T155323Z
UID:10007457-1580814000-1580821200@www.rockford.edu
SUMMARY:Sexual Harassment Information and Prevention
DESCRIPTION:Stop by our table outside cafeteria to learn about sexual harassment and how to prevent it from occurring.
URL:https://www.rockford.edu/calendar-item/sexual-harassment-information-and-prevention/2020-02-04/
LOCATION:Cafeteria
CATEGORIES:Campus Wide Event (Public),Lang Center for Health & Wellness,Prevention and Education
ATTACH;FMTTYPE=image/jpeg:https://www.rockford.edu/wp-content/uploads/2020/02/Lang-Wellness-Tree-600x600-1.jpg
END:VEVENT
BEGIN:VEVENT
DTSTART;TZID=America/Chicago:20200204T190000
DTEND;TZID=America/Chicago:20200204T203000
DTSTAMP:20260423T041712
CREATED:20191217T170649Z
LAST-MODIFIED:20200109T220316Z
UID:10007880-1580842800-1580848200@www.rockford.edu
SUMMARY:FORUM: You. Me. We.
DESCRIPTION:An interactive program on racism\, sexism\, and LGBTQ issues especially for college students. You. Me. We. begins with a monologue that exposes the often-unintentional ugliness of prejudice\, setting the stage for a lively discussion of diversity. The program follows students as they attempt to navigate the sometimes difficult terrain of multicultural campus relationships. During talk-backs\, students can confront the characters and voice their own opinions on issues of racism\, sexism\, and LGBTQ issues. You. Me. We. is a 90-minute program that gets college students talking.
URL:https://www.rockford.edu/calendar-item/forum-you-me-we/
LOCATION:Regents Hall – Burpee Student Center\, 5050 E. State St. \, Rockford\, IL\, 61108\, United States
CATEGORIES:Campus Wide Event (Public),Forum Series
ATTACH;FMTTYPE=image/jpeg:https://www.rockford.edu/wp-content/uploads/2018/04/Forum-Series-1.jpg
ORGANIZER;CN="Forum Series":MAILTO:boxoffice@rockford.edu
GEO:42.2640342;-89.0197305
X-APPLE-STRUCTURED-LOCATION;VALUE=URI;X-ADDRESS=Regents Hall – Burpee Student Center 5050 E. State St.  Rockford IL 61108 United States;X-APPLE-RADIUS=500;X-TITLE=5050 E. State St.:geo:-89.0197305,42.2640342
END:VEVENT
BEGIN:VEVENT
DTSTART;TZID=America/Chicago:20200205T110000
DTEND;TZID=America/Chicago:20200205T130000
DTSTAMP:20260423T041712
CREATED:20200127T220705Z
LAST-MODIFIED:20200224T155323Z
UID:10007458-1580900400-1580907600@www.rockford.edu
SUMMARY:Sexual Harassment Information and Prevention
DESCRIPTION:Stop by our table outside cafeteria to learn about sexual harassment and how to prevent it from occurring.
URL:https://www.rockford.edu/calendar-item/sexual-harassment-information-and-prevention/2020-02-05/
LOCATION:Cafeteria
CATEGORIES:Campus Wide Event (Public),Lang Center for Health & Wellness,Prevention and Education
ATTACH;FMTTYPE=image/jpeg:https://www.rockford.edu/wp-content/uploads/2020/02/Lang-Wellness-Tree-600x600-1.jpg
END:VEVENT
BEGIN:VEVENT
DTSTART;TZID=America/Chicago:20200205T120000
DTEND;TZID=America/Chicago:20200205T130000
DTSTAMP:20260423T041712
CREATED:20200108T165424Z
LAST-MODIFIED:20200108T165744Z
UID:10007453-1580904000-1580907600@www.rockford.edu
SUMMARY:Student Leadership Program Information Session #3
DESCRIPTION:The Office of Student Life is now hiring Student Leaders for the academic year of 2020 – 2021! Rockford University’s Student Leadership Program is comprised of a wide range of opportunities. These opportunities provide you with possibilities that fit your schedule\, your experience level\, and your interests. Please join us at this Information Session to learn more about each position\, the hiring process\, and more! \nThe following paid positions are available: \n\nRegent Experience Guides (Reggies)\nResident Assistants\nCampus Activities Board Coordinators and Cabbies\nStudent Government Elected Officials\nCommuter Council Members
URL:https://www.rockford.edu/calendar-item/student-leadership-program-information-session-3/
LOCATION:Student Life Conference Room – Burpee Center\, IL\, United States
CATEGORIES:Campus Activities Board,Campus Wide Event (Public),First Year Programs,Orientation,Regent Experience,Student Activities,Student Government
END:VEVENT
BEGIN:VEVENT
DTSTART;TZID=America/Chicago:20200205T160000
DTEND;TZID=America/Chicago:20200205T170000
DTSTAMP:20260423T041712
CREATED:20200108T165624Z
LAST-MODIFIED:20200108T165624Z
UID:10007454-1580918400-1580922000@www.rockford.edu
SUMMARY:Student Leadership Program Information Session #4
DESCRIPTION:The Office of Student Life is now hiring Student Leaders for the academic year of 2020 – 2021! Rockford University’s Student Leadership Program is comprised of a wide range of opportunities. These opportunities provide you with possibilities that fit your schedule\, your experience level\, and your interests. Please join us at this Information Session to learn more about each position\, the hiring process\, and more! \nThe following paid positions are available: \n\nRegent Experience Guides (Reggies)\nResident Assistants\nCampus Activities Board Coordinators and Cabbies\nStudent Government Elected Officials\nCommuter Council Members
URL:https://www.rockford.edu/calendar-item/student-leadership-program-information-session-4/
LOCATION:President’s Dining Room – Burpee Student Center\, 5050 E. State St. \, Rockford\, IL\, 61108\, United States
CATEGORIES:Campus Activities Board,Campus Wide Event (Public),First Year Programs,Orientation,Regent Experience,Student Activities,Student Government
GEO:42.2640342;-89.0197305
X-APPLE-STRUCTURED-LOCATION;VALUE=URI;X-ADDRESS=President’s Dining Room – Burpee Student Center 5050 E. State St.  Rockford IL 61108 United States;X-APPLE-RADIUS=500;X-TITLE=5050 E. State St.:geo:-89.0197305,42.2640342
END:VEVENT
BEGIN:VEVENT
DTSTART;TZID=America/Chicago:20200205T173000
DTEND;TZID=America/Chicago:20200205T190000
DTSTAMP:20260423T041712
CREATED:20200124T154734Z
LAST-MODIFIED:20200124T154734Z
UID:10007904-1580923800-1580929200@www.rockford.edu
SUMMARY:Business Management Information Session
DESCRIPTION:Transfer your associates with ease (now including AAS!). Rockford University’s Puri School of Business will host a free Business Management Information Session on Wednesday\, February 5\, 2020\, beginning at 5:30 p.m. Anyone interested in learning more about earning RU’s Business Management Bachelor’s Completion is encouraged to attend. Attendees will be provided an in-depth look at how the program helps advance career opportunities\, including details on program and admission requirements. Hear from a panel of current and former students who will provide insight on their experiences with the program. Guests also will be able to speak one-on-one with program advisors and faculty. \nThe information session will conclude at approximately 7 p.m. \nThere is no cost to attend\, but registration is requested. To learn more about the Business Management information session and to register\, call 815-226-4040 or visit www.rockford.edu/bsmsinfo to reserve a spot today. The session will be held in the Woodward Technology Center Lobby on Rock Valley College’s campus\, located at 3301 Mulford Rd\, Rockford\, IL.
URL:https://www.rockford.edu/calendar-item/business-management-information-session-2/
LOCATION:Rock Valley College WTC Lobby\, 3301 N Mulford Rd\, Rockford\, 61114
CATEGORIES:Admissions,Campus Wide Event (Public),Graduate Office
END:VEVENT
BEGIN:VEVENT
DTSTART;TZID=America/Chicago:20200208T100000
DTEND;TZID=America/Chicago:20200208T143000
DTSTAMP:20260423T041712
CREATED:20190709T214441Z
LAST-MODIFIED:20200109T220222Z
UID:10007812-1581156000-1581172200@www.rockford.edu
SUMMARY:Admitted Student Day
DESCRIPTION:Congratulations on your admission to Rockford University! We can’t wait to share more about the student experience with you and we hope that your friends and family will join you as well. \nThis day is all about giving you an inside look at life as a student at Rockford University. Here is what you can expect out of the day: \nAttend a class where you won’t just get a lecture but you’ll actually be able to participate.\nExplore student life on campus through our Choose Your Experience session.\nEnjoy a delicious Harry Potter-themed feast based on an actual campus event hosted during the school year.\nTalk with our financial aid experts if you have any questions about affording your Rock Solid education.\nCheer on the Regents at the men’s and women’s basketball games following this event. We will provide tickets for you and any friends or family members who want to attend. \nCampus tours will be available upon request\, but we feel confident that by the end of the day you will know your way around campus as if you’ve been a student here for 4 years!
URL:https://www.rockford.edu/calendar-item/scholarship-admitted-student-day/
LOCATION:Rockford University\, 5050 E. State St. \, Rockford\, IL\, 61108\, United States
CATEGORIES:Admissions,Campus Wide Event (Public)
ATTACH;FMTTYPE=image/jpeg:https://www.rockford.edu/wp-content/uploads/2018/04/Admission-1.jpg
ORGANIZER;CN="Admission":MAILTO:admissions@rockford.edu
GEO:42.2640342;-89.0197305
X-APPLE-STRUCTURED-LOCATION;VALUE=URI;X-ADDRESS=Rockford University 5050 E. State St.  Rockford IL 61108 United States;X-APPLE-RADIUS=500;X-TITLE=5050 E. State St.:geo:-89.0197305,42.2640342
END:VEVENT
END:VCALENDAR