BEGIN:VCALENDAR
VERSION:2.0
PRODID:-//Rockford University - ECPv6.15.20//NONSGML v1.0//EN
CALSCALE:GREGORIAN
METHOD:PUBLISH
X-ORIGINAL-URL:https://www.rockford.edu
X-WR-CALDESC:Events for Rockford University
REFRESH-INTERVAL;VALUE=DURATION:PT1H
X-Robots-Tag:noindex
X-PUBLISHED-TTL:PT1H
BEGIN:VTIMEZONE
TZID:America/Chicago
BEGIN:DAYLIGHT
TZOFFSETFROM:-0600
TZOFFSETTO:-0500
TZNAME:CDT
DTSTART:20190310T080000
END:DAYLIGHT
BEGIN:STANDARD
TZOFFSETFROM:-0500
TZOFFSETTO:-0600
TZNAME:CST
DTSTART:20191103T070000
END:STANDARD
BEGIN:DAYLIGHT
TZOFFSETFROM:-0600
TZOFFSETTO:-0500
TZNAME:CDT
DTSTART:20200308T080000
END:DAYLIGHT
BEGIN:STANDARD
TZOFFSETFROM:-0500
TZOFFSETTO:-0600
TZNAME:CST
DTSTART:20201101T070000
END:STANDARD
BEGIN:DAYLIGHT
TZOFFSETFROM:-0600
TZOFFSETTO:-0500
TZNAME:CDT
DTSTART:20210314T080000
END:DAYLIGHT
BEGIN:STANDARD
TZOFFSETFROM:-0500
TZOFFSETTO:-0600
TZNAME:CST
DTSTART:20211107T070000
END:STANDARD
END:VTIMEZONE
BEGIN:VEVENT
DTSTART;TZID=America/Chicago:20200129T120000
DTEND;TZID=America/Chicago:20200129T130000
DTSTAMP:20260423T055338
CREATED:20200108T164904Z
LAST-MODIFIED:20200108T164904Z
UID:10007450-1580299200-1580302800@www.rockford.edu
SUMMARY:Student Leadership Program Information Session #1
DESCRIPTION:The Office of Student Life is now hiring Student Leaders for the academic year of 2020 – 2021! Rockford University’s Student Leadership Program is comprised of a wide range of opportunities. These opportunities provide you with possibilities that fit your schedule\, your experience level\, and your interests. Please join us at this Information Session to learn more about each position\, the hiring process\, and more! \nThe following paid positions are available: \n\nRegent Experience Guides (Reggies)\nResident Assistants\nCampus Activities Board Coordinators and Cabbies\nStudent Government Elected Officials\nCommuter Council Members\n\n 
URL:https://www.rockford.edu/calendar-item/student-leadership-program-information-session-1/
LOCATION:President’s Dining Room – Burpee Student Center\, 5050 E. State St. \, Rockford\, IL\, 61108\, United States
CATEGORIES:Campus Activities Board,Campus Wide Event (Public),First Year Programs,Orientation,Regent Experience,Student Activities,Student Government
GEO:42.2640342;-89.0197305
X-APPLE-STRUCTURED-LOCATION;VALUE=URI;X-ADDRESS=President’s Dining Room – Burpee Student Center 5050 E. State St.  Rockford IL 61108 United States;X-APPLE-RADIUS=500;X-TITLE=5050 E. State St.:geo:-89.0197305,42.2640342
END:VEVENT
BEGIN:VEVENT
DTSTART;TZID=America/Chicago:20200129T160000
DTEND;TZID=America/Chicago:20200129T170000
DTSTAMP:20260423T055338
CREATED:20200108T165224Z
LAST-MODIFIED:20200108T165224Z
UID:10007452-1580313600-1580317200@www.rockford.edu
SUMMARY:Student Leadership Program Information Session #2
DESCRIPTION:The Office of Student Life is now hiring Student Leaders for the academic year of 2020 – 2021! Rockford University’s Student Leadership Program is comprised of a wide range of opportunities. These opportunities provide you with possibilities that fit your schedule\, your experience level\, and your interests. Please join us at this Information Session to learn more about each position\, the hiring process\, and more! \nThe following paid positions are available: \n\nRegent Experience Guides (Reggies)\nResident Assistants\nCampus Activities Board Coordinators and Cabbies\nStudent Government Elected Officials\nCommuter Council Members
URL:https://www.rockford.edu/calendar-item/student-leadership-program-information-session-2/
LOCATION:President’s Dining Room – Burpee Student Center\, 5050 E. State St. \, Rockford\, IL\, 61108\, United States
CATEGORIES:Campus Activities Board,Campus Wide Event (Public),First Year Programs,Regent Experience,Student Activities,Student Government
GEO:42.2640342;-89.0197305
X-APPLE-STRUCTURED-LOCATION;VALUE=URI;X-ADDRESS=President’s Dining Room – Burpee Student Center 5050 E. State St.  Rockford IL 61108 United States;X-APPLE-RADIUS=500;X-TITLE=5050 E. State St.:geo:-89.0197305,42.2640342
END:VEVENT
BEGIN:VEVENT
DTSTART;TZID=America/Chicago:20200130T073000
DTEND;TZID=America/Chicago:20200130T084500
DTSTAMP:20260423T055338
CREATED:20200117T190500Z
LAST-MODIFIED:20200117T190500Z
UID:10007901-1580369400-1580373900@www.rockford.edu
SUMMARY:Puri School of Business Breakfast Briefing
DESCRIPTION:Leading from Within: Uncover your Best Team \nYou’re invited to the first Puri School of Business Breakfast Briefing of Spring 2020 on January 30\, 2020. Enjoy a free hot breakfast on your way to work and hear Dr. Mandolen Mull\, Puri School of Business Chairperson\, share successful strategies for building teams and improving interactions with peers. \nCheck-in begins at 7:15 a.m. and the event will conclude at approximately 8:45 a.m. \nView the flyer here!
URL:https://www.rockford.edu/calendar-item/puri-school-of-business-breakfast-briefing-2/
LOCATION:Rockford University\, 5050 E. State St. \, Rockford\, IL\, 61108\, United States
CATEGORIES:Campus Wide Event (Public)
ATTACH;FMTTYPE=image/jpeg:https://www.rockford.edu/wp-content/uploads/2019/05/1-PSOB-Logo-rock-solid-purple_CMYK.jpg
GEO:42.2640342;-89.0197305
X-APPLE-STRUCTURED-LOCATION;VALUE=URI;X-ADDRESS=Rockford University 5050 E. State St.  Rockford IL 61108 United States;X-APPLE-RADIUS=500;X-TITLE=5050 E. State St.:geo:-89.0197305,42.2640342
END:VEVENT
BEGIN:VEVENT
DTSTART;TZID=America/Chicago:20200130T160000
DTEND;TZID=America/Chicago:20200130T170000
DTSTAMP:20260423T055338
CREATED:20200124T175139Z
LAST-MODIFIED:20200124T175139Z
UID:10007906-1580400000-1580403600@www.rockford.edu
SUMMARY:Alan Hutchcroft Alternative Spring Break Information Session #1
DESCRIPTION:The Alan Hutchcroft Alternative Spring Break (AHASB) has provided students the opportunity to participate in Habitat for Humanity’s Collegiate Challenge since 1995. The Collegiate Challenge is an alternative spring break program that provides opportunities for university students to spend their school break building a house in partnership with the local Habitat for Humanity affiliate. \nA Collegiate Challenge trip may be the best spring break trip you will ever have! Not only do you help people in need but you will create lasting friendships and enjoy unique team-building experiences. You’ll have the chance to improve your carpentry skills\, connect with new people\, and make a real difference in Habitat for Humanity’s work of eliminating substandard housing. \nJoin us at this Information Session to learn more about this amazing opportunity and ask any questions you may have.
URL:https://www.rockford.edu/calendar-item/alan-hutchcroft-alternative-spring-break-information-session-1/
LOCATION:Faculty Dining Room – Burpee Student Center\, 5050 E. State St. \, Rockford\, IL\, 61108\, United States
CATEGORIES:Alternative Spring Break,Campus Wide Event (Public),Regent Experience,Student Activities
GEO:42.2640342;-89.0197305
X-APPLE-STRUCTURED-LOCATION;VALUE=URI;X-ADDRESS=Faculty Dining Room – Burpee Student Center 5050 E. State St.  Rockford IL 61108 United States;X-APPLE-RADIUS=500;X-TITLE=5050 E. State St.:geo:-89.0197305,42.2640342
END:VEVENT
BEGIN:VEVENT
DTSTART;TZID=America/Chicago:20200130T170000
DTEND;TZID=America/Chicago:20200130T190000
DTSTAMP:20260423T055338
CREATED:20191210T172158Z
LAST-MODIFIED:20200116T193955Z
UID:10007875-1580403600-1580410800@www.rockford.edu
SUMMARY:Lunar New Year 2020
DESCRIPTION:The Rockford University Chinese Club and Office of Global Affairs will host Lunar New Year 2020 in Regent’s Hall\, Burpee Center on Thursday\, January 30 from 5-7 p.m.   \nThis year’s celebration promises some special treats with a gallery of hot pot\, hot and cold Chinese beverages\, paper cutting\, dumpling making\, and Chinese puzzles and games. Enjoy a sample of authentic Chinese food with beef\, chicken\, pork\, seafood\, and vegetarian options. Listen to live music sung by our very own Rockford University students. Learn about Chinese culture.  \nIn case of inclement weather\, the event will be held on Wednesday\, February 5. 
URL:https://www.rockford.edu/calendar-item/lunar-new-year-2020/
LOCATION:Regents Hall – Burpee Student Center\, 5050 E. State St. \, Rockford\, IL\, 61108\, United States
CATEGORIES:Campus Wide Event (Public),Office of Global Affairs
GEO:42.2640342;-89.0197305
X-APPLE-STRUCTURED-LOCATION;VALUE=URI;X-ADDRESS=Regents Hall – Burpee Student Center 5050 E. State St.  Rockford IL 61108 United States;X-APPLE-RADIUS=500;X-TITLE=5050 E. State St.:geo:-89.0197305,42.2640342
END:VEVENT
BEGIN:VEVENT
DTSTART;TZID=America/Chicago:20200131T120000
DTEND;TZID=America/Chicago:20200131T130000
DTSTAMP:20260423T055338
CREATED:20191217T170421Z
LAST-MODIFIED:20200109T220354Z
UID:10007879-1580472000-1580475600@www.rockford.edu
SUMMARY:FORUM: Emily Dickinson- How She Speaks to Modern Minds and Musicians
DESCRIPTION:Presented in collaboration with the Mendelssohn Performing Arts Center. \nGrammy-winning musicians explore Emily Dickinson and how she speaks to the composers\, musicians\, and minds of today. Through modern musical settings of her poetry\, we will discover the historical context from which she spoke and how we too might speak truth to power in peaceful\, poignant\, and fearlessly individualized ways. 
URL:https://www.rockford.edu/calendar-item/forum-emily-dickinson-how-she-speaks-to-modern-minds-and-musicians/
LOCATION:Fisher Memorial Chapel – Rockford University\, 5050 E. State St. \, Rockford\, IL\, 61108\, United States
CATEGORIES:Campus Wide Event (Public),Forum Series
ATTACH;FMTTYPE=image/jpeg:https://www.rockford.edu/wp-content/uploads/2018/04/Forum-Series-1.jpg
ORGANIZER;CN="Forum Series":MAILTO:boxoffice@rockford.edu
GEO:42.264048;-89.0197327
X-APPLE-STRUCTURED-LOCATION;VALUE=URI;X-ADDRESS=Fisher Memorial Chapel – Rockford University 5050 E. State St.  Rockford IL 61108 United States;X-APPLE-RADIUS=500;X-TITLE=5050 E. State St.:geo:-89.0197327,42.264048
END:VEVENT
END:VCALENDAR