BEGIN:VCALENDAR
VERSION:2.0
PRODID:-//Rockford University - ECPv6.15.20//NONSGML v1.0//EN
CALSCALE:GREGORIAN
METHOD:PUBLISH
X-ORIGINAL-URL:https://www.rockford.edu
X-WR-CALDESC:Events for Rockford University
REFRESH-INTERVAL;VALUE=DURATION:PT1H
X-Robots-Tag:noindex
X-PUBLISHED-TTL:PT1H
BEGIN:VTIMEZONE
TZID:America/Chicago
BEGIN:DAYLIGHT
TZOFFSETFROM:-0600
TZOFFSETTO:-0500
TZNAME:CDT
DTSTART:20180311T080000
END:DAYLIGHT
BEGIN:STANDARD
TZOFFSETFROM:-0500
TZOFFSETTO:-0600
TZNAME:CST
DTSTART:20181104T070000
END:STANDARD
BEGIN:DAYLIGHT
TZOFFSETFROM:-0600
TZOFFSETTO:-0500
TZNAME:CDT
DTSTART:20190310T080000
END:DAYLIGHT
BEGIN:STANDARD
TZOFFSETFROM:-0500
TZOFFSETTO:-0600
TZNAME:CST
DTSTART:20191103T070000
END:STANDARD
BEGIN:DAYLIGHT
TZOFFSETFROM:-0600
TZOFFSETTO:-0500
TZNAME:CDT
DTSTART:20200308T080000
END:DAYLIGHT
BEGIN:STANDARD
TZOFFSETFROM:-0500
TZOFFSETTO:-0600
TZNAME:CST
DTSTART:20201101T070000
END:STANDARD
END:VTIMEZONE
BEGIN:VEVENT
DTSTART;TZID=America/Chicago:20191208T083000
DTEND;TZID=America/Chicago:20191208T200000
DTSTAMP:20260423T040527
CREATED:20191024T155955Z
LAST-MODIFIED:20191207T190240Z
UID:10007412-1575793800-1575835200@www.rockford.edu
SUMMARY:Chicago Shopping Bus Trip
DESCRIPTION:You are invited to one of our most popular events\, the Rockford University Chicago Shopping Bus Trip. Charter buses are reserved for RU alumni\, families\, parents\, and friends. \n-Meet at Rockford University Parking Lot A at 8:30 a.m.\n-Take off from Rockford University Parking Lot A at 9 a.m.\n-Drop off in Chicago\, corner of Superior and Rush around 11 a.m.\n-Pick up in Chicago\, corner of Superior and Rush at 6 p.m\n– Return to Parking Lot A\, Rockford University\, around 8 p.m. \nRegistration is now closed. We look forward to seeing you on Sunday!\n*If a cancellation is needed prior to the Chicago Shopping Bus Trip\, please call us at 815-394-5190 or email alumni@rockford.edu. All cancellations must be made prior to Monday\, December 2\, to receive a full refund. \n 
URL:https://www.rockford.edu/calendar-item/chicago-shopping-bus-trip-2/
LOCATION:Rockford University\, 5050 E. State St. \, Rockford\, IL\, 61108\, United States
CATEGORIES:Alumni,Campus Wide Event (Public)
GEO:42.2640342;-89.0197305
X-APPLE-STRUCTURED-LOCATION;VALUE=URI;X-ADDRESS=Rockford University 5050 E. State St.  Rockford IL 61108 United States;X-APPLE-RADIUS=500;X-TITLE=5050 E. State St.:geo:-89.0197305,42.2640342
END:VEVENT
BEGIN:VEVENT
DTSTART;TZID=America/Chicago:20191213T080000
DTEND;TZID=America/Chicago:20191213T170000
DTSTAMP:20260423T040527
CREATED:20191218T152553Z
LAST-MODIFIED:20191218T152843Z
UID:10007894-1576224000-1576256400@www.rockford.edu
SUMMARY:End of Fall Semester
DESCRIPTION:Fall semester classes end.
URL:https://www.rockford.edu/calendar-item/end-of-fall-semester/
LOCATION:Rockford University\, 5050 E. State St. \, Rockford\, IL\, 61108\, United States
CATEGORIES:Campus Wide Event (Public)
ATTACH;FMTTYPE=image/jpeg:https://www.rockford.edu/wp-content/uploads/2018/04/Generic-1.jpg
GEO:42.2640342;-89.0197305
X-APPLE-STRUCTURED-LOCATION;VALUE=URI;X-ADDRESS=Rockford University 5050 E. State St.  Rockford IL 61108 United States;X-APPLE-RADIUS=500;X-TITLE=5050 E. State St.:geo:-89.0197305,42.2640342
END:VEVENT
END:VCALENDAR