BEGIN:VCALENDAR
VERSION:2.0
PRODID:-//Rockford University - ECPv6.15.20//NONSGML v1.0//EN
CALSCALE:GREGORIAN
METHOD:PUBLISH
X-ORIGINAL-URL:https://www.rockford.edu
X-WR-CALDESC:Events for Rockford University
REFRESH-INTERVAL;VALUE=DURATION:PT1H
X-Robots-Tag:noindex
X-PUBLISHED-TTL:PT1H
BEGIN:VTIMEZONE
TZID:America/Chicago
BEGIN:DAYLIGHT
TZOFFSETFROM:-0600
TZOFFSETTO:-0500
TZNAME:CDT
DTSTART:20180311T080000
END:DAYLIGHT
BEGIN:STANDARD
TZOFFSETFROM:-0500
TZOFFSETTO:-0600
TZNAME:CST
DTSTART:20181104T070000
END:STANDARD
BEGIN:DAYLIGHT
TZOFFSETFROM:-0600
TZOFFSETTO:-0500
TZNAME:CDT
DTSTART:20190310T080000
END:DAYLIGHT
BEGIN:STANDARD
TZOFFSETFROM:-0500
TZOFFSETTO:-0600
TZNAME:CST
DTSTART:20191103T070000
END:STANDARD
BEGIN:DAYLIGHT
TZOFFSETFROM:-0600
TZOFFSETTO:-0500
TZNAME:CDT
DTSTART:20200308T080000
END:DAYLIGHT
BEGIN:STANDARD
TZOFFSETFROM:-0500
TZOFFSETTO:-0600
TZNAME:CST
DTSTART:20201101T070000
END:STANDARD
END:VTIMEZONE
BEGIN:VEVENT
DTSTART;TZID=America/Chicago:20191202T110000
DTEND;TZID=America/Chicago:20191202T130000
DTSTAMP:20260423T010206
CREATED:20191118T163744Z
LAST-MODIFIED:20191118T163744Z
UID:10007870-1575284400-1575291600@www.rockford.edu
SUMMARY:What You Need to Know about STI's
DESCRIPTION:We talked about safe sex last week\, but sexually transmitted infections are on the rise. \nIn addition to safe sex\, learn the basics to ensure you are taking care of your health.
URL:https://www.rockford.edu/calendar-item/what-you-need-to-know-about-stis/2019-12-02/
LOCATION:The Den – Burpee Student Center\, IL
CATEGORIES:Campus Wide Event (Public),Lang Center for Health & Wellness
ATTACH;FMTTYPE=image/jpeg:https://www.rockford.edu/wp-content/uploads/2018/04/Lang-1.jpg
GEO:40.6331249;-89.3985283
END:VEVENT
BEGIN:VEVENT
DTSTART;TZID=America/Chicago:20191203T110000
DTEND;TZID=America/Chicago:20191203T130000
DTSTAMP:20260423T010206
CREATED:20191118T163744Z
LAST-MODIFIED:20191118T163744Z
UID:10007871-1575370800-1575378000@www.rockford.edu
SUMMARY:What You Need to Know about STI's
DESCRIPTION:We talked about safe sex last week\, but sexually transmitted infections are on the rise. \nIn addition to safe sex\, learn the basics to ensure you are taking care of your health.
URL:https://www.rockford.edu/calendar-item/what-you-need-to-know-about-stis/2019-12-03/
LOCATION:The Den – Burpee Student Center\, IL
CATEGORIES:Campus Wide Event (Public),Lang Center for Health & Wellness
ATTACH;FMTTYPE=image/jpeg:https://www.rockford.edu/wp-content/uploads/2018/04/Lang-1.jpg
GEO:40.6331249;-89.3985283
END:VEVENT
BEGIN:VEVENT
DTSTART;TZID=America/Chicago:20191203T120000
DTEND;TZID=America/Chicago:20191203T140000
DTSTAMP:20260423T010206
CREATED:20191125T175812Z
LAST-MODIFIED:20191125T175812Z
UID:10007874-1575374400-1575381600@www.rockford.edu
SUMMARY:Arabic Language Day
DESCRIPTION:Please join the Rockford University UN Club and Saudi Club for a celebration of Arabic Language Day on Tuesday\, December 3 from 12-2 in the Faculty Dining Room. In the hallway near the cafeteria\, there will be poster presentations and delicious Arabic breakfast foods for you to sample. At 12 pm\, 12:30 pm\, 1 pm\, and 1:30 pm\, there will be a presentation on the history of the Arabic language and its many dialects. \nEach participant will receive a card with an Arabic phrase they select.
URL:https://www.rockford.edu/calendar-item/arabic-language-day/
LOCATION:Rockford University\, 5050 E. State St. \, Rockford\, IL\, 61108\, United States
CATEGORIES:Campus Wide Event (Public),Clubs & Orgs
ATTACH;FMTTYPE=image/jpeg:https://www.rockford.edu/wp-content/uploads/2018/04/Global-Affairs.jpg
GEO:42.2640342;-89.0197305
X-APPLE-STRUCTURED-LOCATION;VALUE=URI;X-ADDRESS=Rockford University 5050 E. State St.  Rockford IL 61108 United States;X-APPLE-RADIUS=500;X-TITLE=5050 E. State St.:geo:-89.0197305,42.2640342
END:VEVENT
BEGIN:VEVENT
DTSTART;TZID=America/Chicago:20191203T163000
DTEND;TZID=America/Chicago:20191203T183000
DTSTAMP:20260423T010206
CREATED:20191024T160541Z
LAST-MODIFIED:20191107T184353Z
UID:10007416-1575390600-1575397800@www.rockford.edu
SUMMARY:Hanging of the Greens
DESCRIPTION:Join us for this year’s Hanging of the Greens as we get ready for the upcoming holiday season. Enjoy appetizers and refreshments and a holiday performance by the Rockford University Vocal Collective. Reserve your spot below! \n 
URL:https://www.rockford.edu/calendar-item/hanging-of-the-greens-2/
LOCATION:Johnson Alumni Center\, 5050 E. State St. \, Rockford\, IL\, 61108\, United States
CATEGORIES:Alumni,Campus Wide Event (Public)
GEO:42.2640342;-89.0197305
X-APPLE-STRUCTURED-LOCATION;VALUE=URI;X-ADDRESS=Johnson Alumni Center 5050 E. State St.  Rockford IL 61108 United States;X-APPLE-RADIUS=500;X-TITLE=5050 E. State St.:geo:-89.0197305,42.2640342
END:VEVENT
BEGIN:VEVENT
DTSTART;TZID=America/Chicago:20191207T110000
DTEND;TZID=America/Chicago:20191207T130000
DTSTAMP:20260423T010206
CREATED:20191115T200449Z
LAST-MODIFIED:20191115T200449Z
UID:10007866-1575716400-1575723600@www.rockford.edu
SUMMARY:December Recognition
DESCRIPTION:View the full Academic Calendar 2019-20.
URL:https://www.rockford.edu/calendar-item/december-recognition/
LOCATION:Maddox Theatre – Clark Arts Center\, 5050 E. State St. \, Rockford\, IL\, 61108\, United States
CATEGORIES:Academic Calendar,Campus Wide Event (Public)
ATTACH;FMTTYPE=image/jpeg:https://www.rockford.edu/wp-content/uploads/2018/04/Academic-Calendar.jpg
GEO:42.2640342;-89.0197305
X-APPLE-STRUCTURED-LOCATION;VALUE=URI;X-ADDRESS=Maddox Theatre – Clark Arts Center 5050 E. State St.  Rockford IL 61108 United States;X-APPLE-RADIUS=500;X-TITLE=5050 E. State St.:geo:-89.0197305,42.2640342
END:VEVENT
END:VCALENDAR