BEGIN:VCALENDAR
VERSION:2.0
PRODID:-//Rockford University - ECPv6.15.20//NONSGML v1.0//EN
CALSCALE:GREGORIAN
METHOD:PUBLISH
X-WR-CALNAME:Rockford University
X-ORIGINAL-URL:https://www.rockford.edu
X-WR-CALDESC:Events for Rockford University
REFRESH-INTERVAL;VALUE=DURATION:PT1H
X-Robots-Tag:noindex
X-PUBLISHED-TTL:PT1H
BEGIN:VTIMEZONE
TZID:America/Chicago
BEGIN:DAYLIGHT
TZOFFSETFROM:-0600
TZOFFSETTO:-0500
TZNAME:CDT
DTSTART:20180311T080000
END:DAYLIGHT
BEGIN:STANDARD
TZOFFSETFROM:-0500
TZOFFSETTO:-0600
TZNAME:CST
DTSTART:20181104T070000
END:STANDARD
BEGIN:DAYLIGHT
TZOFFSETFROM:-0600
TZOFFSETTO:-0500
TZNAME:CDT
DTSTART:20190310T080000
END:DAYLIGHT
BEGIN:STANDARD
TZOFFSETFROM:-0500
TZOFFSETTO:-0600
TZNAME:CST
DTSTART:20191103T070000
END:STANDARD
BEGIN:DAYLIGHT
TZOFFSETFROM:-0600
TZOFFSETTO:-0500
TZNAME:CDT
DTSTART:20200308T080000
END:DAYLIGHT
BEGIN:STANDARD
TZOFFSETFROM:-0500
TZOFFSETTO:-0600
TZNAME:CST
DTSTART:20201101T070000
END:STANDARD
END:VTIMEZONE
BEGIN:VEVENT
DTSTART;TZID=America/Chicago:20191109T210000
DTEND;TZID=America/Chicago:20191110T010000
DTSTAMP:20260422T232101
CREATED:20191031T185244Z
LAST-MODIFIED:20191031T185244Z
UID:10007422-1573333200-1573347600@www.rockford.edu
SUMMARY:Juke Jam with BSU
DESCRIPTION:Come listen to some jams and enjoy snacks with the Black Student Union!
URL:https://www.rockford.edu/calendar-item/juke-jam-with-bsu/
LOCATION:Kent Center\, 5050 E. State St.\, Rockford\, IL\, 61108\, United States
CATEGORIES:Campus Wide Event (Public),Clubs & Orgs,Regent Experience,Student Activities
END:VEVENT
BEGIN:VEVENT
DTSTART;TZID=America/Chicago:20191111T100000
DTEND;TZID=America/Chicago:20191111T143000
DTSTAMP:20260422T232101
CREATED:20190709T215319Z
LAST-MODIFIED:20200107T193717Z
UID:10007347-1573466400-1573482600@www.rockford.edu
SUMMARY:Future Regent Visit Day
DESCRIPTION:There are a lot of factors to consider when choosing a college. Does the university have the academic programs I want and faculty interaction I need. Is the food good? Is it easy to make friends? What will my expenses and financial aid options look like? The list goes on. Take some time on Saturday\, October 5\, to explore Rockford University. Let us help you discover what the college search is all about.\n• Admission Info\n• Academic & Resource Fair (meet our faculty!)\n• Campus Tour with a Twist\n• Delicious Lunch (included) • A peak at life on campus! \nJoin us at Future Regent Visit Day and explore all of your opportunities. Reserve your spot now!
URL:https://www.rockford.edu/calendar-item/future-regent-visit-day-10/
LOCATION:Rockford University\, 5050 E. State St. \, Rockford\, IL\, 61108\, United States
CATEGORIES:Admissions,Campus Wide Event (Public),Visit Day
ATTACH;FMTTYPE=image/jpeg:https://www.rockford.edu/wp-content/uploads/2018/04/Admission-1.jpg
GEO:42.2640342;-89.0197305
X-APPLE-STRUCTURED-LOCATION;VALUE=URI;X-ADDRESS=Rockford University 5050 E. State St.  Rockford IL 61108 United States;X-APPLE-RADIUS=500;X-TITLE=5050 E. State St.:geo:-89.0197305,42.2640342
END:VEVENT
BEGIN:VEVENT
DTSTART;TZID=America/Chicago:20191111T140000
DTEND;TZID=America/Chicago:20191111T140000
DTSTAMP:20260422T232101
CREATED:20191107T224809Z
LAST-MODIFIED:20191107T224809Z
UID:10007862-1573480800-1573480800@www.rockford.edu
SUMMARY:The Bicultural Experience in Borderlands/La Frontera by Gloria Anzaldua (A Guest Lecture by Jose Alvarez '18)
DESCRIPTION:The Spanish Program Guest Lecture Series presents “The Bicultural Experience in Borderlands/La Frontera by Gloria Anzaldua”\, a Guest Lecture by Jose Alvarez ’18. \nThis event is open to campus\, alumni\, and the community. 
URL:https://www.rockford.edu/calendar-item/the-bicultural-experience-in-borderlands-la-frontera-by-gloria-anzaldua-a-guest-lecture-by-jose-alvarez-18/
LOCATION:Scarborough Hall – Room 220\, 5050 East State Street\, Rockford\, 61108
CATEGORIES:Alumni,Campus Wide Event (Public)
ATTACH;FMTTYPE=image/jpeg:https://www.rockford.edu/wp-content/uploads/2018/04/Generic-1.jpg
END:VEVENT
BEGIN:VEVENT
DTSTART;TZID=America/Chicago:20191112T110000
DTEND;TZID=America/Chicago:20191112T130000
DTSTAMP:20260422T232101
CREATED:20191104T172050Z
LAST-MODIFIED:20191112T172610Z
UID:10007859-1573556400-1573563600@www.rockford.edu
SUMMARY:Drug Awareness Month: Alcohol and Your Body
DESCRIPTION:Join us for Drug Awareness Month as we uncover the risks of alcohol on your body\, what healthy drinking looks like\, and resources for you or a friend. \nScan our QR code to check in!
URL:https://www.rockford.edu/calendar-item/drug-awareness-month-alcohol-and-your-body/
LOCATION:The Den – Burpee Student Center\, IL
CATEGORIES:Campus Wide Event (Public),Lang Center for Health & Wellness
ATTACH;FMTTYPE=image/jpeg:https://www.rockford.edu/wp-content/uploads/2018/04/Lang-1.jpg
GEO:40.6331249;-89.3985283
END:VEVENT
BEGIN:VEVENT
DTSTART;TZID=America/Chicago:20191112T190000
DTEND;TZID=America/Chicago:20191112T210000
DTSTAMP:20260422T232101
CREATED:20190725T182330Z
LAST-MODIFIED:20190725T182330Z
UID:10007821-1573585200-1573592400@www.rockford.edu
SUMMARY:FORUM: The Human Library
DESCRIPTION:Join the volunteers from the Northern Illinois Chapter of The Human Library on Nov. 12 at 7 PM and gain access to “The Human Library”.  \nThe Human Library is\, in the true sense of the word\, a library of people. Since 2000\, Human Library events have featured human beings serving as open books\, allowing interactive conversations that the audience would not normally have access to. Every human book from our bookshelf represents a group in our society that is often subjected to prejudice\, stigmatization or discrimination because of their lifestyle\, diagnosis\, belief\, disability\, social status\, or ethnic origin. This interactive event will last at least 90 minutes; please plan accordingly.  \nPresented by volunteers from the Northern Illinois Chapter of The Human Library and in collaboration with the Office of Global Affairs and the Jane Addams Center for Civic Engagement.
URL:https://www.rockford.edu/calendar-item/forum-the-human-library/
LOCATION:Regents Hall – Burpee Student Center\, 5050 E. State St. \, Rockford\, IL\, 61108\, United States
CATEGORIES:Campus Wide Event (Public),Forum Series,Jane Adams Center for Civic Engagement (JACCE),Office of Global Affairs
ATTACH;FMTTYPE=image/jpeg:https://www.rockford.edu/wp-content/uploads/2018/04/Forum-Series-1.jpg
ORGANIZER;CN="Jane Addams Center for Civic Engagment":MAILTO:jacce@rockford.edu
GEO:42.2640342;-89.0197305
X-APPLE-STRUCTURED-LOCATION;VALUE=URI;X-ADDRESS=Regents Hall – Burpee Student Center 5050 E. State St.  Rockford IL 61108 United States;X-APPLE-RADIUS=500;X-TITLE=5050 E. State St.:geo:-89.0197305,42.2640342
END:VEVENT
BEGIN:VEVENT
DTSTART;TZID=America/Chicago:20191113T110000
DTEND;TZID=America/Chicago:20191113T140000
DTSTAMP:20260422T232101
CREATED:20191031T185824Z
LAST-MODIFIED:20191031T185824Z
UID:10007851-1573642800-1573653600@www.rockford.edu
SUMMARY:Commuter Council Security Seminar
DESCRIPTION:Join the Commuter Council to learn safety tips and receive products that can help you stay safe on campus and beyond!
URL:https://www.rockford.edu/calendar-item/commuter-council-security-seminar/
LOCATION:Regents Hall – Burpee Student Center\, 5050 E. State St. \, Rockford\, IL\, 61108\, United States
CATEGORIES:Campus Wide Event (Public),Clubs & Orgs,Regent Experience,Student Activities
GEO:42.2640342;-89.0197305
X-APPLE-STRUCTURED-LOCATION;VALUE=URI;X-ADDRESS=Regents Hall – Burpee Student Center 5050 E. State St.  Rockford IL 61108 United States;X-APPLE-RADIUS=500;X-TITLE=5050 E. State St.:geo:-89.0197305,42.2640342
END:VEVENT
BEGIN:VEVENT
DTSTART;TZID=America/Chicago:20191114T150000
DTEND;TZID=America/Chicago:20191114T200000
DTSTAMP:20260422T232101
CREATED:20190709T215825Z
LAST-MODIFIED:20200107T193629Z
UID:10007362-1573743600-1573761600@www.rockford.edu
SUMMARY:ROAR Transfer Registration
DESCRIPTION:Regents Off and Running (ROAR) is a registration event specifically focused on transfer students. Meet with your faculty advisor to sign up for classes\, chat with Financial Aid\, get your student ID card\, and find out about all of the services Rockford University can offer; all in one day! \nROAR is by appointment only so call the Office of Admission at 815-226-4050 or toll-free at 800-892-2984 to schedule your appointment.
URL:https://www.rockford.edu/calendar-item/roar-transfer-registration-2/
LOCATION:Rockford University\, 5050 E. State St. \, Rockford\, IL\, 61108\, United States
CATEGORIES:Admissions,Campus Wide Event (Public),ROAR
ATTACH;FMTTYPE=image/jpeg:https://www.rockford.edu/wp-content/uploads/2018/04/Admission-1.jpg
GEO:42.2640342;-89.0197305
X-APPLE-STRUCTURED-LOCATION;VALUE=URI;X-ADDRESS=Rockford University 5050 E. State St.  Rockford IL 61108 United States;X-APPLE-RADIUS=500;X-TITLE=5050 E. State St.:geo:-89.0197305,42.2640342
END:VEVENT
BEGIN:VEVENT
DTSTART;TZID=America/Chicago:20191115T200000
DTEND;TZID=America/Chicago:20191115T220000
DTSTAMP:20260422T232101
CREATED:20191031T190032Z
LAST-MODIFIED:20191031T190032Z
UID:10007853-1573848000-1573855200@www.rockford.edu
SUMMARY:Boujee Bingo with CAB
DESCRIPTION:Join CAB for a boujee bingo experience! You can win a selection of high ticket items. Including televisions\, gaming systems\, and more! Friday November 15th at 8 pm in Regents Hall!\n\n\n \n\n\n**You must be a full-time undergraduate student at Rockford University in order to win the prizes**
URL:https://www.rockford.edu/calendar-item/boujee-bingo-with-cab/
LOCATION:Regents Hall – Burpee Student Center\, 5050 E. State St. \, Rockford\, IL\, 61108\, United States
CATEGORIES:Campus Activities Board,Campus Wide Event (Public),Regent Experience
GEO:42.2640342;-89.0197305
X-APPLE-STRUCTURED-LOCATION;VALUE=URI;X-ADDRESS=Regents Hall – Burpee Student Center 5050 E. State St.  Rockford IL 61108 United States;X-APPLE-RADIUS=500;X-TITLE=5050 E. State St.:geo:-89.0197305,42.2640342
END:VEVENT
BEGIN:VEVENT
DTSTART;TZID=America/Chicago:20191116T100000
DTEND;TZID=America/Chicago:20191116T160000
DTSTAMP:20260422T232101
CREATED:20191105T211323Z
LAST-MODIFIED:20191105T211323Z
UID:10007860-1573898400-1573920000@www.rockford.edu
SUMMARY:First Responder and Military Appreciation Game
DESCRIPTION:The First Responder and Military Appreciation game will be held at Sam Greeley Field on November 16\, 2019. The game starts at noon\, but the event will begin at 10:00 am. The event line-up includes: \n\nChicago Police Department Pipe and Drum Team\nChicago Police Department Honor Guard\nNational Guard is providing the RU football team with camouflage jerseys for the game\nNational Guard is providing a field size American flag for teams to spread across the field during the national anthem.\nEmergency vehicle displays from the Rockford Fire and Police Departments.\nHalftime\, on-field RPD K9 demonstration\nOSF medical transport helicopter will land during the event\nIllinois Law Enforcement Emergency Alert System (ILEAS) Mobile Command Vehicle Display
URL:https://www.rockford.edu/calendar-item/first-responder-and-military-appreciation-game/
LOCATION:Football Field\, IL\, United States
CATEGORIES:Campus Wide Event (Public),Police & Department of Public Safety
ATTACH;FMTTYPE=image/jpeg:https://www.rockford.edu/wp-content/uploads/2017/10/HeadShield-FC-Transparent-e1508882331202.jpg
END:VEVENT
END:VCALENDAR