BEGIN:VCALENDAR
VERSION:2.0
PRODID:-//Rockford University - ECPv6.15.20//NONSGML v1.0//EN
CALSCALE:GREGORIAN
METHOD:PUBLISH
X-ORIGINAL-URL:https://www.rockford.edu
X-WR-CALDESC:Events for Rockford University
REFRESH-INTERVAL;VALUE=DURATION:PT1H
X-Robots-Tag:noindex
X-PUBLISHED-TTL:PT1H
BEGIN:VTIMEZONE
TZID:America/Chicago
BEGIN:DAYLIGHT
TZOFFSETFROM:-0600
TZOFFSETTO:-0500
TZNAME:CDT
DTSTART:20180311T080000
END:DAYLIGHT
BEGIN:STANDARD
TZOFFSETFROM:-0500
TZOFFSETTO:-0600
TZNAME:CST
DTSTART:20181104T070000
END:STANDARD
BEGIN:DAYLIGHT
TZOFFSETFROM:-0600
TZOFFSETTO:-0500
TZNAME:CDT
DTSTART:20190310T080000
END:DAYLIGHT
BEGIN:STANDARD
TZOFFSETFROM:-0500
TZOFFSETTO:-0600
TZNAME:CST
DTSTART:20191103T070000
END:STANDARD
BEGIN:DAYLIGHT
TZOFFSETFROM:-0600
TZOFFSETTO:-0500
TZNAME:CDT
DTSTART:20200308T080000
END:DAYLIGHT
BEGIN:STANDARD
TZOFFSETFROM:-0500
TZOFFSETTO:-0600
TZNAME:CST
DTSTART:20201101T070000
END:STANDARD
END:VTIMEZONE
BEGIN:VEVENT
DTSTART;TZID=America/Chicago:20191103T110000
DTEND;TZID=America/Chicago:20191103T130000
DTSTAMP:20260422T233018
CREATED:20191016T214309Z
LAST-MODIFIED:20191016T214645Z
UID:10007405-1572778800-1572786000@www.rockford.edu
SUMMARY:D.C. Area Alumni Gathering
DESCRIPTION:President Fulcomer\, along with hosts Andrew Novins ’69 and Evelyn Novins ’68\, invite alumni to join them for a Rockford University Alumni Gathering in the Washington D.C. area. Hear updates on all the exciting things happening at our alma mater\, say hello to old and new friends\, enjoy brunch and refreshments\, and celebrate what Rockford University means to you. We hope to see you there!
URL:https://www.rockford.edu/calendar-item/d-c-area-alumni-gathering/
LOCATION:At the Home of Andrew Novins ’69 and Evelyn Novins ’68\, 6663 Van Winkle Dr.\, Falls Church\, VA\, 22044\, United States
CATEGORIES:Alumni,Campus Wide Event (Public)
END:VEVENT
BEGIN:VEVENT
DTSTART;TZID=America/Chicago:20191104T190000
DTEND;TZID=America/Chicago:20191104T200000
DTSTAMP:20260422T233018
CREATED:20190725T162810Z
LAST-MODIFIED:20190725T162810Z
UID:10007820-1572894000-1572897600@www.rockford.edu
SUMMARY:FORUM: The Anomic Bomb: Mass Murder in a Mad World
DESCRIPTION:Join Dr. Casey Jordan on Nov. 4 at 7 PM in Maddox Theatre\, Clark Arts Center as she discusses “The Anomic Bomb: Mass Murder in a Mad World”.  \nMore than a century ago the great sociologist Emile Durkheim coined the phrase “ANOMIE” in an attempt to describe the complex world of chaos experienced by people who committed suicide. Criminologist and forensic psychologist Casey Jordan will provide insight into anomic mass murder\, differentiating between terrorism\, workplace violence\, and family annihilations\, and end with a brainstorming session for what we can do –if anything—to identify the Anomic Bomb.
URL:https://www.rockford.edu/calendar-item/forum-the-anomic-bomb-mass-murder-in-a-mad-world/
LOCATION:Maddox Theatre – Clark Arts Center\, 5050 E. State St. \, Rockford\, IL\, 61108\, United States
CATEGORIES:Campus Wide Event (Public),Forum Series
ATTACH;FMTTYPE=image/jpeg:https://www.rockford.edu/wp-content/uploads/2018/04/Forum-Series-1.jpg
GEO:42.2640342;-89.0197305
X-APPLE-STRUCTURED-LOCATION;VALUE=URI;X-ADDRESS=Maddox Theatre – Clark Arts Center 5050 E. State St.  Rockford IL 61108 United States;X-APPLE-RADIUS=500;X-TITLE=5050 E. State St.:geo:-89.0197305,42.2640342
END:VEVENT
BEGIN:VEVENT
DTSTART;TZID=America/Chicago:20191105T110000
DTEND;TZID=America/Chicago:20191105T130000
DTSTAMP:20260422T233018
CREATED:20191022T160329Z
LAST-MODIFIED:20191101T205200Z
UID:10007407-1572951600-1572958800@www.rockford.edu
SUMMARY:Drug Awareness Month: Stimulants and Your Body
DESCRIPTION:Kick off Drug Awareness Month with us as we uncover the effects of stimulants on your body\, in addition to activities. \nScan our QR code to check in!
URL:https://www.rockford.edu/calendar-item/drug-awareness-month-stimulants-and-your-body/2019-11-05/
LOCATION:Rockford University\, 5050 E. State St. \, Rockford\, IL\, 61108\, United States
CATEGORIES:Campus Wide Event (Public),Lang Center for Health & Wellness
ATTACH;FMTTYPE=image/jpeg:https://www.rockford.edu/wp-content/uploads/2018/04/Lang-1.jpg
GEO:42.2640342;-89.0197305
X-APPLE-STRUCTURED-LOCATION;VALUE=URI;X-ADDRESS=Rockford University 5050 E. State St.  Rockford IL 61108 United States;X-APPLE-RADIUS=500;X-TITLE=5050 E. State St.:geo:-89.0197305,42.2640342
END:VEVENT
BEGIN:VEVENT
DTSTART;TZID=America/Chicago:20191106T110000
DTEND;TZID=America/Chicago:20191106T130000
DTSTAMP:20260422T233018
CREATED:20191022T160329Z
LAST-MODIFIED:20191101T205200Z
UID:10007408-1573038000-1573045200@www.rockford.edu
SUMMARY:Drug Awareness Month: Stimulants and Your Body
DESCRIPTION:Kick off Drug Awareness Month with us as we uncover the effects of stimulants on your body\, in addition to activities. \nScan our QR code to check in!
URL:https://www.rockford.edu/calendar-item/drug-awareness-month-stimulants-and-your-body/2019-11-06/
LOCATION:Rockford University\, 5050 E. State St. \, Rockford\, IL\, 61108\, United States
CATEGORIES:Campus Wide Event (Public),Lang Center for Health & Wellness
ATTACH;FMTTYPE=image/jpeg:https://www.rockford.edu/wp-content/uploads/2018/04/Lang-1.jpg
GEO:42.2640342;-89.0197305
X-APPLE-STRUCTURED-LOCATION;VALUE=URI;X-ADDRESS=Rockford University 5050 E. State St.  Rockford IL 61108 United States;X-APPLE-RADIUS=500;X-TITLE=5050 E. State St.:geo:-89.0197305,42.2640342
END:VEVENT
BEGIN:VEVENT
DTSTART;TZID=America/Chicago:20191106T190000
DTEND;TZID=America/Chicago:20191106T230000
DTSTAMP:20260422T233018
CREATED:20191015T210911Z
LAST-MODIFIED:20191029T184350Z
UID:10007838-1573066800-1573081200@www.rockford.edu
SUMMARY:Haunted Trail with CAB
DESCRIPTION:The Campus Activities Board is planning a frightening experience on campus! Meet at the Clark Arts Lobby. This trail will not be for the faint of heart. Beware of what lies ahead…
URL:https://www.rockford.edu/calendar-item/haunted-trail-with-cab/
LOCATION:Clark Arts Lobby\, IL\, United States
CATEGORIES:Campus Activities Board,Campus Wide Event (Public),Clubs & Orgs,Regent Experience,Student Activities
END:VEVENT
BEGIN:VEVENT
DTSTART;TZID=America/Chicago:20191107T170000
DTEND;TZID=America/Chicago:20191107T190000
DTSTAMP:20260422T233018
CREATED:20191031T185437Z
LAST-MODIFIED:20191031T185437Z
UID:10007423-1573146000-1573153200@www.rockford.edu
SUMMARY:Day of the Dead with Spanish Club
DESCRIPTION:Come Celebrate The Day of The Dead “Dia De Muertos” with Spanish Club on Thursday November 7th\, 2019. The event will be at Regents Hall from 5pm-7pm. There will be Spanish music\, crafts and favors. There will also be a variety of Spanish snacks and Peruvian\, Puerto Rican and Mexican food. Everyone is welcomed at no cost. Hope to see you all there!
URL:https://www.rockford.edu/calendar-item/day-of-the-dead-with-spanish-club/
LOCATION:Regents Hall – Burpee Student Center\, 5050 E. State St. \, Rockford\, IL\, 61108\, United States
CATEGORIES:Campus Wide Event (Public),Clubs & Orgs,Regent Experience,Student Activities
GEO:42.2640342;-89.0197305
X-APPLE-STRUCTURED-LOCATION;VALUE=URI;X-ADDRESS=Regents Hall – Burpee Student Center 5050 E. State St.  Rockford IL 61108 United States;X-APPLE-RADIUS=500;X-TITLE=5050 E. State St.:geo:-89.0197305,42.2640342
END:VEVENT
BEGIN:VEVENT
DTSTART;TZID=America/Chicago:20191107T173000
DTEND;TZID=America/Chicago:20191107T190000
DTSTAMP:20260422T233018
CREATED:20190919T201514Z
LAST-MODIFIED:20190919T201514Z
UID:10007842-1573147800-1573153200@www.rockford.edu
SUMMARY:Master's of Business Administration (MBA) Information Session
DESCRIPTION:Rockford University’s Puri School of Business will host a free Master’s of Business Administration (MBA) Information Session on Thursday\, November 7\, 2019\, beginning at 5:30 p.m. Anyone interested in learning more about earning RU’s MBA is encouraged to attend. Attendees will be provided an in-depth look at how the University’s MBA program helps advance career and leadership opportunities\, including details on available program concentrations and admission requirements. Hear from a panel of current and former students who will provide insight on their experiences with the program. Guests also will be able to speak one-on-one with program advisors and faculty. The information session will conclude at approximately 7 p.m. \nThere is no cost to attend\, but registration is requested. To learn more about the MBA information session and to register\, call 815-226-4040 or visit www.rockford.edu/mbainfosession/to reserve a spot today. The session will be held in the Puri School of Business\, located directly east of the Rockford University’s main entrance located at 5050 East State Street\, Rockford.
URL:https://www.rockford.edu/calendar-item/masters-of-business-administration-mba-information-session/
LOCATION:Rockford University\, 5050 E. State St. \, Rockford\, IL\, 61108\, United States
CATEGORIES:Admissions,Alumni,Campus Wide Event (Public),Graduate Office,Open House
ORGANIZER;CN="Graduate Studies - MBA":MAILTO:EBahar@rockford.edu
GEO:42.2640342;-89.0197305
X-APPLE-STRUCTURED-LOCATION;VALUE=URI;X-ADDRESS=Rockford University 5050 E. State St.  Rockford IL 61108 United States;X-APPLE-RADIUS=500;X-TITLE=5050 E. State St.:geo:-89.0197305,42.2640342
END:VEVENT
BEGIN:VEVENT
DTSTART;TZID=America/Chicago:20191109T080000
DTEND;TZID=America/Chicago:20191109T150000
DTSTAMP:20260422T233018
CREATED:20191030T194309Z
LAST-MODIFIED:20191030T194309Z
UID:10007420-1573286400-1573311600@www.rockford.edu
SUMMARY:29th Annual Tri-State Undergraduate Psychology Research Conference
DESCRIPTION:29th Annual Tri-State Undergraduate Psychology Research Conference\nKeynote Speaker Dr. Brad Sagarin\nSocial and Evolutionary Psychology\nNorthern Illinois University \n“The Science of BDSM” \nDr. Brad Sagarin is a professor of social and evolutionary psychology at Northern Illinois University where he studies social influence\, resistance to persuasion\, deception\, jealousy\, infidelity\, and human sexuality. Brad has been published in a variety of scholarly journals\, has given radio and podcast interviews\, has consulted for radio and television programs\, and has delivered invited lectures to academic and non-academic organizations. His research has been cited in newspapers and magazines\, including The Economist and New Scientist. He holds Doctorate and Master’s degrees in Social Psychology from Arizona State University\, and a Baccalaureate degree in Computer Science from the Massachusetts Institute of Technology. \nSchedule of Events\n\nAll events will take place in Regents Hall- Burpee Center\n\n8:00 Registration – Burpee Center\, Park in Lot A \n9:00 Welcome and Announcements \n9:10-10:00 Getting into Graduate School Panel \n\nShort Break  \n\n10:10-11:00 Careers with a BA/BS in Psychology Panel\n10:10-11:00 Faculty Idea Exchange- Faculty Dining Room\n\nShort Break  \n\n11:15-12:15 Keynote Address\, Brad Sagarin\, Ph.D.\n\nLunch  12:15-1:30  \n\n1:30-3:00 Graduate School Fair \n1:30-2:15 Poster Session 1\n2:15-3:00 Poster Session 2 
URL:https://www.rockford.edu/calendar-item/29th-annual-tri-state-undergraduate-psychology-research-conference/
LOCATION:Regents Hall – Burpee Student Center\, 5050 E. State St. \, Rockford\, IL\, 61108\, United States
CATEGORIES:Campus Wide Event (Public)
ATTACH;FMTTYPE=image/jpeg:https://www.rockford.edu/wp-content/uploads/2018/04/Generic-1.jpg
GEO:42.2640342;-89.0197305
X-APPLE-STRUCTURED-LOCATION;VALUE=URI;X-ADDRESS=Regents Hall – Burpee Student Center 5050 E. State St.  Rockford IL 61108 United States;X-APPLE-RADIUS=500;X-TITLE=5050 E. State St.:geo:-89.0197305,42.2640342
END:VEVENT
BEGIN:VEVENT
DTSTART;TZID=America/Chicago:20191109T183000
DTEND;TZID=America/Chicago:20191109T193000
DTSTAMP:20260422T233018
CREATED:20181106T145717Z
LAST-MODIFIED:20191108T194138Z
UID:10007732-1573324200-1573327800@www.rockford.edu
SUMMARY:Alpha Helix Geek Night
DESCRIPTION:Students are welcome to kick back for a bit with Alpha Helix before the terror of final papers and finals week kicks into gear. \nThis event will be on Friday\, November 9 at 6:30 and located in Starr 130.  \nThere will be free food\, games and prizes!!!
URL:https://www.rockford.edu/calendar-item/alpha-helix-geek-night/
LOCATION:Starr 130\, United States
CATEGORIES:Campus Wide Event (Public),Clubs & Orgs
GEO:37.09024;-95.712891
END:VEVENT
BEGIN:VEVENT
DTSTART;TZID=America/Chicago:20191109T210000
DTEND;TZID=America/Chicago:20191110T010000
DTSTAMP:20260422T233018
CREATED:20191031T185244Z
LAST-MODIFIED:20191031T185244Z
UID:10007422-1573333200-1573347600@www.rockford.edu
SUMMARY:Juke Jam with BSU
DESCRIPTION:Come listen to some jams and enjoy snacks with the Black Student Union!
URL:https://www.rockford.edu/calendar-item/juke-jam-with-bsu/
LOCATION:Kent Center\, 5050 E. State St.\, Rockford\, IL\, 61108\, United States
CATEGORIES:Campus Wide Event (Public),Clubs & Orgs,Regent Experience,Student Activities
END:VEVENT
END:VCALENDAR