BEGIN:VCALENDAR
VERSION:2.0
PRODID:-//Rockford University - ECPv6.15.20//NONSGML v1.0//EN
CALSCALE:GREGORIAN
METHOD:PUBLISH
X-WR-CALNAME:Rockford University
X-ORIGINAL-URL:https://www.rockford.edu
X-WR-CALDESC:Events for Rockford University
REFRESH-INTERVAL;VALUE=DURATION:PT1H
X-Robots-Tag:noindex
X-PUBLISHED-TTL:PT1H
BEGIN:VTIMEZONE
TZID:America/Chicago
BEGIN:DAYLIGHT
TZOFFSETFROM:-0600
TZOFFSETTO:-0500
TZNAME:CDT
DTSTART:20180311T080000
END:DAYLIGHT
BEGIN:STANDARD
TZOFFSETFROM:-0500
TZOFFSETTO:-0600
TZNAME:CST
DTSTART:20181104T070000
END:STANDARD
BEGIN:DAYLIGHT
TZOFFSETFROM:-0600
TZOFFSETTO:-0500
TZNAME:CDT
DTSTART:20190310T080000
END:DAYLIGHT
BEGIN:STANDARD
TZOFFSETFROM:-0500
TZOFFSETTO:-0600
TZNAME:CST
DTSTART:20191103T070000
END:STANDARD
BEGIN:DAYLIGHT
TZOFFSETFROM:-0600
TZOFFSETTO:-0500
TZNAME:CDT
DTSTART:20200308T080000
END:DAYLIGHT
BEGIN:STANDARD
TZOFFSETFROM:-0500
TZOFFSETTO:-0600
TZNAME:CST
DTSTART:20201101T070000
END:STANDARD
END:VTIMEZONE
BEGIN:VEVENT
DTSTART;TZID=America/Chicago:20191021T160000
DTEND;TZID=America/Chicago:20191021T180000
DTSTAMP:20260422T232103
CREATED:20191015T204912Z
LAST-MODIFIED:20191015T204912Z
UID:10007867-1571673600-1571680800@www.rockford.edu
SUMMARY:Virtual Reality Night with Computer Science Club
DESCRIPTION:Join the Computer Science Club for a virtual reality experience in the new eSports Arena! There are 16 spots available. See you at 4:00 pm in the Den!
URL:https://www.rockford.edu/calendar-item/virtual-reality-night-with-computer-science-club/
LOCATION:Rockford University\, 5050 E. State St. \, Rockford\, IL\, 61108\, United States
CATEGORIES:Campus Wide Event (Public),Clubs & Orgs,Regent Experience,Student Activities
GEO:42.2640342;-89.0197305
X-APPLE-STRUCTURED-LOCATION;VALUE=URI;X-ADDRESS=Rockford University 5050 E. State St.  Rockford IL 61108 United States;X-APPLE-RADIUS=500;X-TITLE=5050 E. State St.:geo:-89.0197305,42.2640342
END:VEVENT
BEGIN:VEVENT
DTSTART;TZID=America/Chicago:20191022T110000
DTEND;TZID=America/Chicago:20191022T130000
DTSTAMP:20260422T232103
CREATED:20191007T202801Z
LAST-MODIFIED:20191007T202801Z
UID:10007855-1571742000-1571749200@www.rockford.edu
SUMMARY:Domestic Violence Awareness Month: Managing Difficult Emotions
DESCRIPTION:Stop by Lang Wellness Center’s table near the Den from 11 a.m. to 1 p.m. to learn about managing difficult emotions\, ways to communicate\, and strategies to release tension. Stop by for a stress ball DIY project! \nWe will have a QR code. Check in on the Rockford University app.
URL:https://www.rockford.edu/calendar-item/domestic-violence-awareness-month-managing-difficult-emotions/2019-10-22/
LOCATION:Rockford University\, 5050 E. State St. \, Rockford\, IL\, 61108\, United States
CATEGORIES:Campus Wide Event (Public),Lang Center for Health & Wellness
GEO:42.2640342;-89.0197305
X-APPLE-STRUCTURED-LOCATION;VALUE=URI;X-ADDRESS=Rockford University 5050 E. State St.  Rockford IL 61108 United States;X-APPLE-RADIUS=500;X-TITLE=5050 E. State St.:geo:-89.0197305,42.2640342
END:VEVENT
BEGIN:VEVENT
DTSTART;TZID=America/Chicago:20191022T150000
DTEND;TZID=America/Chicago:20191022T160000
DTSTAMP:20260422T232103
CREATED:20190725T161412Z
LAST-MODIFIED:20190725T162917Z
UID:10007819-1571756400-1571760000@www.rockford.edu
SUMMARY:FORUM: Rockford\, World War II\, and the Women's Ambulance Safety Patrol
DESCRIPTION:Join Mary Rose Filip on Oct. 22 at 3 PM in Fisher Memorial Chapel as she discusses “Rockford\, World War II\, and the Women’s Ambulance Safety Patrol”.  \nJoin Veteran’s Memorial Hall & Museum volunteer Mary Rose Filip and step back into a 1940’s time capsule of Rockford’s history as she unveils the living legacy of the over 200 women of Rockford who founded W.A.S.P. Women’s Ambulance Safety Patrol on April 3\, 1940.
URL:https://www.rockford.edu/calendar-item/forum-rockford-world-war-ii-and-the-womens-ambulance-safety-patrol/
LOCATION:Fisher Memorial Chapel – Rockford University\, 5050 E. State St. \, Rockford\, IL\, 61108\, United States
CATEGORIES:Campus Wide Event (Public),Forum Series
ATTACH;FMTTYPE=image/jpeg:https://www.rockford.edu/wp-content/uploads/2018/04/Forum-Series-1.jpg
GEO:42.264048;-89.0197327
X-APPLE-STRUCTURED-LOCATION;VALUE=URI;X-ADDRESS=Fisher Memorial Chapel – Rockford University 5050 E. State St.  Rockford IL 61108 United States;X-APPLE-RADIUS=500;X-TITLE=5050 E. State St.:geo:-89.0197327,42.264048
END:VEVENT
BEGIN:VEVENT
DTSTART;TZID=America/Chicago:20191022T173000
DTEND;TZID=America/Chicago:20191022T210000
DTSTAMP:20260422T232103
CREATED:20191015T205227Z
LAST-MODIFIED:20191015T205227Z
UID:10007869-1571765400-1571778000@www.rockford.edu
SUMMARY:Commuter Council Trunk or Treat and Drive-In Movie
DESCRIPTION:Join the Commuter Council for a Campus Community Trunk or Treat! There will be plenty of snacks and giveaways from 5:30 pm – 7:00 pm with Halloween Town the movie beginning at 7:00. Watch the movie from the comfort of your own car! There will be plenty of treats and snacks to go around. Come in costume for your chance to win a prize!
URL:https://www.rockford.edu/calendar-item/commuter-council-trunk-or-treat-and-drive-in-movie/
LOCATION:Parking lot A\, 5050 E. State St.\, Rockford\, IL\, 61108\, United States
CATEGORIES:Campus Wide Event (Public),Clubs & Orgs,Regent Experience,Student Activities
END:VEVENT
BEGIN:VEVENT
DTSTART;TZID=America/Chicago:20191023T110000
DTEND;TZID=America/Chicago:20191023T130000
DTSTAMP:20260422T232103
CREATED:20191007T202801Z
LAST-MODIFIED:20191007T202801Z
UID:10007856-1571828400-1571835600@www.rockford.edu
SUMMARY:Domestic Violence Awareness Month: Managing Difficult Emotions
DESCRIPTION:Stop by Lang Wellness Center’s table near the Den from 11 a.m. to 1 p.m. to learn about managing difficult emotions\, ways to communicate\, and strategies to release tension. Stop by for a stress ball DIY project! \nWe will have a QR code. Check in on the Rockford University app.
URL:https://www.rockford.edu/calendar-item/domestic-violence-awareness-month-managing-difficult-emotions/2019-10-23/
LOCATION:Rockford University\, 5050 E. State St. \, Rockford\, IL\, 61108\, United States
CATEGORIES:Campus Wide Event (Public),Lang Center for Health & Wellness
GEO:42.2640342;-89.0197305
X-APPLE-STRUCTURED-LOCATION;VALUE=URI;X-ADDRESS=Rockford University 5050 E. State St.  Rockford IL 61108 United States;X-APPLE-RADIUS=500;X-TITLE=5050 E. State St.:geo:-89.0197305,42.2640342
END:VEVENT
BEGIN:VEVENT
DTSTART;TZID=America/Chicago:20191024T100000
DTEND;TZID=America/Chicago:20191024T140000
DTSTAMP:20260422T232103
CREATED:20191015T205344Z
LAST-MODIFIED:20191017T195639Z
UID:10007872-1571911200-1571925600@www.rockford.edu
SUMMARY:United Nations Day with U.N. Club
DESCRIPTION:Join the United Nations Club in celebration of United Nations Day on the First Floor of the Burpee Student Center! The world celebrates United Nations day every October 24th to honor the interstate organization promoting human rights\, social progress\, and world peace. \nThere will be food to enjoy from various countries!
URL:https://www.rockford.edu/calendar-item/united-nations-day-with-u-n-club/
LOCATION:Blanche Walker Burpee Student Center\, 5050 East State St.\, Rockford\, IL\, 61108\, United States
CATEGORIES:Campus Wide Event (Public),Clubs & Orgs,Regent Experience,Student Activities
GEO:42.2696337;-89.0184645
X-APPLE-STRUCTURED-LOCATION;VALUE=URI;X-ADDRESS=Blanche Walker Burpee Student Center 5050 East State St. Rockford IL 61108 United States;X-APPLE-RADIUS=500;X-TITLE=5050 East State St.:geo:-89.0184645,42.2696337
END:VEVENT
BEGIN:VEVENT
DTSTART;TZID=America/Chicago:20191024T183000
DTEND;TZID=America/Chicago:20191024T193000
DTSTAMP:20260422T232103
CREATED:20191024T160422Z
LAST-MODIFIED:20191024T160422Z
UID:10007414-1571941800-1571945400@www.rockford.edu
SUMMARY:Chop it up
DESCRIPTION:Attention Minority Male Program\, lets think about the future with Logan Glendenning as we discuss internships and resume workshops. \n 
URL:https://www.rockford.edu/calendar-item/chop-it-up/
LOCATION:Rockford University\, 5050 E. State St. \, Rockford\, IL\, 61108\, United States
CATEGORIES:Campus Wide Event (Public),Clubs & Orgs
ORGANIZER;CN="Student Involvement and Orientation":MAILTO:LKeller@Rockford.edu
GEO:42.2640342;-89.0197305
X-APPLE-STRUCTURED-LOCATION;VALUE=URI;X-ADDRESS=Rockford University 5050 E. State St.  Rockford IL 61108 United States;X-APPLE-RADIUS=500;X-TITLE=5050 E. State St.:geo:-89.0197305,42.2640342
END:VEVENT
BEGIN:VEVENT
DTSTART;TZID=America/Chicago:20191024T200000
DTEND;TZID=America/Chicago:20191024T220000
DTSTAMP:20260422T232103
CREATED:20191015T205532Z
LAST-MODIFIED:20191017T195610Z
UID:10007873-1571947200-1571954400@www.rockford.edu
SUMMARY:John Wick 3 with Movie Club
DESCRIPTION:Join Movie Club for a screening of the Movie\, John Wick 3 in Scarborough Auditorium!
URL:https://www.rockford.edu/calendar-item/john-wick-3-with-movie-club/
LOCATION:Severson Auditorium – Scarborough Hall\, IL
CATEGORIES:Campus Wide Event (Public),Clubs & Orgs,Regent Experience,Student Activities
GEO:40.6331249;-89.3985283
END:VEVENT
BEGIN:VEVENT
DTSTART;TZID=America/Chicago:20191025T180000
DTEND;TZID=America/Chicago:20191025T200000
DTSTAMP:20260422T232103
CREATED:20190911T211140Z
LAST-MODIFIED:20190911T211140Z
UID:10007840-1572026400-1572033600@www.rockford.edu
SUMMARY:“Aloft”
DESCRIPTION:“Aloft” is a solo show by Rafael E. Vera\, is an interdisciplinary artist from Venezuela and based out of Chicago. He is the department head of Studio Arts at Loyola University\, Co-Director of Ralph Arnold Gallery and received his MFA from the School of the Art Institute of Chicago. \nExhibition Dates: October 25-November 29\, 2019 \nReception in the Gallery: Friday\, October 25 \n 
URL:https://www.rockford.edu/calendar-item/aloft/
LOCATION:Maddox Theatre – Clark Arts Center\, 5050 E. State St. \, Rockford\, IL\, 61108\, United States
CATEGORIES:Campus Wide Event (Public)
ATTACH;FMTTYPE=image/jpeg:https://www.rockford.edu/wp-content/uploads/2019/08/Aloft-Rafael-E-Vera.jpg
ORGANIZER;CN="Art Gallery":MAILTO:cwarzecha@rockford.edu
GEO:42.2640342;-89.0197305
X-APPLE-STRUCTURED-LOCATION;VALUE=URI;X-ADDRESS=Maddox Theatre – Clark Arts Center 5050 E. State St.  Rockford IL 61108 United States;X-APPLE-RADIUS=500;X-TITLE=5050 E. State St.:geo:-89.0197305,42.2640342
END:VEVENT
BEGIN:VEVENT
DTSTART;TZID=America/Chicago:20191025T180000
DTEND;TZID=America/Chicago:20191025T200000
DTSTAMP:20260422T232103
CREATED:20191015T205711Z
LAST-MODIFIED:20191017T195450Z
UID:10007834-1572026400-1572033600@www.rockford.edu
SUMMARY:Halloween Jeopardy with Math Club
DESCRIPTION:Join Math Club in the Den for Halloween Jeopardy! Come out an play for your chance to win prizes! Your favorite Halloween candy an drinks will be provided.
URL:https://www.rockford.edu/calendar-item/halloween-jeopardy-with-math-club/
LOCATION:The Den – Burpee Student Center\, IL
CATEGORIES:Campus Wide Event (Public),Clubs & Orgs,Regent Experience,Student Activities
GEO:40.6331249;-89.3985283
END:VEVENT
END:VCALENDAR