BEGIN:VCALENDAR
VERSION:2.0
PRODID:-//Rockford University - ECPv6.15.20//NONSGML v1.0//EN
CALSCALE:GREGORIAN
METHOD:PUBLISH
X-ORIGINAL-URL:https://www.rockford.edu
X-WR-CALDESC:Events for Rockford University
REFRESH-INTERVAL;VALUE=DURATION:PT1H
X-Robots-Tag:noindex
X-PUBLISHED-TTL:PT1H
BEGIN:VTIMEZONE
TZID:America/Chicago
BEGIN:DAYLIGHT
TZOFFSETFROM:-0600
TZOFFSETTO:-0500
TZNAME:CDT
DTSTART:20180311T080000
END:DAYLIGHT
BEGIN:STANDARD
TZOFFSETFROM:-0500
TZOFFSETTO:-0600
TZNAME:CST
DTSTART:20181104T070000
END:STANDARD
BEGIN:DAYLIGHT
TZOFFSETFROM:-0600
TZOFFSETTO:-0500
TZNAME:CDT
DTSTART:20190310T080000
END:DAYLIGHT
BEGIN:STANDARD
TZOFFSETFROM:-0500
TZOFFSETTO:-0600
TZNAME:CST
DTSTART:20191103T070000
END:STANDARD
BEGIN:DAYLIGHT
TZOFFSETFROM:-0600
TZOFFSETTO:-0500
TZNAME:CDT
DTSTART:20200308T080000
END:DAYLIGHT
BEGIN:STANDARD
TZOFFSETFROM:-0500
TZOFFSETTO:-0600
TZNAME:CST
DTSTART:20201101T070000
END:STANDARD
END:VTIMEZONE
BEGIN:VEVENT
DTSTART;TZID=America/Chicago:20190820T083000
DTEND;TZID=America/Chicago:20190820T120000
DTSTAMP:20260422T214612
CREATED:20190820T182345Z
LAST-MODIFIED:20190820T182345Z
UID:10007826-1566289800-1566302400@www.rockford.edu
SUMMARY:The Plunge
DESCRIPTION:Don’t miss out on our annual Plunge event\, as our campus gives back to the local Rockford community. Some of this year’s sites include Severson Dells Nature Center\, the Discovery Center\, Mendelssohn Performing Arts Center\, and Beyer Stadium\, where the Rockford Peaches played baseball.
URL:https://www.rockford.edu/calendar-item/the-plunge/
LOCATION:Rockford University\, 5050 E. State St. \, Rockford\, IL\, 61108\, United States
CATEGORIES:Campus Wide Event (Public),Jane Adams Center for Civic Engagement (JACCE)
ATTACH;FMTTYPE=image/jpeg:https://www.rockford.edu/wp-content/uploads/2018/04/Generic-1.jpg
ORGANIZER;CN="Jane Addams Center for Civic Engagment":MAILTO:jacce@rockford.edu
GEO:42.2640342;-89.0197305
X-APPLE-STRUCTURED-LOCATION;VALUE=URI;X-ADDRESS=Rockford University 5050 E. State St.  Rockford IL 61108 United States;X-APPLE-RADIUS=500;X-TITLE=5050 E. State St.:geo:-89.0197305,42.2640342
END:VEVENT
BEGIN:VEVENT
DTSTART;TZID=America/Chicago:20190823T120000
DTEND;TZID=America/Chicago:20190823T130000
DTSTAMP:20260422T214612
CREATED:20190725T151846Z
LAST-MODIFIED:20190820T145006Z
UID:10007376-1566561600-1566565200@www.rockford.edu
SUMMARY:Presidents Opening Convocation- "More than Gossip"
DESCRIPTION:The 2019-20 Rockford University academic year will begin with a formal convocation and remarks by President Eric W. Fulcomer as he discusses his talk titled “More than Gossip”. Inspired by a summer trip with his daughter to New York City\, President Fulcomer will highlight a recent renewed interest in the hallmark CW Network TV show\, Gossip Girl\, as a backdrop to chronicle the lives of RU Alumni as motivation for students as they approach the academic year.  \nHeld since 1851\, this longtime tradition includes a faculty procession in full academic regalia.
URL:https://www.rockford.edu/calendar-item/presidents-opening-convocation-2/
LOCATION:Maddox Theatre – Clark Arts Center\, 5050 E. State St. \, Rockford\, IL\, 61108\, United States
CATEGORIES:Campus Wide Event (Public),Forum Series
ATTACH;FMTTYPE=image/jpeg:https://www.rockford.edu/wp-content/uploads/2018/04/Forum-Series-1.jpg
ORGANIZER;CN="President's Office":MAILTO:JCunningham@rockford.edu
GEO:42.2640342;-89.0197305
X-APPLE-STRUCTURED-LOCATION;VALUE=URI;X-ADDRESS=Maddox Theatre – Clark Arts Center 5050 E. State St.  Rockford IL 61108 United States;X-APPLE-RADIUS=500;X-TITLE=5050 E. State St.:geo:-89.0197305,42.2640342
END:VEVENT
END:VCALENDAR