BEGIN:VCALENDAR
VERSION:2.0
PRODID:-//Rockford University - ECPv6.15.20//NONSGML v1.0//EN
CALSCALE:GREGORIAN
METHOD:PUBLISH
X-WR-CALNAME:Rockford University
X-ORIGINAL-URL:https://www.rockford.edu
X-WR-CALDESC:Events for Rockford University
REFRESH-INTERVAL;VALUE=DURATION:PT1H
X-Robots-Tag:noindex
X-PUBLISHED-TTL:PT1H
BEGIN:VTIMEZONE
TZID:America/Chicago
BEGIN:DAYLIGHT
TZOFFSETFROM:-0600
TZOFFSETTO:-0500
TZNAME:CDT
DTSTART:20180311T080000
END:DAYLIGHT
BEGIN:STANDARD
TZOFFSETFROM:-0500
TZOFFSETTO:-0600
TZNAME:CST
DTSTART:20181104T070000
END:STANDARD
BEGIN:DAYLIGHT
TZOFFSETFROM:-0600
TZOFFSETTO:-0500
TZNAME:CDT
DTSTART:20190310T080000
END:DAYLIGHT
BEGIN:STANDARD
TZOFFSETFROM:-0500
TZOFFSETTO:-0600
TZNAME:CST
DTSTART:20191103T070000
END:STANDARD
BEGIN:DAYLIGHT
TZOFFSETFROM:-0600
TZOFFSETTO:-0500
TZNAME:CDT
DTSTART:20200308T080000
END:DAYLIGHT
BEGIN:STANDARD
TZOFFSETFROM:-0500
TZOFFSETTO:-0600
TZNAME:CST
DTSTART:20201101T070000
END:STANDARD
END:VTIMEZONE
BEGIN:VEVENT
DTSTART;TZID=America/Chicago:20190427T220000
DTEND;TZID=America/Chicago:20190428T010000
DTSTAMP:20260422T195555
CREATED:20190409T204005Z
LAST-MODIFIED:20190415T165454Z
UID:10007799-1556402400-1556413200@www.rockford.edu
SUMMARY:Glow Party : RU REWIND - RU Days 2019
DESCRIPTION:The grand finale of RU Days 2019 is an EDM experience with washable glow paint and FOAM! Students and their plus one are invited to dance the night away! Be sure to register early\, ONLY guests are able to register at the door.
URL:https://www.rockford.edu/calendar-item/glow-party-2/
LOCATION:Rockford University\, 5050 E. State St. \, Rockford\, IL\, 61108\, United States
CATEGORIES:Campus Wide Event (Public),Clubs & Orgs,Regent Experience,Student Activities
GEO:42.2640342;-89.0197305
X-APPLE-STRUCTURED-LOCATION;VALUE=URI;X-ADDRESS=Rockford University 5050 E. State St.  Rockford IL 61108 United States;X-APPLE-RADIUS=500;X-TITLE=5050 E. State St.:geo:-89.0197305,42.2640342
END:VEVENT
BEGIN:VEVENT
DTSTART;TZID=America/Chicago:20190428T140000
DTEND;TZID=America/Chicago:20190428T170000
DTSTAMP:20260422T195555
CREATED:20180828T154734Z
LAST-MODIFIED:20190228T150346Z
UID:10007180-1556460000-1556470800@www.rockford.edu
SUMMARY:All Shook Up
DESCRIPTION:Book by Joe DiPietro\ndirected by Kyle Donahue\, Rockford University Performing Arts alum ’03 \nThis happy musical is inspired by and featuring the songs of Elvis Presley. It’s 1955\, and into a “square” little town in a “square” little state rides a guitar-playing young man who changes everything and everyone he meets in this hip-swiveling\, lip-curling musical fantasy that’ll have you jumpin’ out of your blue suede shoes with such classics as “Heartbreak Hotel\,” “Jailhouse Rock\,” and “Don’t Be Cruel. \nTICKETS ARE REQUIRED for this event:\n\n\nRockford University Box Office (https://www.rockford.edu/artslectures/boxoffice/)\nOrder ticket(s) (https://bit.ly/2NLmrqk)\nview all of our Performing Art Shows for this season. (https://www.rockford.edu/artslectures/performingarts/)
URL:https://www.rockford.edu/calendar-item/all-shook-up/2019-04-28/
LOCATION:Rockford University\, 5050 E. State St. \, Rockford\, IL\, 61108\, United States
CATEGORIES:Campus Wide Event (Public),Forum Series,PA Performance
GEO:42.2640342;-89.0197305
X-APPLE-STRUCTURED-LOCATION;VALUE=URI;X-ADDRESS=Rockford University 5050 E. State St.  Rockford IL 61108 United States;X-APPLE-RADIUS=500;X-TITLE=5050 E. State St.:geo:-89.0197305,42.2640342
END:VEVENT
BEGIN:VEVENT
DTSTART;TZID=America/Chicago:20190429T160000
DTEND;TZID=America/Chicago:20190429T170000
DTSTAMP:20260422T195555
CREATED:20190423T163703Z
LAST-MODIFIED:20190423T205118Z
UID:10007805-1556553600-1556557200@www.rockford.edu
SUMMARY:Faculty Brown Bag Presentation- “The Evils of Tobacco” by Bern Sundstedt `77
DESCRIPTION:Bern Sundstedt `77\, Senior Project Specialist\, will perform and discuss the “The Evils of Tobacco\,” a serio-comedy-monologue written by Anton Chekhov in 1886 as translated by Michael Frayn. The play is presented by special arrangement with SAMUEL FRENCH\, INC. Mr. Sundstedt appears through the courtesy of Actors’ Equity Association\, the Union of Professional Actors and Stage Managers. Following the presentation there will be a celebratory reception in the lobby of Clark Arts in honor of the entire Brown Bag Series and its presenters. Clark Arts is accessible.  \nThe performance and short discussion following is part of the University’s Brown Bag Series\, a semester-long slate of presentations offered by faculty and staff of the University that feature topics of special interest to the presenters in order to spark the curiosity of others and drive conversation. \nAll Faculty\, staff\, students\, and members of the RU campus and Rockford community are welcome to attend. Admission is free. \n 
URL:https://www.rockford.edu/calendar-item/faculty-brown-bag-presentation-the-evils-of-tobacco-by-bern-sundstedt-77/
LOCATION:Maddox Theatre – Clark Arts Center\, 5050 E. State St. \, Rockford\, IL\, 61108\, United States
CATEGORIES:Campus Wide Event (Public)
ATTACH;FMTTYPE=image/jpeg:https://www.rockford.edu/wp-content/uploads/2019/04/Tobacco-banner-image.jpg
GEO:42.2640342;-89.0197305
X-APPLE-STRUCTURED-LOCATION;VALUE=URI;X-ADDRESS=Maddox Theatre – Clark Arts Center 5050 E. State St.  Rockford IL 61108 United States;X-APPLE-RADIUS=500;X-TITLE=5050 E. State St.:geo:-89.0197305,42.2640342
END:VEVENT
BEGIN:VEVENT
DTSTART;TZID=America/Chicago:20190430T163000
DTEND;TZID=America/Chicago:20190430T180000
DTSTAMP:20260422T195556
CREATED:20190416T182319Z
LAST-MODIFIED:20190416T182319Z
UID:10007803-1556641800-1556647200@www.rockford.edu
SUMMARY:Rockford University and Mercyhealth Open House
DESCRIPTION:Rockford University\, in partnership with Mercyhealth\, invite you to a nursing open house at the brand new state-of-the-art Javon Bea Hospital. Come learn how a Bachelor of Science in Nursing from Rockford University can lead to a rewarding career in the Mercyhealth system. Plus\, you’ll get a behind-the-scenes tour of the hospital. \nWhen: Tuesday\, April 30. Doors open at 4:30 pm with the program beginning at 5 pm. \nWhere: Javon Bea Hospital located at 8201 E. Riverside Blvd\, Rockford\, IL 61114. \nSpace is limited\, so reserve your spot today! Register online at www.rockford.edu/nursingcareers. \nFor more information\, please contact Faith Haley at 815.226.3382 or FHaley@rockford.edu.
URL:https://www.rockford.edu/calendar-item/rockford-university-and-mercyhealth-open-house/
LOCATION:Javon Bea Hospital\, 8201 E Riverside Blvd.\, Rockford\, IL\, 61114\, United States
CATEGORIES:Campus Wide Event (Public),Nursing
ATTACH;FMTTYPE=image/jpeg:https://www.rockford.edu/wp-content/uploads/2018/04/Generic-1.jpg
END:VEVENT
END:VCALENDAR