BEGIN:VCALENDAR
VERSION:2.0
PRODID:-//Rockford University - ECPv6.15.20//NONSGML v1.0//EN
CALSCALE:GREGORIAN
METHOD:PUBLISH
X-WR-CALNAME:Rockford University
X-ORIGINAL-URL:https://www.rockford.edu
X-WR-CALDESC:Events for Rockford University
REFRESH-INTERVAL;VALUE=DURATION:PT1H
X-Robots-Tag:noindex
X-PUBLISHED-TTL:PT1H
BEGIN:VTIMEZONE
TZID:America/Chicago
BEGIN:DAYLIGHT
TZOFFSETFROM:-0600
TZOFFSETTO:-0500
TZNAME:CDT
DTSTART:20170312T080000
END:DAYLIGHT
BEGIN:STANDARD
TZOFFSETFROM:-0500
TZOFFSETTO:-0600
TZNAME:CST
DTSTART:20171105T070000
END:STANDARD
BEGIN:DAYLIGHT
TZOFFSETFROM:-0600
TZOFFSETTO:-0500
TZNAME:CDT
DTSTART:20180311T080000
END:DAYLIGHT
BEGIN:STANDARD
TZOFFSETFROM:-0500
TZOFFSETTO:-0600
TZNAME:CST
DTSTART:20181104T070000
END:STANDARD
BEGIN:DAYLIGHT
TZOFFSETFROM:-0600
TZOFFSETTO:-0500
TZNAME:CDT
DTSTART:20190310T080000
END:DAYLIGHT
BEGIN:STANDARD
TZOFFSETFROM:-0500
TZOFFSETTO:-0600
TZNAME:CST
DTSTART:20191103T070000
END:STANDARD
END:VTIMEZONE
BEGIN:VEVENT
DTSTART;TZID=America/Chicago:20181029T080000
DTEND;TZID=America/Chicago:20181116T170000
DTSTAMP:20260423T091009
CREATED:20180522T203037Z
LAST-MODIFIED:20180809T150640Z
UID:10007568-1540800000-1542387600@www.rockford.edu
SUMMARY:Registration for spring semester and summer term
DESCRIPTION:Registration for spring semester and summer term for all\ncontinuing graduate\, undergraduate\, and BSMS students \nView the full Academic Calendar 2018-19
URL:https://www.rockford.edu/calendar-item/registration-for-spring-semester-and-summer-term/
LOCATION:Rockford University\, 5050 E. State St. \, Rockford\, IL\, 61108\, United States
CATEGORIES:Academic Calendar,Campus Wide Event (Public)
ATTACH;FMTTYPE=image/jpeg:https://www.rockford.edu/wp-content/uploads/2018/04/Academic-Calendar.jpg
GEO:42.2640342;-89.0197305
X-APPLE-STRUCTURED-LOCATION;VALUE=URI;X-ADDRESS=Rockford University 5050 E. State St.  Rockford IL 61108 United States;X-APPLE-RADIUS=500;X-TITLE=5050 E. State St.:geo:-89.0197305,42.2640342
END:VEVENT
BEGIN:VEVENT
DTSTART;TZID=America/Chicago:20181107T080000
DTEND;TZID=America/Chicago:20181107T170000
DTSTAMP:20260423T091009
CREATED:20181017T152239Z
LAST-MODIFIED:20181023T165013Z
UID:10007710-1541577600-1541610000@www.rockford.edu
SUMMARY:Canned Food Drive
DESCRIPTION:The Jane Addams Center for Civic Engagement (JACCE) will be collecting donations for Rock River Valley Pantry as we observe Hunger & Homelessness Awareness week from November 7 thru November 16.\nPlease drop off your donations in the Student Life Office near the Den in the Burpee Center from 8am to 5pm\, Monday thru Friday. \nCurrent needs for Rock River Valley Pantry include but all canned/sealed donations are welcomed.\n– Canned Fruit\n– Applesauce\n– 100% Juice\n– Canned Vegetables\n– Pasta and Rice\n– Cereal\n– Tuna\n– Soup
URL:https://www.rockford.edu/calendar-item/canned-food-drive/2018-11-07/
LOCATION:Student Life Office – Burpee Student Center\, 5050 E State\, Rockford\, 61108
CATEGORIES:Campus Wide Event (Public),Jane Adams Center for Civic Engagement (JACCE)
ORGANIZER;CN="Jane Addams Center for Civic Engagment":MAILTO:jacce@rockford.edu
END:VEVENT
BEGIN:VEVENT
DTSTART;TZID=America/Chicago:20181107T080000
DTEND;TZID=America/Chicago:20181107T170000
DTSTAMP:20260423T091009
CREATED:20181107T153118Z
LAST-MODIFIED:20190604T170415Z
UID:10007733-1541577600-1541610000@www.rockford.edu
SUMMARY:Nursing Student Organization "Stuff the Turkey Drive for Carpenter's Place"
DESCRIPTION:Carpenter’s Place in Rockford is in desperate need for toilet paper and socks this holiday season. \nDonations can be put in the donation bin located in the Starr Science Building across from office 208 or brought to the NSO meeting on Wednesday\, November 28 at 12 PM.
URL:https://www.rockford.edu/calendar-item/nursing-student-organization-stuff-the-turkey-drive-for-carpenters-place/2018-11-07/
LOCATION:Rockford University\, 5050 E. State St. \, Rockford\, IL\, 61108\, United States
CATEGORIES:Campus Wide Event (Public),Clubs & Orgs
ORGANIZER;CN="Student Involvement and Orientation":MAILTO:LKeller@Rockford.edu
GEO:42.2640342;-89.0197305
X-APPLE-STRUCTURED-LOCATION;VALUE=URI;X-ADDRESS=Rockford University 5050 E. State St.  Rockford IL 61108 United States;X-APPLE-RADIUS=500;X-TITLE=5050 E. State St.:geo:-89.0197305,42.2640342
END:VEVENT
BEGIN:VEVENT
DTSTART;TZID=America/Chicago:20181108T080000
DTEND;TZID=America/Chicago:20181108T170000
DTSTAMP:20260423T091009
CREATED:20181017T152239Z
LAST-MODIFIED:20181023T165013Z
UID:10007711-1541664000-1541696400@www.rockford.edu
SUMMARY:Canned Food Drive
DESCRIPTION:The Jane Addams Center for Civic Engagement (JACCE) will be collecting donations for Rock River Valley Pantry as we observe Hunger & Homelessness Awareness week from November 7 thru November 16.\nPlease drop off your donations in the Student Life Office near the Den in the Burpee Center from 8am to 5pm\, Monday thru Friday. \nCurrent needs for Rock River Valley Pantry include but all canned/sealed donations are welcomed.\n– Canned Fruit\n– Applesauce\n– 100% Juice\n– Canned Vegetables\n– Pasta and Rice\n– Cereal\n– Tuna\n– Soup
URL:https://www.rockford.edu/calendar-item/canned-food-drive/2018-11-08/
LOCATION:Student Life Office – Burpee Student Center\, 5050 E State\, Rockford\, 61108
CATEGORIES:Campus Wide Event (Public),Jane Adams Center for Civic Engagement (JACCE)
ORGANIZER;CN="Jane Addams Center for Civic Engagment":MAILTO:jacce@rockford.edu
END:VEVENT
BEGIN:VEVENT
DTSTART;TZID=America/Chicago:20181108T080000
DTEND;TZID=America/Chicago:20181108T170000
DTSTAMP:20260423T091009
CREATED:20181107T153118Z
LAST-MODIFIED:20190604T170415Z
UID:10007734-1541664000-1541696400@www.rockford.edu
SUMMARY:Nursing Student Organization "Stuff the Turkey Drive for Carpenter's Place"
DESCRIPTION:Carpenter’s Place in Rockford is in desperate need for toilet paper and socks this holiday season. \nDonations can be put in the donation bin located in the Starr Science Building across from office 208 or brought to the NSO meeting on Wednesday\, November 28 at 12 PM.
URL:https://www.rockford.edu/calendar-item/nursing-student-organization-stuff-the-turkey-drive-for-carpenters-place/2018-11-08/
LOCATION:Rockford University\, 5050 E. State St. \, Rockford\, IL\, 61108\, United States
CATEGORIES:Campus Wide Event (Public),Clubs & Orgs
ORGANIZER;CN="Student Involvement and Orientation":MAILTO:LKeller@Rockford.edu
GEO:42.2640342;-89.0197305
X-APPLE-STRUCTURED-LOCATION;VALUE=URI;X-ADDRESS=Rockford University 5050 E. State St.  Rockford IL 61108 United States;X-APPLE-RADIUS=500;X-TITLE=5050 E. State St.:geo:-89.0197305,42.2640342
END:VEVENT
BEGIN:VEVENT
DTSTART;TZID=America/Chicago:20181108T200000
DTEND;TZID=America/Chicago:20181108T220000
DTSTAMP:20260423T091009
CREATED:20181105T170822Z
LAST-MODIFIED:20181105T170822Z
UID:10007730-1541707200-1541714400@www.rockford.edu
SUMMARY:Ocean's 8 Movie Night
DESCRIPTION:CAB is showing Ocean’s 8 on the 8th of November at 8:00 pm . . . And that’s not the only “8” reference\, because there will also be 8 different foods to try! How great is that? You won’t want to miss this FREE movie night. See you in Scarborough Auditorium on Thursday\, November 8th at 8:00 pm.  \nHere’s a movie synopsis of Ocean’s 8: Five years\, eight months\, 12 days and counting — that’s how long Debbie Ocean has been devising the biggest heist of her life. She knows what it’s going to take — a team of the best people in the field\, starting with her partner-in-crime Lou Miller. Together\, they recruit a crew of specialists\, including jeweler Amita\, street con Constance\, suburban mom Tammy\, hacker Nine Ball\, and fashion designer Rose. Their target — a necklace that’s worth more than $150 million.
URL:https://www.rockford.edu/calendar-item/oceans-8-movie-night/
LOCATION:Rockford University\, 5050 E. State St. \, Rockford\, IL\, 61108\, United States
CATEGORIES:Campus Wide Event (Public),Student Activities
ORGANIZER;CN="Student Activities":MAILTO:APJohnson@rockford.edu
GEO:42.2640342;-89.0197305
X-APPLE-STRUCTURED-LOCATION;VALUE=URI;X-ADDRESS=Rockford University 5050 E. State St.  Rockford IL 61108 United States;X-APPLE-RADIUS=500;X-TITLE=5050 E. State St.:geo:-89.0197305,42.2640342
END:VEVENT
BEGIN:VEVENT
DTSTART;TZID=America/Chicago:20181109T080000
DTEND;TZID=America/Chicago:20181109T170000
DTSTAMP:20260423T091009
CREATED:20181017T152239Z
LAST-MODIFIED:20181023T165013Z
UID:10007712-1541750400-1541782800@www.rockford.edu
SUMMARY:Canned Food Drive
DESCRIPTION:The Jane Addams Center for Civic Engagement (JACCE) will be collecting donations for Rock River Valley Pantry as we observe Hunger & Homelessness Awareness week from November 7 thru November 16.\nPlease drop off your donations in the Student Life Office near the Den in the Burpee Center from 8am to 5pm\, Monday thru Friday. \nCurrent needs for Rock River Valley Pantry include but all canned/sealed donations are welcomed.\n– Canned Fruit\n– Applesauce\n– 100% Juice\n– Canned Vegetables\n– Pasta and Rice\n– Cereal\n– Tuna\n– Soup
URL:https://www.rockford.edu/calendar-item/canned-food-drive/2018-11-09/
LOCATION:Student Life Office – Burpee Student Center\, 5050 E State\, Rockford\, 61108
CATEGORIES:Campus Wide Event (Public),Jane Adams Center for Civic Engagement (JACCE)
ORGANIZER;CN="Jane Addams Center for Civic Engagment":MAILTO:jacce@rockford.edu
END:VEVENT
BEGIN:VEVENT
DTSTART;TZID=America/Chicago:20181109T080000
DTEND;TZID=America/Chicago:20181109T170000
DTSTAMP:20260423T091009
CREATED:20181107T153118Z
LAST-MODIFIED:20190604T170415Z
UID:10007735-1541750400-1541782800@www.rockford.edu
SUMMARY:Nursing Student Organization "Stuff the Turkey Drive for Carpenter's Place"
DESCRIPTION:Carpenter’s Place in Rockford is in desperate need for toilet paper and socks this holiday season. \nDonations can be put in the donation bin located in the Starr Science Building across from office 208 or brought to the NSO meeting on Wednesday\, November 28 at 12 PM.
URL:https://www.rockford.edu/calendar-item/nursing-student-organization-stuff-the-turkey-drive-for-carpenters-place/2018-11-09/
LOCATION:Rockford University\, 5050 E. State St. \, Rockford\, IL\, 61108\, United States
CATEGORIES:Campus Wide Event (Public),Clubs & Orgs
ORGANIZER;CN="Student Involvement and Orientation":MAILTO:LKeller@Rockford.edu
GEO:42.2640342;-89.0197305
X-APPLE-STRUCTURED-LOCATION;VALUE=URI;X-ADDRESS=Rockford University 5050 E. State St.  Rockford IL 61108 United States;X-APPLE-RADIUS=500;X-TITLE=5050 E. State St.:geo:-89.0197305,42.2640342
END:VEVENT
BEGIN:VEVENT
DTSTART;TZID=America/Chicago:20181109T100000
DTEND;TZID=America/Chicago:20181109T140000
DTSTAMP:20260423T091009
CREATED:20180726T192317Z
LAST-MODIFIED:20180803T164754Z
UID:10007631-1541757600-1541772000@www.rockford.edu
SUMMARY:Rock Solid Healthy Lifestyle Presents Color Out Fridays!
DESCRIPTION:Color Out Fridays are presented by Rock Solid Healthy Lifestyle and sponsored by Lang Health Center and Student Life. Every Friday the Rock Solid Healthy Lifestyle table will be set up in the Den from 10am-2pm to distribute student-centered health information\, provide fun activities and events\, and raffle off prizes. Each week is centered around a different topic\, such as sexual health\, alcohol awareness\, or campus safety. Every Friday is Color Out Friday. This means that each Friday students who wear the coordinating color of the week can earn punches on their Rock Solid Healthy Lifestyle Card. A minimum of 8 out of 12 punches are needed to enter into the grand prize drawing at the end of the semester. It is a fun and easy way to participate on campus and win great prizes! The dates are below and they are included in the attached pdf. If you have any further questions email Taylor Larson — Graduate Assistant for Lang Health Center — at tlarson@rockford.edu\n__________________________________________________________________________________________\nAugust 31: the semester kickoff of our Color Out Friday program and the color is purple to celebrate getting back on campus! Come to the Den between 10am and 2pm to get your punch card punched! (cards will be available for students who have not received them yet) \nSeptember 7th: this week focuses on suicide prevention and awareness and the color is yellow \nSeptember 14th: this week focuses on promoting sexual health and safety and the color is green \nSeptember 21st: this week focuses on drug and alcohol awareness and safety and the color is red \nSeptember 28th: this week focuses on promoting health and fitness and the color is orange \nOctober 5th: this week focuses on mental health awareness and the color is blue \nOctober 12th: MIDTERM WEEK; NO COLOR OUT FRIDAY \nOctober 19th: FALL BREAK; NO COLOR OUT FRIDAY \nOctober 26th: this week focuses on the prevention and awareness of domestic violence and the color is purple \nNovember 2nd: this week focuses on random acts of kindness and the color is yellow \nNovember 9th: this week focuses on the promotion and increased awareness of the different resources available on and near campus and the color is orange \nNovember 16th: this week focuses on the health risks related to tobacco and the color is white \nNovember 23: BREAK; NO COLOR OUT FRIDAY \nNovember 30th: this week focuses on promoting healthy skin and the color is black \nDecember 7th: this is the week before finals and will focus on promoting stress management and relief tactics and the color is green. It is also the last day of Color Out Friday for the semester!
URL:https://www.rockford.edu/calendar-item/rock-solid-healthy-lifestyle-presents-color-out-fridays/2018-11-09/
LOCATION:The Den – Burpee Student Center\, IL
CATEGORIES:Campus Wide Event (Public),Lang Center for Health & Wellness,Prevention and Education
GEO:40.6331249;-89.3985283
END:VEVENT
BEGIN:VEVENT
DTSTART;TZID=America/Chicago:20181110T080000
DTEND;TZID=America/Chicago:20181110T170000
DTSTAMP:20260423T091009
CREATED:20181017T152239Z
LAST-MODIFIED:20181023T165013Z
UID:10007713-1541836800-1541869200@www.rockford.edu
SUMMARY:Canned Food Drive
DESCRIPTION:The Jane Addams Center for Civic Engagement (JACCE) will be collecting donations for Rock River Valley Pantry as we observe Hunger & Homelessness Awareness week from November 7 thru November 16.\nPlease drop off your donations in the Student Life Office near the Den in the Burpee Center from 8am to 5pm\, Monday thru Friday. \nCurrent needs for Rock River Valley Pantry include but all canned/sealed donations are welcomed.\n– Canned Fruit\n– Applesauce\n– 100% Juice\n– Canned Vegetables\n– Pasta and Rice\n– Cereal\n– Tuna\n– Soup
URL:https://www.rockford.edu/calendar-item/canned-food-drive/2018-11-10/
LOCATION:Student Life Office – Burpee Student Center\, 5050 E State\, Rockford\, 61108
CATEGORIES:Campus Wide Event (Public),Jane Adams Center for Civic Engagement (JACCE)
ORGANIZER;CN="Jane Addams Center for Civic Engagment":MAILTO:jacce@rockford.edu
END:VEVENT
BEGIN:VEVENT
DTSTART;TZID=America/Chicago:20181110T080000
DTEND;TZID=America/Chicago:20181110T170000
DTSTAMP:20260423T091009
CREATED:20181107T153118Z
LAST-MODIFIED:20190604T170415Z
UID:10007736-1541836800-1541869200@www.rockford.edu
SUMMARY:Nursing Student Organization "Stuff the Turkey Drive for Carpenter's Place"
DESCRIPTION:Carpenter’s Place in Rockford is in desperate need for toilet paper and socks this holiday season. \nDonations can be put in the donation bin located in the Starr Science Building across from office 208 or brought to the NSO meeting on Wednesday\, November 28 at 12 PM.
URL:https://www.rockford.edu/calendar-item/nursing-student-organization-stuff-the-turkey-drive-for-carpenters-place/2018-11-10/
LOCATION:Rockford University\, 5050 E. State St. \, Rockford\, IL\, 61108\, United States
CATEGORIES:Campus Wide Event (Public),Clubs & Orgs
ORGANIZER;CN="Student Involvement and Orientation":MAILTO:LKeller@Rockford.edu
GEO:42.2640342;-89.0197305
X-APPLE-STRUCTURED-LOCATION;VALUE=URI;X-ADDRESS=Rockford University 5050 E. State St.  Rockford IL 61108 United States;X-APPLE-RADIUS=500;X-TITLE=5050 E. State St.:geo:-89.0197305,42.2640342
END:VEVENT
END:VCALENDAR