BEGIN:VCALENDAR
VERSION:2.0
PRODID:-//Rockford University - ECPv6.15.20//NONSGML v1.0//EN
CALSCALE:GREGORIAN
METHOD:PUBLISH
X-WR-CALNAME:Rockford University
X-ORIGINAL-URL:https://www.rockford.edu
X-WR-CALDESC:Events for Rockford University
REFRESH-INTERVAL;VALUE=DURATION:PT1H
X-Robots-Tag:noindex
X-PUBLISHED-TTL:PT1H
BEGIN:VTIMEZONE
TZID:America/Chicago
BEGIN:DAYLIGHT
TZOFFSETFROM:-0600
TZOFFSETTO:-0500
TZNAME:CDT
DTSTART:20170312T080000
END:DAYLIGHT
BEGIN:STANDARD
TZOFFSETFROM:-0500
TZOFFSETTO:-0600
TZNAME:CST
DTSTART:20171105T070000
END:STANDARD
BEGIN:DAYLIGHT
TZOFFSETFROM:-0600
TZOFFSETTO:-0500
TZNAME:CDT
DTSTART:20180311T080000
END:DAYLIGHT
BEGIN:STANDARD
TZOFFSETFROM:-0500
TZOFFSETTO:-0600
TZNAME:CST
DTSTART:20181104T070000
END:STANDARD
BEGIN:DAYLIGHT
TZOFFSETFROM:-0600
TZOFFSETTO:-0500
TZNAME:CDT
DTSTART:20190310T080000
END:DAYLIGHT
BEGIN:STANDARD
TZOFFSETFROM:-0500
TZOFFSETTO:-0600
TZNAME:CST
DTSTART:20191103T070000
END:STANDARD
END:VTIMEZONE
BEGIN:VEVENT
DTSTART;TZID=America/Chicago:20181002T160000
DTEND;TZID=America/Chicago:20181002T200000
DTSTAMP:20260423T121025
CREATED:20180924T222628Z
LAST-MODIFIED:20181001T214136Z
UID:10007698-1538496000-1538510400@www.rockford.edu
SUMMARY:Laser Tag - Homecoming 2018
DESCRIPTION:Ever wondered what the Seaverson Center Auxiliary Gym would look like if transformed into a laser tag arena? Wonder no longer! Stop on by for a game (or several) of laser-filled competition as you dart around inflatable obstacles and avoid being tagged. Join us on Tuesday\, October 2nd\, 2018 in the Seaver Center Auxiliary Gym from 4:00-8:00 pm.
URL:https://www.rockford.edu/calendar-item/laser-tag-homecoming-2018/
LOCATION:Seaver Physical Education Center\, 5050 E. State St. \, Rockford\, IL\, 61108\, United States
CATEGORIES:Campus Wide Event (Public),Student Activities
ORGANIZER;CN="Student Activities":MAILTO:APJohnson@rockford.edu
GEO:42.2640342;-89.0197305
X-APPLE-STRUCTURED-LOCATION;VALUE=URI;X-ADDRESS=Seaver Physical Education Center 5050 E. State St.  Rockford IL 61108 United States;X-APPLE-RADIUS=500;X-TITLE=5050 E. State St.:geo:-89.0197305,42.2640342
END:VEVENT
BEGIN:VEVENT
DTSTART;TZID=America/Chicago:20181002T200000
DTEND;TZID=America/Chicago:20181002T220000
DTSTAMP:20260423T121025
CREATED:20180924T222426Z
LAST-MODIFIED:20181001T214347Z
UID:10007697-1538510400-1538517600@www.rockford.edu
SUMMARY:Bonfire & Cider - Homecoming 2018
DESCRIPTION:Sip on cider and cozy up by the fire at this Homecoming kickoff event! Let’s light up the night with laughter and memories as we celebrate the meaning of Homecoming and the wonderful university that we are so thankful to call “home”. Join us Tuesday\, October 2nd\, 2018 at 8:00 pm in the grassy area near the tennis courts (south of the Burpee Student Center). \n(NOTE: The original Bonfire date of 10/1 was postponed until 10/2 due to a forecast of bad weather conditions.)
URL:https://www.rockford.edu/calendar-item/bonfire-cider-homecoming-2018/
LOCATION:Rockford University\, 5050 E. State St. \, Rockford\, IL\, 61108\, United States
CATEGORIES:Campus Wide Event (Public),Student Activities
ORGANIZER;CN="Student Activities":MAILTO:APJohnson@rockford.edu
GEO:42.2640342;-89.0197305
X-APPLE-STRUCTURED-LOCATION;VALUE=URI;X-ADDRESS=Rockford University 5050 E. State St.  Rockford IL 61108 United States;X-APPLE-RADIUS=500;X-TITLE=5050 E. State St.:geo:-89.0197305,42.2640342
END:VEVENT
BEGIN:VEVENT
DTSTART;TZID=America/Chicago:20181003T120000
DTEND;TZID=America/Chicago:20181003T124500
DTSTAMP:20260423T121025
CREATED:20180924T222911Z
LAST-MODIFIED:20180924T223618Z
UID:10007699-1538568000-1538570700@www.rockford.edu
SUMMARY:Lunchtime Trivia - Homecoming 2018
DESCRIPTION:Join us in the Den for a bit of lunchtime trivia and compete for themed prizes! The theme for this month is “Fall Favorites”. See you on Wednesday\, October 3rd at 12:00 pm in the Burpee Student Center Den!
URL:https://www.rockford.edu/calendar-item/lunchtime-trivia-homecoming-2018/
LOCATION:Rockford University\, 5050 E. State St. \, Rockford\, IL\, 61108\, United States
CATEGORIES:Campus Wide Event (Public),Student Activities
ORGANIZER;CN="Student Activities":MAILTO:APJohnson@rockford.edu
GEO:42.2640342;-89.0197305
X-APPLE-STRUCTURED-LOCATION;VALUE=URI;X-ADDRESS=Rockford University 5050 E. State St.  Rockford IL 61108 United States;X-APPLE-RADIUS=500;X-TITLE=5050 E. State St.:geo:-89.0197305,42.2640342
END:VEVENT
BEGIN:VEVENT
DTSTART;TZID=America/Chicago:20181003T150000
DTEND;TZID=America/Chicago:20181003T220000
DTSTAMP:20260423T121025
CREATED:20180924T223129Z
LAST-MODIFIED:20181001T213854Z
UID:10007700-1538578800-1538604000@www.rockford.edu
SUMMARY:The Purge Marathon - Homecoming 2018
DESCRIPTION:Stop by Scarborough Auditorium (otherwise known as the Severson Auditorium within Scarborough Hall) on Wednesday\, October 3rd between classes for a single film\, or splurge on a bit of Purge entertainment and watch all four! There will be free food provided at each movie event. \nMovie Schedule: \nThe Purge Series Marathon: The Purge (3:00 pm)\, The Pure: Anarchy (4:30 pm)\, The Purge: Election Year (6:15 pm)\, The First Purge (8:00 pm) \n 
URL:https://www.rockford.edu/calendar-item/the-purge-marathon-homecoming-2018/
LOCATION:Severson Auditorium – Scarborough Hall\, 5050 E. State St. \, Rockford\, IL\, 61108\, United States
CATEGORIES:Campus Wide Event (Public),Student Activities
ORGANIZER;CN="Student Activities":MAILTO:APJohnson@rockford.edu
GEO:42.2640342;-89.0197305
X-APPLE-STRUCTURED-LOCATION;VALUE=URI;X-ADDRESS=Severson Auditorium – Scarborough Hall 5050 E. State St.  Rockford IL 61108 United States;X-APPLE-RADIUS=500;X-TITLE=5050 E. State St.:geo:-89.0197305,42.2640342
END:VEVENT
BEGIN:VEVENT
DTSTART;TZID=America/Chicago:20181004T080000
DTEND;TZID=America/Chicago:20181004T080000
DTSTAMP:20260423T121025
CREATED:20180730T135817Z
LAST-MODIFIED:20180809T144152Z
UID:10007637-1538640000-1538640000@www.rockford.edu
SUMMARY:Cohort Start Dates
DESCRIPTION:Students can begin classes every five weeks\, but cohorts begin four times per year.
URL:https://www.rockford.edu/calendar-item/cohort-start-dates/2018-10-04/
LOCATION:Rockford University\, 5050 E. State St. \, Rockford\, IL\, 61108\, United States
CATEGORIES:Academic Calendar,Campus Wide Event (Public)
ATTACH;FMTTYPE=image/jpeg:https://www.rockford.edu/wp-content/uploads/2018/04/Academic-Calendar.jpg
GEO:42.2640342;-89.0197305
X-APPLE-STRUCTURED-LOCATION;VALUE=URI;X-ADDRESS=Rockford University 5050 E. State St.  Rockford IL 61108 United States;X-APPLE-RADIUS=500;X-TITLE=5050 E. State St.:geo:-89.0197305,42.2640342
END:VEVENT
BEGIN:VEVENT
DTSTART;TZID=America/Chicago:20181004T180000
DTEND;TZID=America/Chicago:20181004T200000
DTSTAMP:20260423T121025
CREATED:20180924T223329Z
LAST-MODIFIED:20180924T223329Z
UID:10007701-1538676000-1538683200@www.rockford.edu
SUMMARY:Capture the Flag - Homecoming 2018
DESCRIPTION:Valiantly defend your flag with fellow Regents in this classic\, incredibly fun game of adventure\, wit\, and agility. See you at 6:00 pm on Thursday\, October 4th in the Campus Commons!
URL:https://www.rockford.edu/calendar-item/capture-the-flag-homecoming-2018/
LOCATION:Rockford University\, 5050 E. State St. \, Rockford\, IL\, 61108\, United States
CATEGORIES:Campus Wide Event (Public),Student Activities
ORGANIZER;CN="Student Activities":MAILTO:APJohnson@rockford.edu
GEO:42.2640342;-89.0197305
X-APPLE-STRUCTURED-LOCATION;VALUE=URI;X-ADDRESS=Rockford University 5050 E. State St.  Rockford IL 61108 United States;X-APPLE-RADIUS=500;X-TITLE=5050 E. State St.:geo:-89.0197305,42.2640342
END:VEVENT
BEGIN:VEVENT
DTSTART;TZID=America/Chicago:20181004T193000
DTEND;TZID=America/Chicago:20181004T213000
DTSTAMP:20260423T121025
CREATED:20180821T164950Z
LAST-MODIFIED:20190426T161628Z
UID:10007648-1538681400-1538688600@www.rockford.edu
SUMMARY:Carrie the Musical
DESCRIPTION:Adapted from Stephen King’s novel\, Carrie focuses on an awkward teenage girl with telekinetic powers whose lonely life is dominated by her mother\, an oppressive religious fanatic. Carrie tries in vain to escape her unhappy home life and be accepted by her schoolmates but to no avail. When she is grossly humiliated by her classmates at the high school prom\, she unleashes her wrath in a reign of destructive chaos on everyone and everything in her path.\nTICKETS ARE REQUIRED for this event:\n\n\nRockford University Box Office (https://www.rockford.edu/artslectures/boxoffice/)\nOrder ticket(s) (https://bit.ly/2NLmrqk)\nview all of our Performing Art Shows for this season. (https://www.rockford.edu/artslectures/performingarts/)\nStudents: Please contact the box office to obtain your ticket for this event at no cost.\n\n\n 
URL:https://www.rockford.edu/calendar-item/carrie-the-musical/2018-10-04/
LOCATION:Maddox Theatre – Clark Arts Center\, 5050 E. State St. \, Rockford\, IL\, 61108\, United States
CATEGORIES:Academic Calendar,Campus Wide Event (Public),Forum Series,PA Performance
GEO:42.2640342;-89.0197305
X-APPLE-STRUCTURED-LOCATION;VALUE=URI;X-ADDRESS=Maddox Theatre – Clark Arts Center 5050 E. State St.  Rockford IL 61108 United States;X-APPLE-RADIUS=500;X-TITLE=5050 E. State St.:geo:-89.0197305,42.2640342
END:VEVENT
BEGIN:VEVENT
DTSTART;VALUE=DATE:20181005
DTEND;VALUE=DATE:20181008
DTSTAMP:20260423T121025
CREATED:20180918T140618Z
LAST-MODIFIED:20180918T140618Z
UID:10007695-1538697600-1538956799@www.rockford.edu
SUMMARY:Homecoming Weekend
DESCRIPTION:We hope you will join us for a weekend of celebrating being a Regent!  We look forward all the activities including campus tours\, musical performances\, sporting events\, award presentations\, Golden Grad celebrations\, lectures\, and more! We hope you will be able to join us.  \nSpecial weekend activities will revolve around the classes listed below\, but everyone is welcome! If you would like to become more involved and help create a fun-filled & meaningful time for your class\, please contact the Alumni Office at alumni@rockford.edu or 815-394-5111. \nClass of 1968 celebrates their 50th reunion!\nClass of 1993 celebrates their 25th reunion! \nWhile the above classes will be celebrating specific reunion years\, Homecoming @ Reunion is open to everyone! \n\nReunion2018AccommodationsList\n2018 Reunion Brochure\nOnline Registration\n\nIf you have any questions\, please contact the Alumni Office at alumni@rockford.edu or 815-394-5111.
URL:https://www.rockford.edu/calendar-item/homecoming-weekend/
LOCATION:Rockford University\, 5050 E. State St. \, Rockford\, IL\, 61108\, United States
CATEGORIES:Alumni,Campus Wide Event (Public)
GEO:42.2640342;-89.0197305
X-APPLE-STRUCTURED-LOCATION;VALUE=URI;X-ADDRESS=Rockford University 5050 E. State St.  Rockford IL 61108 United States;X-APPLE-RADIUS=500;X-TITLE=5050 E. State St.:geo:-89.0197305,42.2640342
END:VEVENT
BEGIN:VEVENT
DTSTART;TZID=America/Chicago:20181005T100000
DTEND;TZID=America/Chicago:20181005T140000
DTSTAMP:20260423T121025
CREATED:20180726T192317Z
LAST-MODIFIED:20180803T164754Z
UID:10007626-1538733600-1538748000@www.rockford.edu
SUMMARY:Rock Solid Healthy Lifestyle Presents Color Out Fridays!
DESCRIPTION:Color Out Fridays are presented by Rock Solid Healthy Lifestyle and sponsored by Lang Health Center and Student Life. Every Friday the Rock Solid Healthy Lifestyle table will be set up in the Den from 10am-2pm to distribute student-centered health information\, provide fun activities and events\, and raffle off prizes. Each week is centered around a different topic\, such as sexual health\, alcohol awareness\, or campus safety. Every Friday is Color Out Friday. This means that each Friday students who wear the coordinating color of the week can earn punches on their Rock Solid Healthy Lifestyle Card. A minimum of 8 out of 12 punches are needed to enter into the grand prize drawing at the end of the semester. It is a fun and easy way to participate on campus and win great prizes! The dates are below and they are included in the attached pdf. If you have any further questions email Taylor Larson — Graduate Assistant for Lang Health Center — at tlarson@rockford.edu\n__________________________________________________________________________________________\nAugust 31: the semester kickoff of our Color Out Friday program and the color is purple to celebrate getting back on campus! Come to the Den between 10am and 2pm to get your punch card punched! (cards will be available for students who have not received them yet) \nSeptember 7th: this week focuses on suicide prevention and awareness and the color is yellow \nSeptember 14th: this week focuses on promoting sexual health and safety and the color is green \nSeptember 21st: this week focuses on drug and alcohol awareness and safety and the color is red \nSeptember 28th: this week focuses on promoting health and fitness and the color is orange \nOctober 5th: this week focuses on mental health awareness and the color is blue \nOctober 12th: MIDTERM WEEK; NO COLOR OUT FRIDAY \nOctober 19th: FALL BREAK; NO COLOR OUT FRIDAY \nOctober 26th: this week focuses on the prevention and awareness of domestic violence and the color is purple \nNovember 2nd: this week focuses on random acts of kindness and the color is yellow \nNovember 9th: this week focuses on the promotion and increased awareness of the different resources available on and near campus and the color is orange \nNovember 16th: this week focuses on the health risks related to tobacco and the color is white \nNovember 23: BREAK; NO COLOR OUT FRIDAY \nNovember 30th: this week focuses on promoting healthy skin and the color is black \nDecember 7th: this is the week before finals and will focus on promoting stress management and relief tactics and the color is green. It is also the last day of Color Out Friday for the semester!
URL:https://www.rockford.edu/calendar-item/rock-solid-healthy-lifestyle-presents-color-out-fridays/2018-10-05/
LOCATION:The Den – Burpee Student Center\, IL
CATEGORIES:Campus Wide Event (Public),Lang Center for Health & Wellness,Prevention and Education
GEO:40.6331249;-89.3985283
END:VEVENT
BEGIN:VEVENT
DTSTART;TZID=America/Chicago:20181005T170000
DTEND;TZID=America/Chicago:20181005T190000
DTSTAMP:20260423T121025
CREATED:20180821T165141Z
LAST-MODIFIED:20180911T164344Z
UID:10007652-1538758800-1538766000@www.rockford.edu
SUMMARY:FORUM: Justice and Return: The comics and illustrations of Leila Abdelrazaq
DESCRIPTION:This Palestinian author and artist will discuss her biographical and autobiographical comics and the way she has used the comic form to make Palestinian issues accessible to a broad range of audiences. She will also discuss the political importance of storytelling in marginalized communities\, and the power of self-publishing and zine-making as a tool for activism. Read more about Leila’s art on her website here. \nSeverson Auditorium\, Scarborough Hall
URL:https://www.rockford.edu/calendar-item/justice-and-return-the-comics-and-illustrations-of-leila-abdelrazaq/
LOCATION:Severson Auditorium – Scarborough Hall\, 5050 E. State St. \, Rockford\, IL\, 61108\, United States
CATEGORIES:Academic Calendar,Campus Wide Event (Public),Forum Series
GEO:42.2640342;-89.0197305
X-APPLE-STRUCTURED-LOCATION;VALUE=URI;X-ADDRESS=Severson Auditorium – Scarborough Hall 5050 E. State St.  Rockford IL 61108 United States;X-APPLE-RADIUS=500;X-TITLE=5050 E. State St.:geo:-89.0197305,42.2640342
END:VEVENT
BEGIN:VEVENT
DTSTART;TZID=America/Chicago:20181005T193000
DTEND;TZID=America/Chicago:20181005T213000
DTSTAMP:20260423T121025
CREATED:20180821T164950Z
LAST-MODIFIED:20190426T161628Z
UID:10007649-1538767800-1538775000@www.rockford.edu
SUMMARY:Carrie the Musical
DESCRIPTION:Adapted from Stephen King’s novel\, Carrie focuses on an awkward teenage girl with telekinetic powers whose lonely life is dominated by her mother\, an oppressive religious fanatic. Carrie tries in vain to escape her unhappy home life and be accepted by her schoolmates but to no avail. When she is grossly humiliated by her classmates at the high school prom\, she unleashes her wrath in a reign of destructive chaos on everyone and everything in her path.\nTICKETS ARE REQUIRED for this event:\n\n\nRockford University Box Office (https://www.rockford.edu/artslectures/boxoffice/)\nOrder ticket(s) (https://bit.ly/2NLmrqk)\nview all of our Performing Art Shows for this season. (https://www.rockford.edu/artslectures/performingarts/)\nStudents: Please contact the box office to obtain your ticket for this event at no cost.\n\n\n 
URL:https://www.rockford.edu/calendar-item/carrie-the-musical/2018-10-05/
LOCATION:Maddox Theatre – Clark Arts Center\, 5050 E. State St. \, Rockford\, IL\, 61108\, United States
CATEGORIES:Academic Calendar,Campus Wide Event (Public),Forum Series,PA Performance
GEO:42.2640342;-89.0197305
X-APPLE-STRUCTURED-LOCATION;VALUE=URI;X-ADDRESS=Maddox Theatre – Clark Arts Center 5050 E. State St.  Rockford IL 61108 United States;X-APPLE-RADIUS=500;X-TITLE=5050 E. State St.:geo:-89.0197305,42.2640342
END:VEVENT
BEGIN:VEVENT
DTSTART;TZID=America/Chicago:20181005T200000
DTEND;TZID=America/Chicago:20181005T220000
DTSTAMP:20260423T121025
CREATED:20180924T224025Z
LAST-MODIFIED:20180924T224025Z
UID:10007702-1538769600-1538776800@www.rockford.edu
SUMMARY:Hypnotist Chris Jones - Homecoming 2018
DESCRIPTION:Previously on America’s Got Talent\, Chris Jones has been taking his insane hypnosis shows to universities across the country. You won’t want to miss this incredibly interactive and entertaining show!  \nThe show begins at 8:00 pm on Friday\, October 5th in Scarborough Auditorium. 
URL:https://www.rockford.edu/calendar-item/hypnotist-chris-jones-homecoming-2018/
LOCATION:Rockford University\, 5050 E. State St. \, Rockford\, IL\, 61108\, United States
CATEGORIES:Campus Wide Event (Public),Student Activities
ORGANIZER;CN="Student Activities":MAILTO:APJohnson@rockford.edu
GEO:42.2640342;-89.0197305
X-APPLE-STRUCTURED-LOCATION;VALUE=URI;X-ADDRESS=Rockford University 5050 E. State St.  Rockford IL 61108 United States;X-APPLE-RADIUS=500;X-TITLE=5050 E. State St.:geo:-89.0197305,42.2640342
END:VEVENT
BEGIN:VEVENT
DTSTART;TZID=America/Chicago:20181006T100000
DTEND;TZID=America/Chicago:20181006T143000
DTSTAMP:20260423T121025
CREATED:20180905T142120Z
LAST-MODIFIED:20180927T182245Z
UID:10007685-1538820000-1538836200@www.rockford.edu
SUMMARY:Future Regent Visit Day
DESCRIPTION:Explore our campus\, meet our personally with faculty\, chat with current students\, and be our guest for a tailgate lunch at the football game. Homecoming activities are taking place as well so you’ll have the opportunity to visit with alumni celebrating the place they once called home.\nA peek at the schedule:\n• Admission Info\n• Academic & Resource Fair (meet our faculty!)\n• Campus Tour with a Twist\n• Free Lunch (we’re tailgating!)\n• Football Game \nCome see the Regent Experience for yourself at Future Regent Visit Day. Reserve your spot today here or by visiting rockford.edu/admission/visit and tour campus
URL:https://www.rockford.edu/calendar-item/future-regent-visit-day-5/
LOCATION:Rockford University\, 5050 E. State St. \, Rockford\, IL\, 61108\, United States
CATEGORIES:Admissions,Campus Wide Event (Public),Visit Day
ATTACH;FMTTYPE=image/jpeg:https://www.rockford.edu/wp-content/uploads/2018/04/Admission-1.jpg
ORGANIZER;CN="Student Involvement and Orientation":MAILTO:LKeller@Rockford.edu
GEO:42.2640342;-89.0197305
X-APPLE-STRUCTURED-LOCATION;VALUE=URI;X-ADDRESS=Rockford University 5050 E. State St.  Rockford IL 61108 United States;X-APPLE-RADIUS=500;X-TITLE=5050 E. State St.:geo:-89.0197305,42.2640342
END:VEVENT
BEGIN:VEVENT
DTSTART;TZID=America/Chicago:20181006T110000
DTEND;TZID=America/Chicago:20181006T130000
DTSTAMP:20260423T121025
CREATED:20180924T224226Z
LAST-MODIFIED:20180924T224543Z
UID:10007703-1538823600-1538830800@www.rockford.edu
SUMMARY:Chik-fil-A Tailgate - Homecoming 2018
DESCRIPTION:Free Chik-fil-A? Fun inflatables? An awesome atmosphere to hang out in before the Homecoming football game versus Benedictine? We’re in. Go Regents! \nSee you from 11:00-1:00 pm in Parking Lot A on Saturday\, October 6th!
URL:https://www.rockford.edu/calendar-item/chik-fil-a-tailgate-homecoming-2018/
LOCATION:Rockford University\, 5050 E. State St. \, Rockford\, IL\, 61108\, United States
CATEGORIES:Campus Wide Event (Public),Student Activities
ORGANIZER;CN="Student Activities":MAILTO:APJohnson@rockford.edu
GEO:42.2640342;-89.0197305
X-APPLE-STRUCTURED-LOCATION;VALUE=URI;X-ADDRESS=Rockford University 5050 E. State St.  Rockford IL 61108 United States;X-APPLE-RADIUS=500;X-TITLE=5050 E. State St.:geo:-89.0197305,42.2640342
END:VEVENT
BEGIN:VEVENT
DTSTART;TZID=America/Chicago:20181006T193000
DTEND;TZID=America/Chicago:20181006T213000
DTSTAMP:20260423T121025
CREATED:20180821T164950Z
LAST-MODIFIED:20190426T161628Z
UID:10007650-1538854200-1538861400@www.rockford.edu
SUMMARY:Carrie the Musical
DESCRIPTION:Adapted from Stephen King’s novel\, Carrie focuses on an awkward teenage girl with telekinetic powers whose lonely life is dominated by her mother\, an oppressive religious fanatic. Carrie tries in vain to escape her unhappy home life and be accepted by her schoolmates but to no avail. When she is grossly humiliated by her classmates at the high school prom\, she unleashes her wrath in a reign of destructive chaos on everyone and everything in her path.\nTICKETS ARE REQUIRED for this event:\n\n\nRockford University Box Office (https://www.rockford.edu/artslectures/boxoffice/)\nOrder ticket(s) (https://bit.ly/2NLmrqk)\nview all of our Performing Art Shows for this season. (https://www.rockford.edu/artslectures/performingarts/)\nStudents: Please contact the box office to obtain your ticket for this event at no cost.\n\n\n 
URL:https://www.rockford.edu/calendar-item/carrie-the-musical/2018-10-06/
LOCATION:Maddox Theatre – Clark Arts Center\, 5050 E. State St. \, Rockford\, IL\, 61108\, United States
CATEGORIES:Academic Calendar,Campus Wide Event (Public),Forum Series,PA Performance
GEO:42.2640342;-89.0197305
X-APPLE-STRUCTURED-LOCATION;VALUE=URI;X-ADDRESS=Maddox Theatre – Clark Arts Center 5050 E. State St.  Rockford IL 61108 United States;X-APPLE-RADIUS=500;X-TITLE=5050 E. State St.:geo:-89.0197305,42.2640342
END:VEVENT
END:VCALENDAR