BEGIN:VCALENDAR
VERSION:2.0
PRODID:-//Rockford University - ECPv6.15.20//NONSGML v1.0//EN
CALSCALE:GREGORIAN
METHOD:PUBLISH
X-ORIGINAL-URL:https://www.rockford.edu
X-WR-CALDESC:Events for Rockford University
REFRESH-INTERVAL;VALUE=DURATION:PT1H
X-Robots-Tag:noindex
X-PUBLISHED-TTL:PT1H
BEGIN:VTIMEZONE
TZID:America/Chicago
BEGIN:DAYLIGHT
TZOFFSETFROM:-0600
TZOFFSETTO:-0500
TZNAME:CDT
DTSTART:20170312T080000
END:DAYLIGHT
BEGIN:STANDARD
TZOFFSETFROM:-0500
TZOFFSETTO:-0600
TZNAME:CST
DTSTART:20171105T070000
END:STANDARD
BEGIN:DAYLIGHT
TZOFFSETFROM:-0600
TZOFFSETTO:-0500
TZNAME:CDT
DTSTART:20180311T080000
END:DAYLIGHT
BEGIN:STANDARD
TZOFFSETFROM:-0500
TZOFFSETTO:-0600
TZNAME:CST
DTSTART:20181104T070000
END:STANDARD
BEGIN:DAYLIGHT
TZOFFSETFROM:-0600
TZOFFSETTO:-0500
TZNAME:CDT
DTSTART:20190310T080000
END:DAYLIGHT
BEGIN:STANDARD
TZOFFSETFROM:-0500
TZOFFSETTO:-0600
TZNAME:CST
DTSTART:20191103T070000
END:STANDARD
END:VTIMEZONE
BEGIN:VEVENT
DTSTART;TZID=America/Chicago:20180924T180000
DTEND;TZID=America/Chicago:20180924T190000
DTSTAMP:20260423T154819
CREATED:20180924T141302Z
LAST-MODIFIED:20190320T140352Z
UID:10007696-1537812000-1537815600@www.rockford.edu
SUMMARY:Minority Male Mentoring Program Informational Meeting
DESCRIPTION:The Minority Male Mentoring Program (MMMP) will be hosting an informational meeting for any students who want to learn more about the program at Rockford University. Students will have the opportunity to meet with Coordinator Dr. Karen P. Walker\, mentors and current MMMP students. \nThis event will take place on September 24 at 6pm on the second floor of the Burpee Center in the Faculty Dining room. \nThe program provides student support to African-American and Latino males to assist with the successful engagement\, integration\, and transition into Rockford University. Incoming minority males interested in participating in the program are connected to a continuing successful minority male student as well as a volunteer professional minority male mentor. Program events include discussion sessions titled\, “Chop It Up” where program participants gather to discuss topics related to minority male student success. Participants are provided off-campus events and activities free of charge.
URL:https://www.rockford.edu/calendar-item/minority-male-mentoring-program-informational-meeting/
LOCATION:Rockford University\, 5050 E. State St. \, Rockford\, IL\, 61108\, United States
CATEGORIES:Campus Wide Event (Public)
ORGANIZER;CN="Student Involvement and Orientation":MAILTO:LKeller@Rockford.edu
GEO:42.2640342;-89.0197305
X-APPLE-STRUCTURED-LOCATION;VALUE=URI;X-ADDRESS=Rockford University 5050 E. State St.  Rockford IL 61108 United States;X-APPLE-RADIUS=500;X-TITLE=5050 E. State St.:geo:-89.0197305,42.2640342
END:VEVENT
BEGIN:VEVENT
DTSTART;TZID=America/Chicago:20180925T080000
DTEND;TZID=America/Chicago:20180925T080000
DTSTAMP:20260423T154819
CREATED:20180522T201934Z
LAST-MODIFIED:20180809T145021Z
UID:10007558-1537862400-1537862400@www.rockford.edu
SUMMARY:Scholarship Day
DESCRIPTION:View the full Academic Calendar 2018-19
URL:https://www.rockford.edu/calendar-item/scholarship-day-3/
LOCATION:Rockford University\, 5050 E. State St. \, Rockford\, IL\, 61108\, United States
CATEGORIES:Academic Calendar,Campus Wide Event (Public)
ATTACH;FMTTYPE=image/jpeg:https://www.rockford.edu/wp-content/uploads/2018/04/Academic-Calendar.jpg
GEO:42.2640342;-89.0197305
X-APPLE-STRUCTURED-LOCATION;VALUE=URI;X-ADDRESS=Rockford University 5050 E. State St.  Rockford IL 61108 United States;X-APPLE-RADIUS=500;X-TITLE=5050 E. State St.:geo:-89.0197305,42.2640342
END:VEVENT
BEGIN:VEVENT
DTSTART;TZID=America/Chicago:20180927T140000
DTEND;TZID=America/Chicago:20180927T153000
DTSTAMP:20260423T154819
CREATED:20180828T142908Z
LAST-MODIFIED:20180918T163923Z
UID:10007160-1538056800-1538062200@www.rockford.edu
SUMMARY:Active Shooter Training
DESCRIPTION:This event is open to all Faculty\, Staff\, Students.\nPresented by the Rockford Police Department\nWear comfortable clothing if possible
URL:https://www.rockford.edu/calendar-item/active-shooter-training-4/
LOCATION:Regents Hall – Burpee Student Center\, 5050 E. State St. \, Rockford\, IL\, 61108\, United States
CATEGORIES:Campus Wide Event (Public),Faculty / Staff Training,Police & Department of Public Safety,Prevention and Education
ATTACH;FMTTYPE=image/jpeg:https://www.rockford.edu/wp-content/uploads/2018/08/Police-Dept-of-Public-Saftey.jpg
GEO:42.2640342;-89.0197305
X-APPLE-STRUCTURED-LOCATION;VALUE=URI;X-ADDRESS=Regents Hall – Burpee Student Center 5050 E. State St.  Rockford IL 61108 United States;X-APPLE-RADIUS=500;X-TITLE=5050 E. State St.:geo:-89.0197305,42.2640342
END:VEVENT
BEGIN:VEVENT
DTSTART;TZID=America/Chicago:20180928T100000
DTEND;TZID=America/Chicago:20180928T140000
DTSTAMP:20260423T154819
CREATED:20180726T192317Z
LAST-MODIFIED:20180803T164754Z
UID:10007625-1538128800-1538143200@www.rockford.edu
SUMMARY:Rock Solid Healthy Lifestyle Presents Color Out Fridays!
DESCRIPTION:Color Out Fridays are presented by Rock Solid Healthy Lifestyle and sponsored by Lang Health Center and Student Life. Every Friday the Rock Solid Healthy Lifestyle table will be set up in the Den from 10am-2pm to distribute student-centered health information\, provide fun activities and events\, and raffle off prizes. Each week is centered around a different topic\, such as sexual health\, alcohol awareness\, or campus safety. Every Friday is Color Out Friday. This means that each Friday students who wear the coordinating color of the week can earn punches on their Rock Solid Healthy Lifestyle Card. A minimum of 8 out of 12 punches are needed to enter into the grand prize drawing at the end of the semester. It is a fun and easy way to participate on campus and win great prizes! The dates are below and they are included in the attached pdf. If you have any further questions email Taylor Larson — Graduate Assistant for Lang Health Center — at tlarson@rockford.edu\n__________________________________________________________________________________________\nAugust 31: the semester kickoff of our Color Out Friday program and the color is purple to celebrate getting back on campus! Come to the Den between 10am and 2pm to get your punch card punched! (cards will be available for students who have not received them yet) \nSeptember 7th: this week focuses on suicide prevention and awareness and the color is yellow \nSeptember 14th: this week focuses on promoting sexual health and safety and the color is green \nSeptember 21st: this week focuses on drug and alcohol awareness and safety and the color is red \nSeptember 28th: this week focuses on promoting health and fitness and the color is orange \nOctober 5th: this week focuses on mental health awareness and the color is blue \nOctober 12th: MIDTERM WEEK; NO COLOR OUT FRIDAY \nOctober 19th: FALL BREAK; NO COLOR OUT FRIDAY \nOctober 26th: this week focuses on the prevention and awareness of domestic violence and the color is purple \nNovember 2nd: this week focuses on random acts of kindness and the color is yellow \nNovember 9th: this week focuses on the promotion and increased awareness of the different resources available on and near campus and the color is orange \nNovember 16th: this week focuses on the health risks related to tobacco and the color is white \nNovember 23: BREAK; NO COLOR OUT FRIDAY \nNovember 30th: this week focuses on promoting healthy skin and the color is black \nDecember 7th: this is the week before finals and will focus on promoting stress management and relief tactics and the color is green. It is also the last day of Color Out Friday for the semester!
URL:https://www.rockford.edu/calendar-item/rock-solid-healthy-lifestyle-presents-color-out-fridays/2018-09-28/
LOCATION:The Den – Burpee Student Center\, IL
CATEGORIES:Campus Wide Event (Public),Lang Center for Health & Wellness,Prevention and Education
GEO:40.6331249;-89.3985283
END:VEVENT
BEGIN:VEVENT
DTSTART;TZID=America/Chicago:20180928T170000
DTEND;TZID=America/Chicago:20180928T170000
DTSTAMP:20260423T154819
CREATED:20180522T202113Z
LAST-MODIFIED:20180809T145224Z
UID:10007559-1538154000-1538154000@www.rockford.edu
SUMMARY:Last day to file pass/fail forms
DESCRIPTION:View the full Academic Calendar 2018-19
URL:https://www.rockford.edu/calendar-item/last-day-to-file-pass-fail-forms/
LOCATION:Rockford University\, 5050 E. State St. \, Rockford\, IL\, 61108\, United States
CATEGORIES:Academic Calendar,Campus Wide Event (Public)
ATTACH;FMTTYPE=image/jpeg:https://www.rockford.edu/wp-content/uploads/2018/04/Academic-Calendar.jpg
GEO:42.2640342;-89.0197305
X-APPLE-STRUCTURED-LOCATION;VALUE=URI;X-ADDRESS=Rockford University 5050 E. State St.  Rockford IL 61108 United States;X-APPLE-RADIUS=500;X-TITLE=5050 E. State St.:geo:-89.0197305,42.2640342
END:VEVENT
END:VCALENDAR