BEGIN:VCALENDAR
VERSION:2.0
PRODID:-//Rockford University - ECPv6.15.20//NONSGML v1.0//EN
CALSCALE:GREGORIAN
METHOD:PUBLISH
X-ORIGINAL-URL:https://www.rockford.edu
X-WR-CALDESC:Events for Rockford University
REFRESH-INTERVAL;VALUE=DURATION:PT1H
X-Robots-Tag:noindex
X-PUBLISHED-TTL:PT1H
BEGIN:VTIMEZONE
TZID:America/Chicago
BEGIN:DAYLIGHT
TZOFFSETFROM:-0600
TZOFFSETTO:-0500
TZNAME:CDT
DTSTART:20170312T080000
END:DAYLIGHT
BEGIN:STANDARD
TZOFFSETFROM:-0500
TZOFFSETTO:-0600
TZNAME:CST
DTSTART:20171105T070000
END:STANDARD
BEGIN:DAYLIGHT
TZOFFSETFROM:-0600
TZOFFSETTO:-0500
TZNAME:CDT
DTSTART:20180311T080000
END:DAYLIGHT
BEGIN:STANDARD
TZOFFSETFROM:-0500
TZOFFSETTO:-0600
TZNAME:CST
DTSTART:20181104T070000
END:STANDARD
BEGIN:DAYLIGHT
TZOFFSETFROM:-0600
TZOFFSETTO:-0500
TZNAME:CDT
DTSTART:20190310T080000
END:DAYLIGHT
BEGIN:STANDARD
TZOFFSETFROM:-0500
TZOFFSETTO:-0600
TZNAME:CST
DTSTART:20191103T070000
END:STANDARD
END:VTIMEZONE
BEGIN:VEVENT
DTSTART;TZID=America/Chicago:20180914T080000
DTEND;TZID=America/Chicago:20180916T170000
DTSTAMP:20260423T135749
CREATED:20180529T154313Z
LAST-MODIFIED:20180829T142631Z
UID:10007612-1536912000-1537117200@www.rockford.edu
SUMMARY:Family Weekend 2018
DESCRIPTION:Students and their families are invited to attend Family Weekend 2018. The event will be held Friday\, Sept. 14 – Sunday\, Sept. 16\, 2018.\nActivities will be provided on Saturday\, Sept. 15\, that includes: football tailgating\, dinner with live entertainment from two dueling pianists\, and an outdoor movie! \nAll are welcome to attend regardless if your family is present. \nLook for registration as we get closer to the event! \nIf you have any questions please email Alex at apjohnson@rockford.edu \n*This is a Student Activities sponsored event and is only open to the Rockford University campus community.
URL:https://www.rockford.edu/calendar-item/family-weekend-2018/
LOCATION:Rockford University\, 5050 E. State St. \, Rockford\, IL\, 61108\, United States
CATEGORIES:Campus Wide Event (Public),Student Activities
ORGANIZER;CN="Student Involvement and Orientation":MAILTO:apjohnson@rockford.edu
GEO:42.2640342;-89.0197305
X-APPLE-STRUCTURED-LOCATION;VALUE=URI;X-ADDRESS=Rockford University 5050 E. State St.  Rockford IL 61108 United States;X-APPLE-RADIUS=500;X-TITLE=5050 E. State St.:geo:-89.0197305,42.2640342
END:VEVENT
BEGIN:VEVENT
DTSTART;TZID=America/Chicago:20180917T113000
DTEND;TZID=America/Chicago:20180917T130000
DTSTAMP:20260423T135749
CREATED:20180913T201406Z
LAST-MODIFIED:20180913T203528Z
UID:10007694-1537183800-1537189200@www.rockford.edu
SUMMARY:Constitution Day 2018
DESCRIPTION:The Student Government Association will host a Constitution Day on September 17\, 2018. \nThe event will include free american flag pins\, free pocket constitutions\, trivia\, and red/white/blue cookies! \nThis event will take place outside the Burpee Dining Center.
URL:https://www.rockford.edu/calendar-item/constitution-day-2018/
LOCATION:Rockford University\, 5050 E. State St. \, Rockford\, IL\, 61108\, United States
CATEGORIES:Campus Wide Event (Public),Student Activities
ORGANIZER;CN="Student Involvement and Orientation":MAILTO:apjohnson@rockford.edu
GEO:42.2640342;-89.0197305
X-APPLE-STRUCTURED-LOCATION;VALUE=URI;X-ADDRESS=Rockford University 5050 E. State St.  Rockford IL 61108 United States;X-APPLE-RADIUS=500;X-TITLE=5050 E. State St.:geo:-89.0197305,42.2640342
END:VEVENT
BEGIN:VEVENT
DTSTART;TZID=America/Chicago:20180918T110000
DTEND;TZID=America/Chicago:20180918T123000
DTSTAMP:20260423T135749
CREATED:20180828T143622Z
LAST-MODIFIED:20180918T181924Z
UID:10007162-1537268400-1537273800@www.rockford.edu
SUMMARY:What is a Order of Protection Questions and Answers
DESCRIPTION:Presented by Sierra Kellen of the Winnebago County Domestic Violence Courts.\nThe event will be held in the hallway next to the cafeteria. \n*This event is only open to the Rockford University campus community.
URL:https://www.rockford.edu/calendar-item/what-is-a-order-of-protection-questions-and-answers-2/
LOCATION:Rockford University\, 5050 E. State St. \, Rockford\, IL\, 61108\, United States
CATEGORIES:Campus Wide Event (Public),Faculty / Staff Training,Police & Department of Public Safety,Prevention and Education
ATTACH;FMTTYPE=image/jpeg:https://www.rockford.edu/wp-content/uploads/2018/08/Police-Dept-of-Public-Saftey.jpg
GEO:42.2640342;-89.0197305
X-APPLE-STRUCTURED-LOCATION;VALUE=URI;X-ADDRESS=Rockford University 5050 E. State St.  Rockford IL 61108 United States;X-APPLE-RADIUS=500;X-TITLE=5050 E. State St.:geo:-89.0197305,42.2640342
END:VEVENT
BEGIN:VEVENT
DTSTART;TZID=America/Chicago:20180920T090000
DTEND;TZID=America/Chicago:20180920T113000
DTSTAMP:20260423T135749
CREATED:20180828T142634Z
LAST-MODIFIED:20180918T163924Z
UID:10007159-1537434000-1537443000@www.rockford.edu
SUMMARY:Active Shooter Training
DESCRIPTION:This event is open to all Faculty\, Staff\, Students.\nPresented by the Rockford Police Department\nWear comfortable if possible
URL:https://www.rockford.edu/calendar-item/active-shooter-training-3/
LOCATION:Regents Hall – Burpee Student Center\, 5050 E. State St. \, Rockford\, IL\, 61108\, United States
CATEGORIES:Campus Wide Event (Public),Faculty / Staff Training,Police & Department of Public Safety,Prevention and Education
ATTACH;FMTTYPE=image/jpeg:https://www.rockford.edu/wp-content/uploads/2018/08/Police-Dept-of-Public-Saftey.jpg
GEO:42.2640342;-89.0197305
X-APPLE-STRUCTURED-LOCATION;VALUE=URI;X-ADDRESS=Regents Hall – Burpee Student Center 5050 E. State St.  Rockford IL 61108 United States;X-APPLE-RADIUS=500;X-TITLE=5050 E. State St.:geo:-89.0197305,42.2640342
END:VEVENT
BEGIN:VEVENT
DTSTART;TZID=America/Chicago:20180920T190000
DTEND;TZID=America/Chicago:20180920T220000
DTSTAMP:20260423T135750
CREATED:20180907T135017Z
LAST-MODIFIED:20180918T181530Z
UID:10007690-1537470000-1537480800@www.rockford.edu
SUMMARY:Black Light Roller Skating
DESCRIPTION:It’s an event like none other before it . . . BLACK LIGHT ROLLER SKATING! Regents Hall will be transformed into a skating and dance arena where you can roller skate\, dance\, show off your glow wear\, and eat lots of delicious food. \nBlack Light Roller Skating is FREE to Rockford University students and their guests\, so SHARE and invite your friends! \nSee you in Regents Hall on Thursday\, September 20 from 7:00 – 10:00 pm for a one-of-a-kind event you won’t want to miss! \n*This is a Student Activities sponsored event and is only open to the Rockford University campus community.​​
URL:https://www.rockford.edu/calendar-item/black-light-roller-skating/
LOCATION:Rockford University\, 5050 E. State St. \, Rockford\, IL\, 61108\, United States
CATEGORIES:Campus Wide Event (Public),Student Activities
ORGANIZER;CN="Student Activities":MAILTO:APJohnson@rockford.edu
GEO:42.2640342;-89.0197305
X-APPLE-STRUCTURED-LOCATION;VALUE=URI;X-ADDRESS=Rockford University 5050 E. State St.  Rockford IL 61108 United States;X-APPLE-RADIUS=500;X-TITLE=5050 E. State St.:geo:-89.0197305,42.2640342
END:VEVENT
BEGIN:VEVENT
DTSTART;TZID=America/Chicago:20180921T100000
DTEND;TZID=America/Chicago:20180921T140000
DTSTAMP:20260423T135750
CREATED:20180726T192317Z
LAST-MODIFIED:20180803T164754Z
UID:10007624-1537524000-1537538400@www.rockford.edu
SUMMARY:Rock Solid Healthy Lifestyle Presents Color Out Fridays!
DESCRIPTION:Color Out Fridays are presented by Rock Solid Healthy Lifestyle and sponsored by Lang Health Center and Student Life. Every Friday the Rock Solid Healthy Lifestyle table will be set up in the Den from 10am-2pm to distribute student-centered health information\, provide fun activities and events\, and raffle off prizes. Each week is centered around a different topic\, such as sexual health\, alcohol awareness\, or campus safety. Every Friday is Color Out Friday. This means that each Friday students who wear the coordinating color of the week can earn punches on their Rock Solid Healthy Lifestyle Card. A minimum of 8 out of 12 punches are needed to enter into the grand prize drawing at the end of the semester. It is a fun and easy way to participate on campus and win great prizes! The dates are below and they are included in the attached pdf. If you have any further questions email Taylor Larson — Graduate Assistant for Lang Health Center — at tlarson@rockford.edu\n__________________________________________________________________________________________\nAugust 31: the semester kickoff of our Color Out Friday program and the color is purple to celebrate getting back on campus! Come to the Den between 10am and 2pm to get your punch card punched! (cards will be available for students who have not received them yet) \nSeptember 7th: this week focuses on suicide prevention and awareness and the color is yellow \nSeptember 14th: this week focuses on promoting sexual health and safety and the color is green \nSeptember 21st: this week focuses on drug and alcohol awareness and safety and the color is red \nSeptember 28th: this week focuses on promoting health and fitness and the color is orange \nOctober 5th: this week focuses on mental health awareness and the color is blue \nOctober 12th: MIDTERM WEEK; NO COLOR OUT FRIDAY \nOctober 19th: FALL BREAK; NO COLOR OUT FRIDAY \nOctober 26th: this week focuses on the prevention and awareness of domestic violence and the color is purple \nNovember 2nd: this week focuses on random acts of kindness and the color is yellow \nNovember 9th: this week focuses on the promotion and increased awareness of the different resources available on and near campus and the color is orange \nNovember 16th: this week focuses on the health risks related to tobacco and the color is white \nNovember 23: BREAK; NO COLOR OUT FRIDAY \nNovember 30th: this week focuses on promoting healthy skin and the color is black \nDecember 7th: this is the week before finals and will focus on promoting stress management and relief tactics and the color is green. It is also the last day of Color Out Friday for the semester!
URL:https://www.rockford.edu/calendar-item/rock-solid-healthy-lifestyle-presents-color-out-fridays/2018-09-21/
LOCATION:The Den – Burpee Student Center\, IL
CATEGORIES:Campus Wide Event (Public),Lang Center for Health & Wellness,Prevention and Education
GEO:40.6331249;-89.3985283
END:VEVENT
BEGIN:VEVENT
DTSTART;TZID=America/Chicago:20180921T130000
DTEND;TZID=America/Chicago:20180921T170000
DTSTAMP:20260423T135750
CREATED:20180828T143326Z
LAST-MODIFIED:20180918T181853Z
UID:10007161-1537534800-1537549200@www.rockford.edu
SUMMARY:Drinking and Driving Simulation
DESCRIPTION:In this simulation\, students will be required to drive thru a simulated roadway course in a golf cart while wearing impaired vision goggles. \n*This event is only open to the Rockford University campus community.​​
URL:https://www.rockford.edu/calendar-item/drinking-and-driving-simulation-2/
LOCATION:Parking lot A\, 5050 E. State St.\, Rockford\, IL\, 61108\, United States
CATEGORIES:Campus Wide Event (Public),Faculty / Staff Training,Police & Department of Public Safety,Prevention and Education
ATTACH;FMTTYPE=image/jpeg:https://www.rockford.edu/wp-content/uploads/2018/08/Police-Dept-of-Public-Saftey.jpg
END:VEVENT
END:VCALENDAR